BEGIN:VCALENDAR
VERSION:2.0
PRODID:-//Свободна практика - ECPv6.0.13//NONSGML v1.0//EN
CALSCALE:GREGORIAN
METHOD:PUBLISH
X-ORIGINAL-URL:https://svobodnapraktika.com
X-WR-CALDESC:Events for Свободна практика
REFRESH-INTERVAL;VALUE=DURATION:PT1H
X-Robots-Tag:noindex
X-PUBLISHED-TTL:PT1H
BEGIN:VTIMEZONE
TZID:Europe/Helsinki
BEGIN:DAYLIGHT
TZOFFSETFROM:+0200
TZOFFSETTO:+0300
TZNAME:EEST
DTSTART:20240331T010000
END:DAYLIGHT
BEGIN:STANDARD
TZOFFSETFROM:+0300
TZOFFSETTO:+0200
TZNAME:EET
DTSTART:20241027T010000
END:STANDARD
END:VTIMEZONE
BEGIN:VEVENT
DTSTART;TZID=Europe/Helsinki:20240620T190000
DTEND;TZID=Europe/Helsinki:20240620T210000
DTSTAMP:20260420T022220
CREATED:20240609T213853Z
LAST-MODIFIED:20240609T213853Z
UID:16583-1718910000-1718917200@svobodnapraktika.com
SUMMARY:Crash course: как да изградим бранд\, който да движи нашия бизнес напред - уебинар
DESCRIPTION:Брандът и бизнесът вървят ръка за ръка. По-лесно ти е да създадеш лоялна аудитория\, ако паралелно с продуктите/услугите\, които предлагаш\, развиваш бранда си. За да започнеш да градиш името си\, е добре да си наясно каква е представата\, която искаш да имат клиентите за теб. Какво още е добре да знаеш? Включи се в събитието\, дава ти полезни насоки. \nОт лекторите научаваш: \n\nзащо брандът е важен;\nкак да изградиш име\, което се отличава;\nкак да използваш на практика вече създадена стратегия.\n\nЗа кого е подходящо събитието\n\nЗа собственици на бизнес.\n\nЛектори\n\nМихаил Колев има дългогодишен опит в сферата на рекламата и клиентското обслужване.\nНаталия Ценова е бранд стратег в The Other Half.\n\nУчастието е без такса\, с предварителна регистрация.
URL:https://svobodnapraktika.com/event/crash-course-%d0%ba%d0%b0%d0%ba-%d0%b4%d0%b0-%d0%b8%d0%b7%d0%b3%d1%80%d0%b0%d0%b4%d0%b8%d0%bc-%d0%b1%d1%80%d0%b0%d0%bd%d0%b4-%d0%ba%d0%be%d0%b9%d1%82%d0%be-%d0%b4%d0%b0-%d0%b4%d0%b2%d0%b8%d0%b6
CATEGORIES:Онлайн събития
ORGANIZER;CN="SoftUni%20Digital":MAILTO:digital@softuni.bg
END:VEVENT
END:VCALENDAR