BEGIN:VCALENDAR
VERSION:2.0
PRODID:-//Свободна практика - ECPv6.0.13//NONSGML v1.0//EN
CALSCALE:GREGORIAN
METHOD:PUBLISH
X-WR-CALNAME:Свободна практика
X-ORIGINAL-URL:https://svobodnapraktika.com
X-WR-CALDESC:Events for Свободна практика
REFRESH-INTERVAL;VALUE=DURATION:PT1H
X-Robots-Tag:noindex
X-PUBLISHED-TTL:PT1H
BEGIN:VTIMEZONE
TZID:Europe/Helsinki
BEGIN:DAYLIGHT
TZOFFSETFROM:+0200
TZOFFSETTO:+0300
TZNAME:EEST
DTSTART:20240331T010000
END:DAYLIGHT
BEGIN:STANDARD
TZOFFSETFROM:+0300
TZOFFSETTO:+0200
TZNAME:EET
DTSTART:20241027T010000
END:STANDARD
END:VTIMEZONE
BEGIN:VEVENT
DTSTART;TZID=Europe/Helsinki:20240527T190000
DTEND;TZID=Europe/Helsinki:20240527T210000
DTSTAMP:20260419T214959
CREATED:20240519T215725Z
LAST-MODIFIED:20240519T215725Z
UID:16490-1716836400-1716843600@svobodnapraktika.com
SUMMARY:Продавай по цял свят с Etsy: как да достигнем до 90 милиона потребители в 140 държави с един онлайн магазин - уебинар
DESCRIPTION:Ако стартираш малък бизнес\, вероятно искаш да предлагаш своите продукти в различни платформи. Обмисляш да излезеш на международния пазар? Etsy е добър вариант със своите милиони потребители от цял свят. Макар самата платформа да предлага предимно ръчна изработка\, отдавна дава възможност на малкия бизнес да се презентира. Имаш въпроси относно използването на платформата? Включи се в събитието. От лектора научаваш: \n\nкакво може и какво не може да се продава в Etsy;\nзащо малките и големите бизнеси избират платформата;\nкои са най-често допусканите грешки и как да ги избегнеш;\nкои са работещите стратегии за успешен старт.\n\nЗа кого е подходящо събитието\n\nЗа собственици на бизнес.\n\nЛектор\n\nАнтония Колева е основател и ментор в Etsy superstar. Учила е в Холандия\, работила е в сферата на дигиталния маркетинг с много малки и средни бизнеси. Същевременно развива свои магазини в Etsy като първият е отворен през 2010 година.\n\nУебинарът е без такса\, с предварителна регистрация.
URL:https://svobodnapraktika.com/event/%d0%bf%d1%80%d0%be%d0%b4%d0%b0%d0%b2%d0%b0%d0%b9-%d0%bf%d0%be-%d1%86%d1%8f%d0%bb-%d1%81%d0%b2%d1%8f%d1%82-%d1%81-etsy
CATEGORIES:Онлайн събития
ORGANIZER;CN="SoftUni%20Digital":MAILTO:digital@softuni.bg
END:VEVENT
END:VCALENDAR