BEGIN:VCALENDAR
VERSION:2.0
PRODID:-//Свободна практика - ECPv6.0.13//NONSGML v1.0//EN
CALSCALE:GREGORIAN
METHOD:PUBLISH
X-WR-CALNAME:Свободна практика
X-ORIGINAL-URL:https://svobodnapraktika.com
X-WR-CALDESC:Events for Свободна практика
REFRESH-INTERVAL;VALUE=DURATION:PT1H
X-Robots-Tag:noindex
X-PUBLISHED-TTL:PT1H
BEGIN:VTIMEZONE
TZID:Europe/Helsinki
BEGIN:DAYLIGHT
TZOFFSETFROM:+0200
TZOFFSETTO:+0300
TZNAME:EEST
DTSTART:20240331T010000
END:DAYLIGHT
BEGIN:STANDARD
TZOFFSETFROM:+0300
TZOFFSETTO:+0200
TZNAME:EET
DTSTART:20241027T010000
END:STANDARD
END:VTIMEZONE
BEGIN:VEVENT
DTSTART;TZID=Europe/Helsinki:20240516T090000
DTEND;TZID=Europe/Helsinki:20240516T140000
DTSTAMP:20260420T005055
CREATED:20240510T081541Z
LAST-MODIFIED:20240510T081541Z
UID:16443-1715850000-1715868000@svobodnapraktika.com
SUMMARY:Финансово-правни аспекти при онлайн магазини – онлайн събитие
DESCRIPTION:Обучението се провежда регулярно и ти е от голяма полза\, ако си на етап „идея“ в развитието на бизнеса си. За теб е\, ако искаш да си наясно с основните правно-счетоводни въпроси\, които могат да ти спестят притеснения в бъдеще. \nВключи се\, за да: \n\nнаучиш какви са основните изисквания за търговска дейност;\nзададеш въпросите си по време на Q&A сесията;\nобсъдиш бизнеса си с лекторите в кратък телефонен разговор.\n\nЧаст от темите са: \n\nспецифики при регистрацията на фирма;\nтърговска дейност като частно лице – кога е възможно;\nособености при работа с чуждестранни маркетплейси;\nпродажба на стоки с наложен платеж и ППП;\nизползване на виртуален POS терминал;\nосновни грешки при изготвяне на секцията „Общи условия“;\nпроблемът „непотърсени пратки“ от клиенти;\nгрешки при описанието на продукти и услуги и т.н.\n\nПрограмата на събитието е подробно описана в сайта\, виж я\, за да си наясно какво още да очакваш. \nЗа кого е подходящо събитието\n\nЗа всички\, които планират да развиват собствен бизнес.\n\nЛектори\n\nХристо Петров е управител на финансова къща „Golden Vision”. Счетоводната къща се е специализирала в сферата на електронната търговия.\nАдв. Михаела Димитрова\, управляващ съдружник в адвокатско дружество „Димитрова и Хаджиева“. Тя е и автор на „Електронен наръчник за онлайн търговеца“.\n\nУчастието е с такса\, с предварителна регистрация. \n\nЦената на билета е без включено ДДС.\n\n 
URL:https://svobodnapraktika.com/event/%d1%84%d0%b8%d0%bd%d0%b0%d0%bd%d1%81%d0%be%d0%b2%d0%be-%d0%bf%d1%80%d0%b0%d0%b2%d0%bd%d0%b8-%d0%b0%d1%81%d0%bf%d0%b5%d0%ba%d1%82%d0%b8-%d0%be%d0%bd%d0%bb%d0%b0%d0%b9%d0%bd-%d0%bc%d0%b0%d0%b3%d0%b0-2
CATEGORIES:Онлайн събития
END:VEVENT
END:VCALENDAR