BEGIN:VCALENDAR
VERSION:2.0
PRODID:-//Свободна практика - ECPv6.0.13//NONSGML v1.0//EN
CALSCALE:GREGORIAN
METHOD:PUBLISH
X-WR-CALNAME:Свободна практика
X-ORIGINAL-URL:https://svobodnapraktika.com
X-WR-CALDESC:Events for Свободна практика
REFRESH-INTERVAL;VALUE=DURATION:PT1H
X-Robots-Tag:noindex
X-PUBLISHED-TTL:PT1H
BEGIN:VTIMEZONE
TZID:Europe/Helsinki
BEGIN:DAYLIGHT
TZOFFSETFROM:+0200
TZOFFSETTO:+0300
TZNAME:EEST
DTSTART:20240331T010000
END:DAYLIGHT
BEGIN:STANDARD
TZOFFSETFROM:+0300
TZOFFSETTO:+0200
TZNAME:EET
DTSTART:20241027T010000
END:STANDARD
END:VTIMEZONE
BEGIN:VEVENT
DTSTART;TZID=Europe/Helsinki:20240508T190000
DTEND;TZID=Europe/Helsinki:20240508T210000
DTSTAMP:20260420T005104
CREATED:20240419T200412Z
LAST-MODIFIED:20240419T200412Z
UID:16395-1715194800-1715202000@svobodnapraktika.com
SUMMARY:Отвъд естетиката: Силата на етичния дизайн в дигиталната ера - уебинар
DESCRIPTION:Бавно навлизаш в сферата на дизайна и си наясно\, че има различни насоки\, в които да се развиваш. Със сигурност ти е от полза да обърнеш внимание на т.нар. етичен дизайн\, който играе все по-голяма роля при създаването на продукти. Ако темата ти е интересна\, започни с онлайн лекцията на SoftUni. \nВключи се в уебинара\, за да разбереш: \n\nкакво представлява етичният дизайн;\nкакви са неговите принципи;\nкак дигиталните решения допринасят за устойчивото бъдеще.\n\nПо време на събитието лекторът ти представя реални примери\, излюстриращи промените\, които можеш да правиш. \nЗа кого е подходящо събитието\n\nЗа дизайнери и всички\, които се интересуват от етиката в дизайна.\n\nЛектор\n\nИвелина Димитрова е UI/UX дизайнер на свободна практика. Няколко поредни години е била ментор в програмата „Mentor the Young“.\n\nУчастието е без такса\, с предварителна регистрация.
URL:https://svobodnapraktika.com/event/%d0%be%d1%82%d0%b2%d1%8a%d0%b4-%d0%b5%d1%81%d1%82%d0%b5%d1%82%d0%b8%d0%ba%d0%b0%d1%82%d0%b0-%d1%81%d0%b8%d0%bb%d0%b0%d1%82%d0%b0-%d0%bd%d0%b0-%d0%b5%d1%82%d0%b8%d1%87%d0%bd%d0%b8%d1%8f-%d0%b4%d0%b8
CATEGORIES:Онлайн събития
ORGANIZER;CN="SoftUni%20Creative":MAILTO:creative@softuni.bg
END:VEVENT
END:VCALENDAR