BEGIN:VCALENDAR
VERSION:2.0
PRODID:-//Свободна практика - ECPv6.0.13//NONSGML v1.0//EN
CALSCALE:GREGORIAN
METHOD:PUBLISH
X-WR-CALNAME:Свободна практика
X-ORIGINAL-URL:https://svobodnapraktika.com
X-WR-CALDESC:Events for Свободна практика
REFRESH-INTERVAL;VALUE=DURATION:PT1H
X-Robots-Tag:noindex
X-PUBLISHED-TTL:PT1H
BEGIN:VTIMEZONE
TZID:Europe/Helsinki
BEGIN:DAYLIGHT
TZOFFSETFROM:+0200
TZOFFSETTO:+0300
TZNAME:EEST
DTSTART:20240331T010000
END:DAYLIGHT
BEGIN:STANDARD
TZOFFSETFROM:+0300
TZOFFSETTO:+0200
TZNAME:EET
DTSTART:20241027T010000
END:STANDARD
END:VTIMEZONE
BEGIN:VEVENT
DTSTART;VALUE=DATE:20240408
DTEND;VALUE=DATE:20240501
DTSTAMP:20260420T034154
CREATED:20200907T112636Z
LAST-MODIFIED:20240408T073005Z
UID:10102-1712534400-1714521599@svobodnapraktika.com
SUMMARY:„Питай копирайтър“ – безплатна\, онлайн консултация
DESCRIPTION:Ти си копирайтър или собственик на сайт\, чието съдържание създаваш сам. Ако имаш неясноти относно писането на текстове за уеб или традиционни рекламни канали\, възползвай се от безплатната месечна консултация с професионален копирайтър с богат опит. \nИмаш нужда от конкретни насоки за: \n\nподдържане на блог и писане на статии;\nсъздаване на текстове за уеб от нулата и лендинг страници;\nписане на продуктови описание и описания на услуги;\nизмисляне на рекламни послания. \n\nКакъвто и да е въпросът ти\, задай го. Ще получиш отговор.  \nКак да участваш\n\nПубликувай въпроса си като коментар под месечния пост в рубриката „Питай копирайтър“. Ако си един от първите 5-ма\, очаквай отговор до 18. 10.\n\nКой води консултацията\n\nИванка Могилска е копирайтър с над 15-годишен стаж. Пише текстове за уеб и традиционни канали за реклама. Води копирайтинг обучения\, консултира фирми относно подобряване съдържанието на сайтовете им. Тя е създател на блога „Свободна практика“. В него разказва за трудностите на фрийланса и наученото от тях\, а целта ѝ е да помогне на собственици на малък бизнес и фрийлансъри да стартират и да се развият в професионален план.\n\nПоследвай линка и задай въпроса си на Иванка Могилска.
URL:https://svobodnapraktika.com/event/%d0%ba%d0%be%d0%bf%d0%b8%d1%80%d0%b0%d0%b9%d1%82%d1%8a%d1%80-%d0%b1%d0%b5%d0%b7%d0%bf%d0%bb%d0%b0%d1%82%d0%bd%d0%b0-%d0%ba%d0%be%d0%bd%d1%81%d1%83%d0%bb%d1%82%d0%b0%d1%86%d0%b8%d1%8f
CATEGORIES:Онлайн събития
END:VEVENT
BEGIN:VEVENT
DTSTART;TZID=Europe/Helsinki:20240425T170000
DTEND;TZID=Europe/Helsinki:20240425T180000
DTSTAMP:20260420T034154
CREATED:20240419T200434Z
LAST-MODIFIED:20240419T200434Z
UID:16393-1714064400-1714068000@svobodnapraktika.com
SUMMARY:Защо си струва да използваш LinkedIn – онлайн събитие
DESCRIPTION:Все още нямаш профил в LinkedIn и не си наясно как точно да работиш с платформата. Ако често се замисляш\, че е време да промениш това\, обучението е подходящо за теб. Включи се\, за да добиеш яснота как да използваш мрежата така\, че да ти носи ползи. \nОсновните теми са: \n\nзащо LinkedIn е подходяща за теб;\nкак да създадеш успешен профил;\nвидове формати.\n\nЗа кого е подходящо събитието\n\nЗа всички\, които не са използвали мрежата до момента.\n\nУчастието е без такса\, с предварителна регистрация.
URL:https://svobodnapraktika.com/event/%d0%b7%d0%b0%d1%89%d0%be-%d1%81%d0%b8-%d1%81%d1%82%d1%80%d1%83%d0%b2%d0%b0-%d0%b4%d0%b0-%d0%b8%d0%b7%d0%bf%d0%be%d0%bb%d0%b7%d0%b2%d0%b0%d1%88-linkedin-%d0%be%d0%bd%d0%bb%d0%b0%d0%b9%d0%bd
CATEGORIES:Онлайн събития
ORGANIZER;CN="Startup%20Factory":MAILTO:info@startupfactory.bg
END:VEVENT
END:VCALENDAR