BEGIN:VCALENDAR
VERSION:2.0
PRODID:-//Свободна практика - ECPv6.0.13//NONSGML v1.0//EN
CALSCALE:GREGORIAN
METHOD:PUBLISH
X-ORIGINAL-URL:https://svobodnapraktika.com
X-WR-CALDESC:Events for Свободна практика
REFRESH-INTERVAL;VALUE=DURATION:PT1H
X-Robots-Tag:noindex
X-PUBLISHED-TTL:PT1H
BEGIN:VTIMEZONE
TZID:Europe/Helsinki
BEGIN:DAYLIGHT
TZOFFSETFROM:+0200
TZOFFSETTO:+0300
TZNAME:EEST
DTSTART:20240331T010000
END:DAYLIGHT
BEGIN:STANDARD
TZOFFSETFROM:+0300
TZOFFSETTO:+0200
TZNAME:EET
DTSTART:20241027T010000
END:STANDARD
END:VTIMEZONE
BEGIN:VEVENT
DTSTART;TZID=Europe/Helsinki:20240307T183000
DTEND;TZID=Europe/Helsinki:20240307T200000
DTSTAMP:20260420T052926
CREATED:20240305T120557Z
LAST-MODIFIED:20240305T120557Z
UID:16191-1709836200-1709841600@svobodnapraktika.com
SUMMARY:„Как да превърнем социалната кауза в печеливш бизнес“ – уебинар
DESCRIPTION:Имаш за цел не просто да развиваш собствен бизнес\, а да обвържеш заниманието си с кауза\, която да допринесе за общото благо. Нямаш план\, все още премисляш различни идеи. Наясно си обаче\, че вдъхновение можеш да почерпиш от брандовете\, минали вече по твоя път\, достигнали до успех\, и решили да споделят опита си. Ако всичко това е валидно за теб\, включи се в събитието. \nСветослава Симеонова ти разказва перипетиите по създаването на компанията Foody. Научаваш как: \n\nстартира набиращото все повече популярност приложение;\nнамира финансиране;\nобвързва идеята си със значима кауза.\n\nЗа кого е подходящо събитието\n\nЗа собственици на бизнес\, които се интересуват от социалното предприемачество.\n\nЛектор\n\nСветослава Симеонова е създател на приложението Foody. През изминалата година е включена в класацията на Forbes „30 under 30“ за България. Тя е и хоноруван преподавател в ТУ-София.\n\nУчастието е без такса\, с предварителна регистрация.
URL:https://svobodnapraktika.com/event/%d1%81%d0%be%d1%86%d0%b8%d0%b0%d0%bb%d0%bd%d0%b0%d1%82%d0%b0-%d0%ba%d0%b0%d1%83%d0%b7%d0%b0-%d0%bf%d0%b5%d1%87%d0%b5%d0%bb%d0%b8%d0%b2%d1%88-%d0%b1%d0%b8%d0%b7%d0%bd%d0%b5%d1%81
CATEGORIES:Онлайн събития
ORGANIZER;CN="LeaderClass":MAILTO:info@leaderclass.bg
END:VEVENT
END:VCALENDAR