BEGIN:VCALENDAR
VERSION:2.0
PRODID:-//Свободна практика - ECPv6.0.13//NONSGML v1.0//EN
CALSCALE:GREGORIAN
METHOD:PUBLISH
X-ORIGINAL-URL:https://svobodnapraktika.com
X-WR-CALDESC:Events for Свободна практика
REFRESH-INTERVAL;VALUE=DURATION:PT1H
X-Robots-Tag:noindex
X-PUBLISHED-TTL:PT1H
BEGIN:VTIMEZONE
TZID:Europe/Helsinki
BEGIN:DAYLIGHT
TZOFFSETFROM:+0200
TZOFFSETTO:+0300
TZNAME:EEST
DTSTART:20240331T010000
END:DAYLIGHT
BEGIN:STANDARD
TZOFFSETFROM:+0300
TZOFFSETTO:+0200
TZNAME:EET
DTSTART:20241027T010000
END:STANDARD
END:VTIMEZONE
BEGIN:VEVENT
DTSTART;TZID=Europe/Helsinki:20240305T190000
DTEND;TZID=Europe/Helsinki:20240305T210000
DTSTAMP:20260420T052921
CREATED:20240219T124512Z
LAST-MODIFIED:20240219T124630Z
UID:16142-1709665200-1709672400@svobodnapraktika.com
SUMMARY:Партизанските маркетингови подходи - уебинар
DESCRIPTION:Ако сам развиваш рекламните си кампании в социалните мрежи\, то най-вероятно често имаш нужда от вдъхновение\, от нови идеи и насоки за прилагане на различни похвати. Събитието ти е от полза\, защото ти разказва за маркетинг подход\, залагащ на новаторството и въображението. Включи се\, за да разбереш: \n\nкакво представлява т.нар. герила маркетинг;\nкак може да ти бъде от полза;\nзащо е успешен;\nв кои сфери се използва най-активно.\n\nЛекторът споделя с теб и вдъхновяващи примери. \nЗа кого е подходящо събитието\n\nЗа собственици на бизнес и всички\, които се интересуват от маркетинг.\n\nЛектор\n\nЛюбомир Цанев е маркетолог за BUL-AI. Има над 4 години опит в сферата на маркетинга и рекламата.\n\nУчастието е без такса\, с предварителна регистрация.
URL:https://svobodnapraktika.com/event/%d0%bf%d0%b0%d1%80%d1%82%d0%b8%d0%b7%d0%b0%d0%bd%d1%81%d0%ba%d0%b8%d1%82%d0%b5-%d0%bc%d0%b0%d1%80%d0%ba%d0%b5%d1%82%d0%b8%d0%bd%d0%b3%d0%be%d0%b2%d0%b8-%d0%bf%d0%be%d0%b4%d1%85%d0%be%d0%b4%d0%b8
CATEGORIES:Онлайн събития
ORGANIZER;CN="SoftUni%20Digital":MAILTO:digital@softuni.bg
END:VEVENT
END:VCALENDAR