BEGIN:VCALENDAR
VERSION:2.0
PRODID:-//Свободна практика - ECPv6.0.13//NONSGML v1.0//EN
CALSCALE:GREGORIAN
METHOD:PUBLISH
X-WR-CALNAME:Свободна практика
X-ORIGINAL-URL:https://svobodnapraktika.com
X-WR-CALDESC:Events for Свободна практика
REFRESH-INTERVAL;VALUE=DURATION:PT1H
X-Robots-Tag:noindex
X-PUBLISHED-TTL:PT1H
BEGIN:VTIMEZONE
TZID:Europe/Helsinki
BEGIN:DAYLIGHT
TZOFFSETFROM:+0200
TZOFFSETTO:+0300
TZNAME:EEST
DTSTART:20230326T010000
END:DAYLIGHT
BEGIN:STANDARD
TZOFFSETFROM:+0300
TZOFFSETTO:+0200
TZNAME:EET
DTSTART:20231029T010000
END:STANDARD
END:VTIMEZONE
BEGIN:VEVENT
DTSTART;TZID=Europe/Helsinki:20231122T190000
DTEND;TZID=Europe/Helsinki:20231122T210000
DTSTAMP:20260420T102203
CREATED:20231108T235556Z
LAST-MODIFIED:20231108T235556Z
UID:15670-1700679600-1700686800@svobodnapraktika.com
SUMMARY:Upstream бранд подходът – да се отличиш като плуваш срещу течението\, уебинар
DESCRIPTION:Как да отличиш своя бранд сред конкурентите? Вероятно всеки\, захванал се да развива собствен малък бизнес\, си задава този въпрос. Рецепти има много\, част от тях си опитвал\, имал си попадения\, претърпявал си и провали. Какво обаче движи успеха на някои от големите компании? Как това да плуваш срещу течението може да даде силен тласък на твоето начинание? Отговори на тези и други въпроси получаваш по време на събитието. \nОт лектора научаваш още: \n\nзащо сегментирането\, позиционирането и идентичността са важни;\nкакви са ползите от проучването и определянето на целевата аудитория;\nзащо е важно да изградиш стратегия с фокус върху потребителското бранд изживяване.\n\nЗа кого е подходящо събитието\n\nЗа собственици на бизнес.\n\nЛектори\n\nЛюбен Гешев е дигитален експерт с над 10-годишен опит. Част от екипа на The UPstreamers.\nИва Иванова е маркетинг експерт с над 20-годишен опит и основател на Hub Ahead и The UPstreamers.\n\nУчастието е без такса\, с предварителна регистрация.
URL:https://svobodnapraktika.com/event/upstream-%d0%b1%d1%80%d0%b0%d0%bd%d0%b4-%d0%bf%d0%be%d0%b4%d1%85%d0%be%d0%b4%d1%8a%d1%82-%d0%b4%d0%b0-%d1%81%d0%b5-%d0%be%d1%82%d0%bb%d0%b8%d1%87%d0%b8%d1%88-%d0%ba%d0%b0%d1%82%d0%be-%d0%bf
CATEGORIES:Онлайн събития
ORGANIZER;CN="SoftUni%20Digital":MAILTO:digital@softuni.bg
END:VEVENT
END:VCALENDAR