BEGIN:VCALENDAR
VERSION:2.0
PRODID:-//Свободна практика - ECPv6.0.13//NONSGML v1.0//EN
CALSCALE:GREGORIAN
METHOD:PUBLISH
X-ORIGINAL-URL:https://svobodnapraktika.com
X-WR-CALDESC:Events for Свободна практика
REFRESH-INTERVAL;VALUE=DURATION:PT1H
X-Robots-Tag:noindex
X-PUBLISHED-TTL:PT1H
BEGIN:VTIMEZONE
TZID:Europe/Helsinki
BEGIN:DAYLIGHT
TZOFFSETFROM:+0200
TZOFFSETTO:+0300
TZNAME:EEST
DTSTART:20230326T010000
END:DAYLIGHT
BEGIN:STANDARD
TZOFFSETFROM:+0300
TZOFFSETTO:+0200
TZNAME:EET
DTSTART:20231029T010000
END:STANDARD
END:VTIMEZONE
BEGIN:VEVENT
DTSTART;TZID=Europe/Helsinki:20231108T080000
DTEND;TZID=Europe/Helsinki:20231108T170000
DTSTAMP:20260420T102415
CREATED:20231108T235709Z
LAST-MODIFIED:20231108T235709Z
UID:15676-1699430400-1699462800@svobodnapraktika.com
SUMMARY:„Насоки за успешно публикуване на научни изследвания в авторитетни списания“ – онлайн семинар
DESCRIPTION:Темата за публикациите в специализираните издания те вълнува? Искаш да разбереш повече за възможностите\, които се откриват пред теб и за грешките\, които би могъл да допуснеш? Тези и други въпроси се разискват по време на конференцията. \nМестата в залата са изчерпани\, но можеш да се включиш онлайн и да гледаш живото излъчване. Част от въпросите\, които се дискутират\, са: \n\nкакво да избягваш при публикацията на трудовете си;\nкак и къде да търсиш проверена и качествена информация;\nкаква е ролята на технологиите при защитата на интелектуалната собственост.\n\nВиж цялата програма в сайта на събитието\, за да знаеш какво точно да очакваш. \nЗа кого е подходящо обучението\n\nЗа всички\, които имат интерес към процеса на публикуване на трудове в научни издания.\n\nЛектори\n\nЛекторите са професори и издатели на специализирани списания у нас. Имената им разбираш от страницата на събитието.\n\nОнлайн излъчването е без такса и без предварителна регистрация. Излъчва се на живо във Фейсбук.
URL:https://svobodnapraktika.com/event/%d0%bd%d0%b0%d1%81%d0%be%d0%ba%d0%b8-%d0%b7%d0%b0-%d1%83%d1%81%d0%bf%d0%b5%d1%88%d0%bd%d0%be-%d0%bf%d1%83%d0%b1%d0%bb%d0%b8%d0%ba%d1%83%d0%b2%d0%b0%d0%bd%d0%b5-%d0%bd%d0%b0-%d0%bd%d0%b0%d1%83
CATEGORIES:Онлайн събития
ORGANIZER;CN="%D0%90%D0%B7-%D0%B1%D1%83%D0%BA%D0%B8":MAILTO:izdatelstvo.azbuki@mon.bg
END:VEVENT
END:VCALENDAR