BEGIN:VCALENDAR
VERSION:2.0
PRODID:-//Свободна практика - ECPv6.0.13//NONSGML v1.0//EN
CALSCALE:GREGORIAN
METHOD:PUBLISH
X-ORIGINAL-URL:https://svobodnapraktika.com
X-WR-CALDESC:Events for Свободна практика
REFRESH-INTERVAL;VALUE=DURATION:PT1H
X-Robots-Tag:noindex
X-PUBLISHED-TTL:PT1H
BEGIN:VTIMEZONE
TZID:Europe/Helsinki
BEGIN:DAYLIGHT
TZOFFSETFROM:+0200
TZOFFSETTO:+0300
TZNAME:EEST
DTSTART:20230326T010000
END:DAYLIGHT
BEGIN:STANDARD
TZOFFSETFROM:+0300
TZOFFSETTO:+0200
TZNAME:EET
DTSTART:20231029T010000
END:STANDARD
END:VTIMEZONE
BEGIN:VEVENT
DTSTART;TZID=Europe/Helsinki:20231026T190000
DTEND;TZID=Europe/Helsinki:20231026T210000
DTSTAMP:20260420T131319
CREATED:20231018T194548Z
LAST-MODIFIED:20231018T194548Z
UID:15540-1698346800-1698354000@svobodnapraktika.com
SUMMARY:Google Analytics 4 – полезни отчети и реалното им приложение в бизнеса\, уебинар
DESCRIPTION:Независимо дали поддържаш блог\, информационна онлайн медия или имаш електронен магазин\, вероятно използваш Google Analytics. Само преди няколко месеца новата версия замени окончателно старата\, затова мисля\, че уебинарът е от полза за всеки\, който използва услугата. Все пак фокусът на събитието е върху бизнеса\, така че не пропускай да се включиш\, ако развиваш собствен онлайн бизнес. \nУебинарът се провежда в две части. От лекторите разбираш: \n\nкак да настроиш отчетите така\, че да дадат информация за твоя бизнес;\nкак ти помагат да анализираш маркетинговите данни;\nкак могат да подпомогнат планирането на бюджет.\n\nЗа кого е подходящо събитието\n\nЗа собственици на бизнес\, които сами анализират данните от Google Analitics 4.\n\nЛектори\n\nБлаговест Тодоров е част от екипа на агенция „Netpeak“ от 2021 година и управлява SEO\, PPC и CRM проекти.\nКристина Кузманова се развива в сферата на дигиталния маркетинг вече над 6 години. В момента е Project Мanager в Netpeak.\n\nУчастието е без такса\, с предварителна регистрация. \n 
URL:https://svobodnapraktika.com/event/google-analytics-4-%d0%bf%d0%be%d0%bb%d0%b5%d0%b7%d0%bd%d0%b8-%d0%be%d1%82%d1%87%d0%b5%d1%82%d0%b8-%d1%80%d0%b5%d0%b0%d0%bb%d0%bd%d0%be-%d0%b1%d0%b8%d0%b7%d0%bd%d0%b5%d1%81-%d0%bf%d1%80%d0%b8%d0%bb
CATEGORIES:Онлайн събития
ORGANIZER;CN="SoftUni%20Digital":MAILTO:digital@softuni.bg
END:VEVENT
END:VCALENDAR