BEGIN:VCALENDAR
VERSION:2.0
PRODID:-//Свободна практика - ECPv6.0.13//NONSGML v1.0//EN
CALSCALE:GREGORIAN
METHOD:PUBLISH
X-ORIGINAL-URL:https://svobodnapraktika.com
X-WR-CALDESC:Events for Свободна практика
REFRESH-INTERVAL;VALUE=DURATION:PT1H
X-Robots-Tag:noindex
X-PUBLISHED-TTL:PT1H
BEGIN:VTIMEZONE
TZID:Europe/Helsinki
BEGIN:DAYLIGHT
TZOFFSETFROM:+0200
TZOFFSETTO:+0300
TZNAME:EEST
DTSTART:20230326T010000
END:DAYLIGHT
BEGIN:STANDARD
TZOFFSETFROM:+0300
TZOFFSETTO:+0200
TZNAME:EET
DTSTART:20231029T010000
END:STANDARD
END:VTIMEZONE
BEGIN:VEVENT
DTSTART;TZID=Europe/Helsinki:20231018T190000
DTEND;TZID=Europe/Helsinki:20231018T210000
DTSTAMP:20260420T131324
CREATED:20230928T093000Z
LAST-MODIFIED:20230928T093000Z
UID:15398-1697655600-1697662800@svobodnapraktika.com
SUMMARY:SEO стратегии за създаване и оптимизиране на локално съдържание - уебинар
DESCRIPTION:Оптимизирането е важна част от онлайн присъствието на всеки електронен магазин. Наясно си с това\, ако предимно сам развиваш своя сайт. Влагаш усилия в съдържание\, което да се хареса и на посетителите\, и на търсачките. Въпреки че познания не ти липсват\, уебинарите винаги са полезни ресурси\, от които се възползваш. Включи се и в предстоящото събитие\, за да разбереш как да: \n\nподбираш важните за твоя бизнес ключови думи и фрази;\nизвършиш одит на сайта си;\nоптимизираш локални страници (On-Page).\n\nЗа кого е подходящо?\n\nЗа собственици на малък бизнес.\n\nЛектор\n\nМария Георгиева е SEO специалист в компания Payhawk. Има над 10 години опит в сферата на дигиталния маркетинг. Твърдо вярва\, че оптималните сайтове се създават с мисъл за потребителя.\n\nУчастието е без такса\, с предварителна регистрация.
URL:https://svobodnapraktika.com/event/seo-%d1%81%d1%82%d1%80%d0%b0%d1%82%d0%b5%d0%b3%d0%b8%d0%b8-%d0%be%d0%bf%d1%82%d0%b8%d0%bc%d0%b8%d0%b7%d0%b8%d1%80%d0%b0%d0%bd%d0%b5-%d1%81%d1%8a%d0%b4%d1%8a%d1%80%d0%b6%d0%b0%d0%bd%d0%b8%d0%b5
CATEGORIES:Онлайн събития
ORGANIZER;CN="SoftUni%20Digital":MAILTO:digital@softuni.bg
END:VEVENT
END:VCALENDAR