BEGIN:VCALENDAR
VERSION:2.0
PRODID:-//Свободна практика - ECPv6.0.13//NONSGML v1.0//EN
CALSCALE:GREGORIAN
METHOD:PUBLISH
X-ORIGINAL-URL:https://svobodnapraktika.com
X-WR-CALDESC:Events for Свободна практика
REFRESH-INTERVAL;VALUE=DURATION:PT1H
X-Robots-Tag:noindex
X-PUBLISHED-TTL:PT1H
BEGIN:VTIMEZONE
TZID:Europe/Helsinki
BEGIN:DAYLIGHT
TZOFFSETFROM:+0200
TZOFFSETTO:+0300
TZNAME:EEST
DTSTART:20230326T010000
END:DAYLIGHT
BEGIN:STANDARD
TZOFFSETFROM:+0300
TZOFFSETTO:+0200
TZNAME:EET
DTSTART:20231029T010000
END:STANDARD
END:VTIMEZONE
BEGIN:VEVENT
DTSTART;TZID=Europe/Helsinki:20231004T190000
DTEND;TZID=Europe/Helsinki:20231004T210000
DTSTAMP:20260420T131240
CREATED:20230917T193157Z
LAST-MODIFIED:20230917T193157Z
UID:15331-1696446000-1696453200@svobodnapraktika.com
SUMMARY:Как да бъдеш фрийланс дизайнер? - онлайн събитие
DESCRIPTION:Дизайнът е сферата\, в която искаш да се развиваш. Дипломата или сертификатите от курсовете са добра основа\, върху която да стъпиш в началото на своята кариера. Оттук нататък ти предстои много работа\, интересни проекти\, успехи\, понякога и разочарования. Започваш като фрийлансър\, а дали ще се пренасочиш към агенция\, само времето ще покаже. Как да стартираш? Как да достигаш до потенциалните си клиенти? На тези и други въпроси отговаря лекторът по време на уебинара. Той ти дава ценни насоки за: \n\nценообразуването;\nуправлението на времето;\nразвиването на уменията в бъдеще и др.\n\nЦелта на събитието е да се почувстваш по-уверен\, когато се захванеш със своя първи проект. \nЗа кого е подходящо\n\nЗа начинаещи дизайнери фрийлансъри.\n\nЛектор\n\nНедко Боянов е бранд дизайнер\, а в портфолиото му са включени български и чуждестранни проекти. Освен това той е съпредседател на творчески колектив „На Улицата“. Организацията работи активно\, за да направи Стара Загора по-артистичен град.\n\nУчастието е без такса\, с предварителна регистрация. \n 
URL:https://svobodnapraktika.com/event/%d0%ba%d0%b0%d0%ba-%d0%b4%d0%b0-%d0%b1%d1%8a%d0%b4%d0%b5%d1%88-%d1%84%d1%80%d0%b8%d0%b9%d0%bb%d0%b0%d0%bd%d1%81-%d0%b4%d0%b8%d0%b7%d0%b0%d0%b9%d0%bd%d0%b5%d1%80-%d0%be%d0%bd%d0%bb%d0%b0%d0%b9%d0%bd
CATEGORIES:Онлайн събития
ORGANIZER;CN="SoftUni%20Creative":MAILTO:creative@softuni.bg
END:VEVENT
END:VCALENDAR