BEGIN:VCALENDAR
VERSION:2.0
PRODID:-//Свободна практика - ECPv6.0.13//NONSGML v1.0//EN
CALSCALE:GREGORIAN
METHOD:PUBLISH
X-WR-CALNAME:Свободна практика
X-ORIGINAL-URL:https://svobodnapraktika.com
X-WR-CALDESC:Events for Свободна практика
REFRESH-INTERVAL;VALUE=DURATION:PT1H
X-Robots-Tag:noindex
X-PUBLISHED-TTL:PT1H
BEGIN:VTIMEZONE
TZID:Europe/Helsinki
BEGIN:DAYLIGHT
TZOFFSETFROM:+0200
TZOFFSETTO:+0300
TZNAME:EEST
DTSTART:20230326T010000
END:DAYLIGHT
BEGIN:STANDARD
TZOFFSETFROM:+0300
TZOFFSETTO:+0200
TZNAME:EET
DTSTART:20231029T010000
END:STANDARD
END:VTIMEZONE
BEGIN:VEVENT
DTSTART;TZID=Europe/Helsinki:20230607T190000
DTEND;TZID=Europe/Helsinki:20230607T210000
DTSTAMP:20260420T233918
CREATED:20230519T194843Z
LAST-MODIFIED:20230519T194843Z
UID:15124-1686164400-1686171600@svobodnapraktika.com
SUMMARY:„Създаване на бранд идентичност с помощта на Изкуствен интелект“ - уебинар
DESCRIPTION:Много хора вече използват AI\, за да оптимизират своите позиции\, и го правят успешно. Изкуственият интелект може да е от голяма полза в изграждането и на твоя онлайн бизнес. С негова помощ можеш да пишеш текстове\, да създаваш изображения\, да подбираш ключови думи и какво ли още не. Как да го използваш ефективно? Как инструментът Eilla.ai ще ти помогне да създадеш своя бранд идентичност? Отговори на тези въпроси получаваш по време на уебинара. \nОт лектора научаваш: \n\nкое е предимството на инструмента Eilla.ai;\nкак помага на графичните дизайнери;\nкак да генерираш подходящи слогани чрез него и др.;\n\nЗа кого е подходящо събитието\n\nЗа собственици на малък бизнес.\n\nЛектор\n\nАлександър Иванов е основател на агенция CreateX\, лектор е на редица събития и преподава дигитален маркетинг в SoftUni Digital\, ВТУ „Св. Св. Кирил и Методий“ и Национален военен университет „Васил Левски“.\n\nУчастието е без такса\, с предварителна регистрация.
URL:https://svobodnapraktika.com/event/%d1%81%d1%8a%d0%b7%d0%b4%d0%b0%d0%b2%d0%b0%d0%bd%d0%b5-%d0%bd%d0%b0-%d0%b1%d1%80%d0%b0%d0%bd%d0%b4-%d0%b8%d0%b4%d0%b5%d0%bd%d1%82%d0%b8%d1%87%d0%bd%d0%be%d1%81%d1%82-%d1%81-%d0%bf%d0%be%d0%bc
CATEGORIES:Онлайн събития
ORGANIZER;CN="SoftUni%20Creative":MAILTO:creative@softuni.bg
END:VEVENT
END:VCALENDAR