BEGIN:VCALENDAR
VERSION:2.0
PRODID:-//Свободна практика - ECPv6.0.13//NONSGML v1.0//EN
CALSCALE:GREGORIAN
METHOD:PUBLISH
X-ORIGINAL-URL:https://svobodnapraktika.com
X-WR-CALDESC:Events for Свободна практика
REFRESH-INTERVAL;VALUE=DURATION:PT1H
X-Robots-Tag:noindex
X-PUBLISHED-TTL:PT1H
BEGIN:VTIMEZONE
TZID:Europe/Helsinki
BEGIN:DAYLIGHT
TZOFFSETFROM:+0200
TZOFFSETTO:+0300
TZNAME:EEST
DTSTART:20230326T010000
END:DAYLIGHT
BEGIN:STANDARD
TZOFFSETFROM:+0300
TZOFFSETTO:+0200
TZNAME:EET
DTSTART:20231029T010000
END:STANDARD
END:VTIMEZONE
BEGIN:VEVENT
DTSTART;TZID=Europe/Helsinki:20230410T190000
DTEND;TZID=Europe/Helsinki:20230520T210000
DTSTAMP:20260421T005906
CREATED:20230411T091012Z
LAST-MODIFIED:20230411T091012Z
UID:14977-1681153200-1684616400@svobodnapraktika.com
SUMMARY:Онлайн курс за работа с Canva
DESCRIPTION:Canva е платформа\, благодарение на която създаваш всевъзможни дизайни. Няма да е преувеличено\, ако кажа\, че всичко в нея може да е от полза за бизнеса ти. Canva ти дава възможност да изграждаш визии за различните социални мрежи\, презентации\, визитки\, банери и какво ли още не. Ако до момента все още не си намерил време да се регистрираш\, направи го. А благодарение на безплатния курс на SoftUni се учиш да работиш по-бързо и по-лесно с платформата. \nПо време на упражненията разбираш: \n\nкак Canva допринася за изграждането на бранда ти;\nкак да създаваш реклами чрез платформата и др;\n\nРазгледай сайта на събитието и виж каква е едномесечната програма. \n\nКурсът стартира на 22.05. и е с продължителност 3 седмици.\n\nЗа кого е подходящо\n\nЗа собственици на малък бизнес и всички\, които искат да създават визуално съдържание.\n\nЛектор\n\nПетър Хаджиколев е специалист по Social Media Marketing в „1ForFit“. Създавал е съдържание за вестник „Сега“ и „Ureport“\, бил е и част от екипа на\n\nУчастието е без такса\, с предварителна регистрация. \n\nАко положиш изпит\, таксата е в размер на 100 лв.
URL:https://svobodnapraktika.com/event/%d0%be%d0%bd%d0%bb%d0%b0%d0%b9%d0%bd-%d0%ba%d1%83%d1%80%d1%81-%d0%b7%d0%b0-%d1%80%d0%b0%d0%b1%d0%be%d1%82%d0%b0-%d1%81-canva
CATEGORIES:Онлайн събития
ORGANIZER;CN="SoftUni%20Digital":MAILTO:digital@softuni.bg
END:VEVENT
BEGIN:VEVENT
DTSTART;TZID=Europe/Helsinki:20230504T190000
DTEND;TZID=Europe/Helsinki:20230504T210000
DTSTAMP:20260421T005906
CREATED:20230421T170348Z
LAST-MODIFIED:20230421T170348Z
UID:15009-1683226800-1683234000@svobodnapraktika.com
SUMMARY:Правилата на брандинга в дигитална ера – онлайн събитие
DESCRIPTION:Често малките бизнеси акцентират на продуктите\, които предлагат\, но пренебрегват брандинга или не полагат необходимите усилия за изграждането му. Как потребителите възприемат марката ти? Какви са ценностите ѝ? Доколко резонират с тези на потенциалните клиенти? Имаш ли отговори на всички тези въпроси? Ако развиваш своя бизнес в дигитална среда\, или дори ако тя е само част от него\, изграждането на онлайн идентичност е важна стъпка в развитието ти. Включи се в събитието\, за да научиш повече по темата. \nПо време на семинара разбираш какви са принципите\, с които се съобразява бранд мениджмънтът. Лекторът ти споделя тенденциите\, посочва ти и реални примери за работа върху марката. В основата на лекцията са заложени актуалните изследвания в областта на маркетинга и потребителското поведение. \nЗа кого е подходящо събитието\n\nЗа мениджъри\, които искат да подходят по-уверено към развитието на своя проект в дигитална среда.\n\nЛектор\n\nД-р Димитър Трендафилов е гл. ас. в НБО\, където развива и изследователска програма в сферата на маркетинга. Създател е на учебниците „Ритейл маркетинг и мениджмънт“ и „Изграждане и налагане на бранд“\, автор е и на редица статии.\n\nУчастието е без такса\, с предварителна регистрация. \n 
URL:https://svobodnapraktika.com/event/%d0%bf%d1%80%d0%b0%d0%b2%d0%b8%d0%bb%d0%b0%d1%82%d0%b0-%d0%bd%d0%b0-%d0%b1%d1%80%d0%b0%d0%bd%d0%b4%d0%b8%d0%bd%d0%b3%d0%b0-%d0%b2-%d0%b4%d0%b8%d0%b3%d0%b8%d1%82%d0%b0%d0%bb%d0%bd%d0%b0-%d0%b5%d1%80
CATEGORIES:Онлайн събития
ORGANIZER;CN="SoftUni%20Digital":MAILTO:digital@softuni.bg
END:VEVENT
END:VCALENDAR