BEGIN:VCALENDAR
VERSION:2.0
PRODID:-//Свободна практика - ECPv6.0.13//NONSGML v1.0//EN
CALSCALE:GREGORIAN
METHOD:PUBLISH
X-WR-CALNAME:Свободна практика
X-ORIGINAL-URL:https://svobodnapraktika.com
X-WR-CALDESC:Events for Свободна практика
REFRESH-INTERVAL;VALUE=DURATION:PT1H
X-Robots-Tag:noindex
X-PUBLISHED-TTL:PT1H
BEGIN:VTIMEZONE
TZID:Europe/Helsinki
BEGIN:DAYLIGHT
TZOFFSETFROM:+0200
TZOFFSETTO:+0300
TZNAME:EEST
DTSTART:20230326T010000
END:DAYLIGHT
BEGIN:STANDARD
TZOFFSETFROM:+0300
TZOFFSETTO:+0200
TZNAME:EET
DTSTART:20231029T010000
END:STANDARD
END:VTIMEZONE
BEGIN:VEVENT
DTSTART;TZID=Europe/Helsinki:20230330T080000
DTEND;TZID=Europe/Helsinki:20230423T170000
DTSTAMP:20260421T010243
CREATED:20230330T065536Z
LAST-MODIFIED:20230330T065536Z
UID:14929-1680163200-1682269200@svobodnapraktika.com
SUMMARY:„WordPress and WooCommerce for Business“ – онлайн обучение
DESCRIPTION:Не само обмисляш изграждането на онлайн магазин\, но и имаш визия за развитието му. Наясно си и какви ще са реалните ползи за потенциалните клиенти от съществуването на бизнеса ти. Но първата крачка към реализирането на идеята ти е техническата част. Няма как да я пропуснеш\, ако изграждаш онлайн присъствие. С още по-голяма сила важи\, ако бизнесът ти е малък\, нямаш финансиране и се налага да разчиташ предимно на собствените си сили. Спрял си се на платформата WordPress с приставката за електронна търговия WooCommerce. Включи се в обучението\, за да разбереш как да: \n\nподбираш и настройваш плъгини;\nоптимизираш магазина си;\nподобриш скоростта на зареждане;\nпривлечеш повече трафик и др.\n\nВиж програмата\, за да си наясно какви лекции и упражнения са включени в модула. \nЗа кого е подходящо събитието\n\nЗа всички\, които обмислят създаване на онлайн магазин в WordPress.\n\nЛектор\n\nАлександър Лейков е мениджър на „Алейков Студио“\, занимава се с дизайн и SEO оптимизация. Има знания в областта на JavaScript\, Photoshop\, HTML\, CSS\, CMS системи\, бази данни и уеб приложения.\n\nУчастието е платено\, с предварителна регистрация. \n\nЗапиши се не по-късно от 23.04.\n\n 
URL:https://svobodnapraktika.com/event/wordpress-and-woocommerce-for-business-%d0%be%d0%bd%d0%bb%d0%b0%d0%b9%d0%bd-%d0%be%d0%b1%d1%83%d1%87%d0%b5%d0%bd%d0%b8%d0%b5
CATEGORIES:Онлайн събития
ORGANIZER;CN="SoftUni%20Digital":MAILTO:digital@softuni.bg
END:VEVENT
BEGIN:VEVENT
DTSTART;TZID=Europe/Helsinki:20230406T090000
DTEND;TZID=Europe/Helsinki:20230406T140000
DTSTAMP:20260421T010243
CREATED:20230320T094521Z
LAST-MODIFIED:20230320T094521Z
UID:14831-1680771600-1680789600@svobodnapraktika.com
SUMMARY:„Финансово-правни аспекти при онлайн магазини“ – онлайн обучение
DESCRIPTION:Онлайн търговията е добра възможност да работиш за себе си. Същевременно с това е и ангажимент – трябва да имаш познания по дигитален маркетинг\, да си наясно с основни счетоводно-правни въпроси\, които касаят електронната търговия и какво ли още не. Знанията са особено важни за теб\, ако бюджетът ти е малък и се налага да правиш всичко сам. Учиш се ежедневно\, за да развиваш успешно бизнеса си. Специализираните обучения са ти от полза\, защото ти дават яснота къде можеш да сгрешиш и как да избегнеш това. Събитието е за теб\, ако се занимаваш отскоро с онлайн продажби. Някои от лекциите\, които се обсъждат\, са: \n\nпродажба на стоки с наложен платеж и с ППП;\nизисквания за ДДС при работа с чуждестранни клиенти;\nособености при работа с някои маркетплейси;\nиздаване на електронни касови бележки;\nизползване на виртуален POS терминал и др.\n\nТемите са разнообразни и обхващат повечето аспекти на финансово-правните въпроси. Виж и останалите в програмата на събитието. \nЗа кого е подходящо\n\nЗа хора\, които развиват свой бизнес.\n\nЛектори\n\nХристо Петров е управител на счетоводна къща „Golden Vision“. Експертите\, с които работи\, са специалисти в областта на онлайн търговията.\nАдв. Михаела Димитрова\, управляващ съдружник в адвокатско дружество „Димитрова и Хаджиева“. Автор е и на „Електронен наръчник за онлайн търговеца“\, включващ над 150 страници практически указания и съвети за онлайн търговците.\n\nУчастието е платено\, с предварителна регистрация. \n\nРегистрирай се до 31.03. и закупи билет на стойност 145 лв.\nВсички цени са без включено ДДС.\n\n 
URL:https://svobodnapraktika.com/event/%d1%84%d0%b8%d0%bd%d0%b0%d0%bd%d1%81%d0%be%d0%b2%d0%b8-%d0%b0%d1%81%d0%bf%d0%b5%d0%ba%d1%82%d0%b8-%d0%be%d0%bd%d0%bb%d0%b0%d0%b9%d0%bd-%d0%bc%d0%b0%d0%b3%d0%b0%d0%b7%d0%b8%d0%bd
CATEGORIES:Онлайн събития
END:VEVENT
END:VCALENDAR