BEGIN:VCALENDAR
VERSION:2.0
PRODID:-//Свободна практика - ECPv6.0.13//NONSGML v1.0//EN
CALSCALE:GREGORIAN
METHOD:PUBLISH
X-ORIGINAL-URL:https://svobodnapraktika.com
X-WR-CALDESC:Events for Свободна практика
REFRESH-INTERVAL;VALUE=DURATION:PT1H
X-Robots-Tag:noindex
X-PUBLISHED-TTL:PT1H
BEGIN:VTIMEZONE
TZID:Europe/Helsinki
BEGIN:DAYLIGHT
TZOFFSETFROM:+0200
TZOFFSETTO:+0300
TZNAME:EEST
DTSTART:20230326T010000
END:DAYLIGHT
BEGIN:STANDARD
TZOFFSETFROM:+0300
TZOFFSETTO:+0200
TZNAME:EET
DTSTART:20231029T010000
END:STANDARD
END:VTIMEZONE
BEGIN:VEVENT
DTSTART;TZID=Europe/Helsinki:20230219T080000
DTEND;TZID=Europe/Helsinki:20230219T170000
DTSTAMP:20260421T090729
CREATED:20230130T083924Z
LAST-MODIFIED:20230205T220643Z
UID:14595-1676793600-1676826000@svobodnapraktika.com
SUMMARY:Онлайн обучение – изграждане на бранд идентичност
DESCRIPTION:Знаеш ли\, че голям процент от потребителите в световен мащаб са склонни да подкрепят бизнеси със сходни на техните ценности? Сигурна съм\, че ти самият предпочиташ конкретни марки не само защото предлагат високо качество. Хората се отъждествяват с бранда\, поне в известна степен\, затова е и важно каква е представата\, която той налага. Как да изградиш своята бранд идентичност? Отговор получаваш от Жюстин Томс по време на курса. \nОбучението е с продължителност 5 седмици. Основните теми\, които се обсъждат\, са: \n\nоснови на брандинга – кои са стъпките при изграждането му;\nцели и таргет аудитория – защо е важно да си наясно със силните и слабите си страни\, целевата група и целите си;\nдигитални канали – кои са основните канали и къде да се позиционираш ти.\n\nВиж програмата на събитието\, за да разбереш какво още включва всеки от модулите. \nЗа кого е подходящо събитието\n\nЗа собственици на бизнес.\n\nЛектор\n\nЖюстин Томс е създател на агенция „ABC Design and Communication“\, създател на „Аз медиа“ – Az-jenata.bg и Az-deteto.bg и автор на редица книги за дигитален маркетинг.\n\nОбучението е безплатно\, с предварителна регистрация. Можеш да кандидатстваш до 19.02. включително. \n\nИзпитната такса (в случай че искаш да се явиш) е в размер на 100 лв.\, ако се регистрираш до 02.03. и 200 лв. при регистрация след тази дата.
URL:https://svobodnapraktika.com/event/%d0%b8%d0%b7%d1%80%d0%b0%d0%b6%d0%b4%d0%b0%d0%bd%d0%b5-%d0%b1%d1%80%d0%b0%d0%bd%d0%b4-%d0%b8%d0%b4%d0%b5%d0%bd%d1%82%d0%b8%d1%87%d0%bd%d0%be%d1%81%d1%82
CATEGORIES:Онлайн събития
ORGANIZER;CN="SoftUni%20Digital":MAILTO:digital@softuni.bg
END:VEVENT
END:VCALENDAR