BEGIN:VCALENDAR
VERSION:2.0
PRODID:-//Свободна практика - ECPv6.0.13//NONSGML v1.0//EN
CALSCALE:GREGORIAN
METHOD:PUBLISH
X-WR-CALNAME:Свободна практика
X-ORIGINAL-URL:https://svobodnapraktika.com
X-WR-CALDESC:Events for Свободна практика
REFRESH-INTERVAL;VALUE=DURATION:PT1H
X-Robots-Tag:noindex
X-PUBLISHED-TTL:PT1H
BEGIN:VTIMEZONE
TZID:Europe/Helsinki
BEGIN:DAYLIGHT
TZOFFSETFROM:+0200
TZOFFSETTO:+0300
TZNAME:EEST
DTSTART:20230326T010000
END:DAYLIGHT
BEGIN:STANDARD
TZOFFSETFROM:+0300
TZOFFSETTO:+0200
TZNAME:EET
DTSTART:20231029T010000
END:STANDARD
END:VTIMEZONE
BEGIN:VEVENT
DTSTART;VALUE=DATE:20230210
DTEND;VALUE=DATE:20230211
DTSTAMP:20260421T071558
CREATED:20221121T103145Z
LAST-MODIFIED:20221121T103145Z
UID:14271-1675987200-1676073599@svobodnapraktika.com
SUMMARY:Онлайн обучение „Финансово-правни аспекти при онлайн магазини и електронна търговия актуални изисквания на НАП\, КЗП\, КЗЛД и КЗК“
DESCRIPTION:Идеята за стартиране на собствен онлайн бизнес е първата крачка към твоята независимост. Обикновено представата ти как ще се случват нещата има малко общо с реалността. Когато дойде време за реализацията на идеята ти\, откриваш\, че тя изисква много по-отговорно отношение\, внимание в детайлите и влагане на немалко средства и енергия\, отколкото си си представял. Задължително е да обърнеш внимание на финансово-правния аспект\, за да си спестиш редица неприятности в бъдеще. Предстоящото обучение ти е от голяма полза – дава ти подробна информация относно актуалните счетоводно-правни изисквания за развитие на електронна търговия. \nВключи се\, за да разбереш какви са: \n\nизискванията за продажба в други държави;\nспецификите на онлайн бизнеса;\nособеностите при работата с платените услуги на Facebook и Google;\nизискванията на Наредба Н-18;\nправилата по GDPR и др.\n\nРазгледай програмата в страницата на събитието. Темите\, които предстои да бъдат обсъдени\, са подробно описани. \nАко проявиш интерес\, побързай да се запишеш\, защото местата се запълват бързо. Първата свободна дата е в началото на февруари. \nЗа кого е подходящо обучението\n\nЗа счетоводители\, служители в държавни институции\, както и за бъдещи и настоящи собственици на онлайн бизнес.\n\nЛектори\n\nХристо Петров е управител на счетоводна къща „Gold Vision“. Фокусът на неговия екип е насочен към електронната търговия. Самият той е лектор на повечето обучения за счетоводство на онлайн бизнеси.\nАдв. Михаела Димитрова\, управляващ съдружник в адвокатско дружество „Димитрова и Хаджиева“. Автор е на „Електронен наръчник за онлайн търговеца“ – практически указания и съвети за онлайн търговците.\n\nОбучението е платено\, с предварителна регистрация.
URL:https://svobodnapraktika.com/event/%d1%84%d0%b8%d0%bd%d0%b0%d0%bd%d1%81%d0%be%d0%b2%d0%be-%d0%bf%d1%80%d0%b0%d0%b2%d0%bd%d0%b8-%d0%b0%d1%81%d0%bf%d0%b5%d0%ba%d1%82%d0%b8-%d0%b5%d0%bb-%d1%82%d1%8a%d1%80%d0%b3%d0%be%d0%b2%d0%b8%d1%8f
CATEGORIES:Онлайн събития
END:VEVENT
END:VCALENDAR