BEGIN:VCALENDAR
VERSION:2.0
PRODID:-//Свободна практика - ECPv6.0.13//NONSGML v1.0//EN
CALSCALE:GREGORIAN
METHOD:PUBLISH
X-ORIGINAL-URL:https://svobodnapraktika.com
X-WR-CALDESC:Events for Свободна практика
REFRESH-INTERVAL;VALUE=DURATION:PT1H
X-Robots-Tag:noindex
X-PUBLISHED-TTL:PT1H
BEGIN:VTIMEZONE
TZID:Europe/Helsinki
BEGIN:DAYLIGHT
TZOFFSETFROM:+0200
TZOFFSETTO:+0300
TZNAME:EEST
DTSTART:20230326T010000
END:DAYLIGHT
BEGIN:STANDARD
TZOFFSETFROM:+0300
TZOFFSETTO:+0200
TZNAME:EET
DTSTART:20231029T010000
END:STANDARD
END:VTIMEZONE
BEGIN:VEVENT
DTSTART;TZID=Europe/Helsinki:20230126T190000
DTEND;TZID=Europe/Helsinki:20230126T210000
DTSTAMP:20260421T090811
CREATED:20230102T183016Z
LAST-MODIFIED:20230102T183016Z
UID:14442-1674759600-1674766800@svobodnapraktika.com
SUMMARY:„Работещи стратегии за създаване на съдържание в различни платформи“ – уебинар
DESCRIPTION:Всеки бизнес\, онлайн или не\, се нуждае от присъствие в социалните мрежи. Алгоритмите обаче се променят\, потребителските потребности – също. Ето защо\, ако сам обгрижваш профилите в мрежите\, е важно да следиш тенденциите. Възползвай се от обучението на SoftUni и се включи\, за да разбереш как да създаваш ефективни стратегии за съдържание. От лекторите научаваш още: \n\nкак да ангажираш аудиторията си;\nкак да измерваш ефективността от работата си.\n\nЗа кого е подходящо събитието\n\nЗа всички\, които поддържат бизнес акаунтите в социалните мрежи.\n\nЛектори\n\nЛюбомир Цанев е копирайтър в агенция De Ondernemersschool и съдружник в AdVibe.\nАида Бурнучян има опит във видео съдържанието\, рекламата и PR-а. Съосновател е на агенцията за дигитален маркетинг AdVibe.\n\nУчастието е без такса\, с предварителна регистрация. \n 
URL:https://svobodnapraktika.com/event/%d1%81%d1%82%d1%80%d0%b0%d1%82%d0%b5%d0%b3%d0%b8%d0%b8-%d1%81%d1%8a%d0%b7%d0%b4%d0%b0%d0%b2%d0%b0%d0%bd%d0%b5-%d1%81%d1%8a%d0%b4%d1%8a%d1%80%d0%b6%d0%b0%d0%bd%d0%b8%d0%b5
CATEGORIES:Онлайн събития
ORGANIZER;CN="SoftUni%20Digital":MAILTO:digital@softuni.bg
END:VEVENT
BEGIN:VEVENT
DTSTART;TZID=Europe/Helsinki:20230126T190000
DTEND;TZID=Europe/Helsinki:20230126T210000
DTSTAMP:20260421T090811
CREATED:20230119T173434Z
LAST-MODIFIED:20230119T173442Z
UID:14538-1674759600-1674766800@svobodnapraktika.com
SUMMARY:Планиране\, промотиране и използване на чатбот с разговорен AI: основи и добри практики – уебинар
DESCRIPTION:Обмисляш възможността да внедриш чатбот в онлайн бизнеса си. Наясно си\, че той би могъл да ти спести някои разходи\, да подобри обслужването на клиентите и дори да увеличи продажбите ти. Ако искаш да научиш повече за неговите предимства и недостатъци\, включи се в уебинара. Събитието е насочено към собствениците на бизнес\, а чрез примери лекторът отговаря на въпросите: \n\nкак да се използва чатботът;\nзащо да се промотира и много други.\n\nЗа кого е подходящо събитието\n\nЗа всеки\, който иска да използва чатбот в комуникацията с клиентите си.\n\nЛектор\n\nЕлица Стоилова е съосновател и управител на Umni.bg – платформа за създаване и управление на чатбот с изкуствен интелект за сайт. В продължение на 20 години се е развивала в сферата на маркетинга и туризма.\n\nУчастието е без такса\, с предварителна регистрация.
URL:https://svobodnapraktika.com/event/%d0%bf%d0%bb%d0%b0%d0%bd%d0%b8%d1%80%d0%b0%d0%bd%d0%b5-%d0%bf%d1%80%d0%be%d0%bc%d0%be%d1%82%d0%b8%d1%80%d0%b0%d0%bd%d0%b5-%d0%b8-%d0%b8%d0%b7%d0%bf%d0%be%d0%bb%d0%b7%d0%b2%d0%b0%d0%bd%d0%b5-%d0%bd
CATEGORIES:Онлайн събития
END:VEVENT
END:VCALENDAR