BEGIN:VCALENDAR
VERSION:2.0
PRODID:-//Свободна практика - ECPv6.0.13//NONSGML v1.0//EN
CALSCALE:GREGORIAN
METHOD:PUBLISH
X-ORIGINAL-URL:https://svobodnapraktika.com
X-WR-CALDESC:Events for Свободна практика
REFRESH-INTERVAL;VALUE=DURATION:PT1H
X-Robots-Tag:noindex
X-PUBLISHED-TTL:PT1H
BEGIN:VTIMEZONE
TZID:Europe/Helsinki
BEGIN:DAYLIGHT
TZOFFSETFROM:+0200
TZOFFSETTO:+0300
TZNAME:EEST
DTSTART:20230326T010000
END:DAYLIGHT
BEGIN:STANDARD
TZOFFSETFROM:+0300
TZOFFSETTO:+0200
TZNAME:EET
DTSTART:20231029T010000
END:STANDARD
END:VTIMEZONE
BEGIN:VEVENT
DTSTART;TZID=Europe/Helsinki:20230117T093000
DTEND;TZID=Europe/Helsinki:20230117T123000
DTSTAMP:20260421T090643
CREATED:20221218T235138Z
LAST-MODIFIED:20230108T232747Z
UID:14409-1673947800-1673958600@svobodnapraktika.com
SUMMARY:„ESG стандарти за бизнеса“ – онлайн събитие
DESCRIPTION:Ако темата за зеления преход и ролята на бизнеса в него ти е интересна\, събитието е за теб. По време на обучението се разглеждат редица въпроси\, свързани с ESG изискванията и развитието на европейското законодателство в областта на устойчивото развитие. Включи се\, лекторите споделят с теб: \n\nреални примери за организация на новия бизнес модел\, съответстващ на изискванията за устойчивост;\nповече за регулацията на цифровите финансови услуги на европейско ниво.\n\nПодробности за темите\, разглеждани в отделните панели\, научаваш от сайта на събитието. \nВ края на семинара имаш време да зададеш въпросите си. \nЗа кого е подходящо обучението\n\nЗа собственици на бизнес.\n\nЛектори\n\nЦветелина Цветанова – председател на Балкански институт за устойчиво развитие.\nГинка Христова – председател на Международен правен център – ILAC\, външен affiliate преподавател към Hаrvard University\n\nУчастието е с такса\, с предварителна регистрация. \n\nЦената е без включено ДДС.
URL:https://svobodnapraktika.com/event/esg-%d1%81%d1%82%d0%b0%d0%bd%d0%b4%d0%b0%d1%80%d1%82%d0%b8-%d0%b7%d0%b0-%d0%b1%d0%b8%d0%b7%d0%bd%d0%b5%d1%81%d0%b0
CATEGORIES:Онлайн събития
ORGANIZER;CN="Expert%20Events":MAILTO:events@expertevents.bg
END:VEVENT
BEGIN:VEVENT
DTSTART;TZID=Europe/Helsinki:20230117T120000
DTEND;TZID=Europe/Helsinki:20230117T121500
DTSTAMP:20260421T090643
CREATED:20230108T232158Z
LAST-MODIFIED:20230108T232545Z
UID:14485-1673956800-1673957700@svobodnapraktika.com
SUMMARY:10 закона на Мърфи за фрийлансъри\, епизод 3
DESCRIPTION:Обичаш ли да слушаш за грешките и провалите на другите? Признай си! Всички обичаме. Не защото сме злобни същества\, а защото това е един от ефективните начини да се учим и да напредваме. \nЗатова и аз споделям с теб най-големите си фрийлансърски гафове в поредицата „10 закона на Мърфи за фрийлансъри“.  Тя включва 10 злополучни истории от моята практика\, които ти помагат да разбереш как НЕ се правят нещата и те вдъхновяват да подобриш своята свободна практика\, за да привличаш повече клиенти\, да работиш спокойно и по-малко\, и да печелиш повече. \nЕла онлайн\, на 17 януари\, от 12 часа\, да чуеш как загубих клиент\, защото му предложих безплатна услуга! \n \nРазказвам ти за третата ми съществена грешка като начинаещ фрийлансър – да преговарям с клиент твърде емоционално. \n\nМалко забавление и 3 извода\, полезни за твоята свободна практика – това получаваш от мен в рамките на 10 минути Facebook Live.\nОще 5-10 минути след това ще отговарям на въпроси.\n\nЦъкни на линка и се присъедини събитието във Facebook\, за да не пропуснеш събитието на живо или за да можеш да гледаш видео запис\, когато ти е удобно.  Гледай. Слушай. Питай. Покани приятели. Благодаря. \nп.с. Хвърли едно око на епизод 2\, в който ти разказвам какво се случи\, когато имах среща с голям потенциален клиент\, но секретарката му реши\, че не съм подходящо облечена.
URL:https://svobodnapraktika.com/event/10-zakona-murphy-freelancers-epizod-3
CATEGORIES:Онлайн събития
END:VEVENT
END:VCALENDAR