BEGIN:VCALENDAR
VERSION:2.0
PRODID:-//Свободна практика - ECPv6.0.13//NONSGML v1.0//EN
CALSCALE:GREGORIAN
METHOD:PUBLISH
X-ORIGINAL-URL:https://svobodnapraktika.com
X-WR-CALDESC:Events for Свободна практика
REFRESH-INTERVAL;VALUE=DURATION:PT1H
X-Robots-Tag:noindex
X-PUBLISHED-TTL:PT1H
BEGIN:VTIMEZONE
TZID:Europe/Helsinki
BEGIN:DAYLIGHT
TZOFFSETFROM:+0200
TZOFFSETTO:+0300
TZNAME:EEST
DTSTART:20230326T010000
END:DAYLIGHT
BEGIN:STANDARD
TZOFFSETFROM:+0300
TZOFFSETTO:+0200
TZNAME:EET
DTSTART:20231029T010000
END:STANDARD
END:VTIMEZONE
BEGIN:VEVENT
DTSTART;VALUE=DATE:20230114
DTEND;VALUE=DATE:20230116
DTSTAMP:20260421T090801
CREATED:20230109T120451Z
LAST-MODIFIED:20230109T120451Z
UID:14495-1673654400-1673827199@svobodnapraktika.com
SUMMARY:Обучение от хибриден тип „Кариерно ориентиране на учениците“
DESCRIPTION:Как протича час на класа в училището\, в което преподаваш? Активни ли са учениците\, интересуват ли се от темите\, които дискутирате? Без съмнение въпросът за кариерното ориентиране е сред обсъжданите\, особено в по-горните класове. Ако имаш нужда от допълнителни идеи и насоки за провеждане на дискусиите по темата\, събитието е подходящо за теб. Включи се\, за да разбереш: \n\nкак да повиши ангажираността на учениците;\nработещи активности за час на класа по темите за кариерно ориентиране и умения за успех.\n\nОбучението е с практическа насоченост. Разделено е на две части – присъствено и неприсъствено. \n\nПървата се провежда на живо и онлайн (в ZOOM).\nВтората се състои от изпълнение на практическа задача.\n\nКурсът се провежда в партньорство с Института за прогресивно образование. \nЗа кого е подходящо събитието\n\nЗа учители – 7-12 клас\, психолози\, педагогически съветници.\n\nЛектори\n\nЕкипът на фондация „Еду Компас“. Фондацията има дългогодишен опит в сферата на кариерното ориентиране.\n\nУчастието е платено\, с предварителна регистрация. \n 
URL:https://svobodnapraktika.com/event/%d0%ba%d0%b0%d1%80%d0%b8%d0%b5%d1%80%d0%bd%d0%be-%d0%be%d1%80%d0%b8%d0%b5%d0%bd%d1%82%d0%b8%d1%80%d0%b0%d0%bd%d0%b5-%d1%83%d1%87%d0%b5%d0%bd%d0%b8%d1%86%d0%b8
LOCATION:Social Innovators България\, ул. Дякон Игнатий 19\, етаж 2\, София\, Bulgaria
CATEGORIES:Онлайн събития,София
END:VEVENT
BEGIN:VEVENT
DTSTART;VALUE=DATE:20230114
DTEND;VALUE=DATE:20230116
DTSTAMP:20260421T090801
CREATED:20230109T120520Z
LAST-MODIFIED:20230109T120520Z
UID:14499-1673654400-1673827199@svobodnapraktika.com
SUMMARY:Инвестиции по време на война\, инфлация и забавяща се икономика – онлайн събитие
DESCRIPTION:Независимо с какво се занимаваш\, актуалната финансова ситуация вероятно те интересува. Достигна ли инфлацията до своя пик и ще наблюдаваме ли спад през 2023-а година? Включи се в уебинара\, за да чуеш мнението на български и чужденстранни финансисти. Те разискват въпросите за инвестициите\, енергийния преход и криптовалутите. Заяви участие\, за да разбереш: \n\nпредстои ли рецесия;\nкакви са предизвикателствата пред Европа и света;\nкакви са тенденции в имотния пазар;\n\nЛекциите са общо 16\, виж ги в страницата на събитието. \nОбучението се провежда онлайн\, в затворена Фейсбук група. \nЗа кого е подходящо\n\nЗа всички\, които се интересуват от инвестиции и от настоящата финансова ситуация.\n\nЛектори\n\nЛекторите са български и чуждестранни експерти от финансовия сектор.\n\nСъбитието е безплатно\, с предварителна регистрация. \n 
URL:https://svobodnapraktika.com/event/%d0%b8%d0%bd%d0%b2%d0%b5%d1%81%d1%82%d0%b8%d1%86%d0%b8%d0%b8-%d0%bf%d0%be-%d0%b2%d1%80%d0%b5%d0%bc%d0%b5-%d0%bd%d0%b0-%d0%b2%d0%be%d0%b9%d0%bd%d0%b0-%d0%b8%d0%bd%d1%84%d0%bb%d0%b0%d1%86%d0%b8%d1%8f
CATEGORIES:Онлайн събития
ORGANIZER;CN="InvestPRO":MAILTO:admin@investpro.bg
END:VEVENT
END:VCALENDAR