BEGIN:VCALENDAR
VERSION:2.0
PRODID:-//Свободна практика - ECPv6.0.13//NONSGML v1.0//EN
CALSCALE:GREGORIAN
METHOD:PUBLISH
X-WR-CALNAME:Свободна практика
X-ORIGINAL-URL:https://svobodnapraktika.com
X-WR-CALDESC:Events for Свободна практика
REFRESH-INTERVAL;VALUE=DURATION:PT1H
X-Robots-Tag:noindex
X-PUBLISHED-TTL:PT1H
BEGIN:VTIMEZONE
TZID:Europe/Helsinki
BEGIN:DAYLIGHT
TZOFFSETFROM:+0200
TZOFFSETTO:+0300
TZNAME:EEST
DTSTART:20210328T010000
END:DAYLIGHT
BEGIN:STANDARD
TZOFFSETFROM:+0300
TZOFFSETTO:+0200
TZNAME:EET
DTSTART:20211031T010000
END:STANDARD
BEGIN:DAYLIGHT
TZOFFSETFROM:+0200
TZOFFSETTO:+0300
TZNAME:EEST
DTSTART:20220327T010000
END:DAYLIGHT
BEGIN:STANDARD
TZOFFSETFROM:+0300
TZOFFSETTO:+0200
TZNAME:EET
DTSTART:20221030T010000
END:STANDARD
END:VTIMEZONE
BEGIN:VEVENT
DTSTART;TZID=Europe/Helsinki:20211209T190000
DTEND;TZID=Europe/Helsinki:20221231T200000
DTSTAMP:20260423T132832
CREATED:20211208T134704Z
LAST-MODIFIED:20211208T134704Z
UID:12475-1639076400-1672516800@svobodnapraktika.com
SUMMARY:Основи на инвестициите и личните финанси – безплатен онлайн курс
DESCRIPTION:Замисляш ли се за алтернативата да останеш без своята работа или клиенти? Днес имаш стабилни и/или регулярни доходи\, но няма как да си напълно сигурен\, че и утре ще е така. А какво е отношението ти към инвестициите? Може би вече си допуснал\, че това е твоят резервен план. Благодарение на Стойне Василев до теб достига немалко полезна информация по темата. Поредният ресурс е безплатният курс\, от който научаваш как да създадеш личен план\, за да управляваш финансите си. \nОсновните теми\, по които лекторът говори\, са: \n\nкакво ти пречи да постигаш целите си;\nкак да инвестираш като професионалист (влагане на средства в акции\, имоти\, кредити и др.);\nкак работят капиталовите пазари.\n\nВсички други акценти намери в програмата. Достатъчно детайлна е\, задължително я разгледай преди да решиш дали да се включиш. \nСамото обучение е уводната част към курсовете на InvestPRO\, в които можеш да участваш впоследствие\, ако пожелаеш. \nЗа кого е подходящо събитието\n\nЗа начинаещи\, които искат да започнат да управляват финансите си разумно.\nЗа напреднали\, които се колебаят дали да се включат в програмите на InvestPRO.\n\nЛектор\n\nСтойне Василев е финансов консултант\, създател на SmartMoney.bg – сайт за лични финанси и автор на книгата „Умни пари“. Има дългогодишен опит във финансовата сфера\, заемал е ръководни позиции в български и международни компании.\n\nСъбитието е безплатно\, с предварителна регистрация. \n\nМожеш да се включиш до 31.12.22 г.
URL:https://svobodnapraktika.com/event/%d0%be%d1%81%d0%bd%d0%be%d0%b2%d0%b8-%d0%b8%d0%bd%d0%b2%d0%b5%d1%81%d1%82%d0%b8%d1%86%d0%b8%d0%b8-%d0%bb%d0%b8%d1%87%d0%bd%d0%b8-%d1%84%d0%b8%d0%bd%d0%b0%d0%bd%d1%81%d0%b8
CATEGORIES:Онлайн събития
ORGANIZER;CN="InvestPRO":MAILTO:admin@investpro.bg
END:VEVENT
BEGIN:VEVENT
DTSTART;VALUE=DATE:20221129
DTEND;VALUE=DATE:20221201
DTSTAMP:20260423T132832
CREATED:20221109T101603Z
LAST-MODIFIED:20221109T101603Z
UID:14221-1669680000-1669852799@svobodnapraktika.com
SUMMARY:Career Show - Tech 2022 – онлайн семинар
DESCRIPTION:Интересуваш се от информационните технологии и все по-често обмисляш да се пренасочиш към IT сферата. Накъде да се ориентираш? И как изобщо да разбереш кое направление ще е най-подходящо за теб? Включи се в ноемврийското издание на Career Show – Tech 2022. Специалисти ти разказват подробно за различните позиции и дават отговори на много от въпросите\, които вероятно те вълнуват. \nСеминарът се провежда в два поредни дни. Имаш възможността да участваш във всеки модул – спрямо интересите си. Част от конференцията се провежда на английски език. \nНякои от темите са: \n\nУспешен старт в QA. Какво представлява професията на практика? Какво трябва да демонстрират кандидатите по време на интервю?\nЕзици за програмиране и кариерни възможности. Кои са най-търсените езици на пазара? Как да използваш възможностите им?\nОт журналистиката към програмирането… и обратно. Късно ли е да се насочиш към IT сферата? Какви качества трябва да притежаваш?\nHow to grow your tech career fast? Don’t! Какво да направиш за своето професионално развитие и защо не е добра идея да бързаш по пътя нагоре?\n\nРазгледай програмата\, за да разбереш какво още да очакваш от изданието. \nЗа кого е подходящо\n\nЗа всички\, които искат да се преориентират в професионално отношение.\n\nЛектори\n\nСпециалисти в областта на информационните технологии. Виж имената им в страницата на събитието.\n\nУчастието е без такса\, с предварителна регистрация. \n 
URL:https://svobodnapraktika.com/event/career-show-tech-2022-%d0%be%d0%bd%d0%bb%d0%b0%d0%b9%d0%bd-%d1%81%d0%b5%d0%bc%d0%b8%d0%bd%d0%b0%d1%80
CATEGORIES:Онлайн събития
END:VEVENT
BEGIN:VEVENT
DTSTART;TZID=Europe/Helsinki:20221130T190000
DTEND;TZID=Europe/Helsinki:20221130T210000
DTSTAMP:20260423T132832
CREATED:20221121T103309Z
LAST-MODIFIED:20221121T103309Z
UID:14266-1669834800-1669842000@svobodnapraktika.com
SUMMARY:Уебинар „Рационалният подход при вземане на правилни решения“
DESCRIPTION:Изпадал ли си в ситуация\, в която всяко решение ти изглежда грешно? Колебаеш се\, премисляш\, правиш избор\, а след това прекарваш дни наред в опити да разбереш нерационалната си постъпка. Истината е\, че вземането на решения е сложен процес\, а логичният избор невинаги е правилен. В случай че темата ти е интересна\, включи се в уебинара. Ще ти помогне да опознаеш по-добре човешката природа. \nАко участваш\, ще разбереш: \n\nкои фактори те водят към грешни решения;\nкои са еволюционните предпоставки за тяхното възникване;\nкак да работиш с тях.\n\nРазглежданите примери се отнасят предимно за работния процес\, но знанията можеш да приложиш във всяка сфера на живота си. \nЗа кого е подходящо събитието\n\nЗа хора\, които искат да разберат как да взимат по-лесно правилни решения.\n\nЛектор\n\nДамян Дешев е сериен технологичен предприемач и един от DevOps лидерите в българския офис на PokerStars.\n\nУебинарът е без такса\, с предварителна регистрация. \n 
URL:https://svobodnapraktika.com/event/%d1%80%d0%b0%d1%86%d0%b8%d0%be%d0%bd%d0%b0%d0%bb%d0%bd%d0%b8-%d0%bf%d0%be%d0%b4%d1%85%d0%be%d0%b4-%d0%bf%d1%80%d0%b0%d0%b2%d0%b8%d0%bb%d0%bd%d0%b8-%d1%80%d0%b5%d1%88%d0%b5%d0%bd%d0%b8%d1%8f
CATEGORIES:Онлайн събития
END:VEVENT
END:VCALENDAR