BEGIN:VCALENDAR
VERSION:2.0
PRODID:-//Свободна практика - ECPv6.0.13//NONSGML v1.0//EN
CALSCALE:GREGORIAN
METHOD:PUBLISH
X-WR-CALNAME:Свободна практика
X-ORIGINAL-URL:https://svobodnapraktika.com
X-WR-CALDESC:Events for Свободна практика
REFRESH-INTERVAL;VALUE=DURATION:PT1H
X-Robots-Tag:noindex
X-PUBLISHED-TTL:PT1H
BEGIN:VTIMEZONE
TZID:Europe/Helsinki
BEGIN:DAYLIGHT
TZOFFSETFROM:+0200
TZOFFSETTO:+0300
TZNAME:EEST
DTSTART:20210328T010000
END:DAYLIGHT
BEGIN:STANDARD
TZOFFSETFROM:+0300
TZOFFSETTO:+0200
TZNAME:EET
DTSTART:20211031T010000
END:STANDARD
BEGIN:DAYLIGHT
TZOFFSETFROM:+0200
TZOFFSETTO:+0300
TZNAME:EEST
DTSTART:20220327T010000
END:DAYLIGHT
BEGIN:STANDARD
TZOFFSETFROM:+0300
TZOFFSETTO:+0200
TZNAME:EET
DTSTART:20221030T010000
END:STANDARD
END:VTIMEZONE
BEGIN:VEVENT
DTSTART;TZID=Europe/Helsinki:20211209T190000
DTEND;TZID=Europe/Helsinki:20221231T200000
DTSTAMP:20260424T074547
CREATED:20211208T134704Z
LAST-MODIFIED:20211208T134704Z
UID:12475-1639076400-1672516800@svobodnapraktika.com
SUMMARY:Основи на инвестициите и личните финанси – безплатен онлайн курс
DESCRIPTION:Замисляш ли се за алтернативата да останеш без своята работа или клиенти? Днес имаш стабилни и/или регулярни доходи\, но няма как да си напълно сигурен\, че и утре ще е така. А какво е отношението ти към инвестициите? Може би вече си допуснал\, че това е твоят резервен план. Благодарение на Стойне Василев до теб достига немалко полезна информация по темата. Поредният ресурс е безплатният курс\, от който научаваш как да създадеш личен план\, за да управляваш финансите си. \nОсновните теми\, по които лекторът говори\, са: \n\nкакво ти пречи да постигаш целите си;\nкак да инвестираш като професионалист (влагане на средства в акции\, имоти\, кредити и др.);\nкак работят капиталовите пазари.\n\nВсички други акценти намери в програмата. Достатъчно детайлна е\, задължително я разгледай преди да решиш дали да се включиш. \nСамото обучение е уводната част към курсовете на InvestPRO\, в които можеш да участваш впоследствие\, ако пожелаеш. \nЗа кого е подходящо събитието\n\nЗа начинаещи\, които искат да започнат да управляват финансите си разумно.\nЗа напреднали\, които се колебаят дали да се включат в програмите на InvestPRO.\n\nЛектор\n\nСтойне Василев е финансов консултант\, създател на SmartMoney.bg – сайт за лични финанси и автор на книгата „Умни пари“. Има дългогодишен опит във финансовата сфера\, заемал е ръководни позиции в български и международни компании.\n\nСъбитието е безплатно\, с предварителна регистрация. \n\nМожеш да се включиш до 31.12.22 г.
URL:https://svobodnapraktika.com/event/%d0%be%d1%81%d0%bd%d0%be%d0%b2%d0%b8-%d0%b8%d0%bd%d0%b2%d0%b5%d1%81%d1%82%d0%b8%d1%86%d0%b8%d0%b8-%d0%bb%d0%b8%d1%87%d0%bd%d0%b8-%d1%84%d0%b8%d0%bd%d0%b0%d0%bd%d1%81%d0%b8
CATEGORIES:Онлайн събития
ORGANIZER;CN="InvestPRO":MAILTO:admin@investpro.bg
END:VEVENT
BEGIN:VEVENT
DTSTART;TZID=Europe/Helsinki:20220421T080000
DTEND;TZID=Europe/Helsinki:20220531T170000
DTSTAMP:20260424T074547
CREATED:20220419T075955Z
LAST-MODIFIED:20220419T075955Z
UID:13522-1650528000-1654016400@svobodnapraktika.com
SUMMARY:Изграждане\, оптимизиране и администриране на Wordpress сайт – онлайн обучение
DESCRIPTION:Искаш да споделяш знанията\, опита или уменията си в конкретна сфера с по-широка аудитория. Идеята да изградиш своя малка общност ти допада и си решил да създадеш блог\, в който да даваш полезна информация. Откъде да започнеш? Как да направиш своя първи тестови сайт\, който в последствие да мигрираш? Отговори на тези важни въпроси получаваш по време на обучението. Включи се\, за да разбереш: \n\nкак да подбереш подходящ шаблон;\nкакво е SEO и как да пригаждаш текстовете и за машините;\nзащо защитата на личните данни е важна.\n\nОбучението се провежда изцяло онлайн. Ако се включиш\, получаваш: \n\n17 видео урока и папка с ресурси;\nудостоверение за успешно приключен курс.\n\nЗа кого е подходящо събитието\n\nЗа всички\, които искат да поставят добра основа при работата си с WordPress.\n\nУчастието е платено\, с предварителна регистрация. \n  \n 
URL:https://svobodnapraktika.com/event/%d0%b8%d0%b7%d0%b3%d1%80%d0%b0%d0%b6%d0%b4%d0%b0%d0%bd%d0%b5-wordpress-%d1%81%d0%b0%d0%b9%d1%82
CATEGORIES:Онлайн събития
ORGANIZER;CN="Startup%20Factory":MAILTO:info@startupfactory.bg
END:VEVENT
BEGIN:VEVENT
DTSTART;VALUE=DATE:20220428
DTEND;VALUE=DATE:20220429
DTSTAMP:20260424T074547
CREATED:20220410T195523Z
LAST-MODIFIED:20220410T195523Z
UID:13455-1651104000-1651190399@svobodnapraktika.com
SUMMARY:Осмо издание „eCommerce Academy Conference“ – събитие от хибриден тип
DESCRIPTION:Какви са тенденциите в социалните мрежи през настоящата година? На какво да обърнеш внимание? Как да увеличиш продажбите си? Сигурна съм\, че всички тези въпроси те вълнуват\, ако развиваш свой онлайн магазин. Отговори получаваш по време конференцията. Специалисти в различни области споделят с теб опит и знания. От тях научаваш: \n\nкак да управляваш своите дигитални канали;\nкак Open banking ще повлияе на електронната търговия в България;\nкак да създадеш успешна инфлуенсър кампания и др.\n\nЦялата програма можеш да видиш в сайта на организаторите. Разгледай я и имай предвид\, че онлайн билетът не покрива присъствените лекции. \nЗа кого е подходящо събитието\n\nЗа всички\, които се занимават с електронна търговия.\n\nЛектори\n\nЛекторите са хора с опит в развитието на успешни български брандове и в сферата на дигиталния маркетинг. Имената им научаваш от страницата на конференцията.\n\nУчастието е с предварителна регистрация. \n\nОнлайн билетът е без такса\, но имаш достъп само до видео от деня на конференцията.\nСтойността на присъствения билет е 189 лв. Получаваш достъп до цялото събитие\, както и до коктейл партито в края на деня.
URL:https://svobodnapraktika.com/event/ecommerce-academy-conference
CATEGORIES:Онлайн събития,София
ORGANIZER;CN="eCommerce%20Academy":MAILTO:info@ecommercebg.com
END:VEVENT
END:VCALENDAR