BEGIN:VCALENDAR
VERSION:2.0
PRODID:-//Свободна практика - ECPv6.0.13//NONSGML v1.0//EN
CALSCALE:GREGORIAN
METHOD:PUBLISH
X-ORIGINAL-URL:https://svobodnapraktika.com
X-WR-CALDESC:Events for Свободна практика
REFRESH-INTERVAL;VALUE=DURATION:PT1H
X-Robots-Tag:noindex
X-PUBLISHED-TTL:PT1H
BEGIN:VTIMEZONE
TZID:Europe/Helsinki
BEGIN:DAYLIGHT
TZOFFSETFROM:+0200
TZOFFSETTO:+0300
TZNAME:EEST
DTSTART:20210328T010000
END:DAYLIGHT
BEGIN:STANDARD
TZOFFSETFROM:+0300
TZOFFSETTO:+0200
TZNAME:EET
DTSTART:20211031T010000
END:STANDARD
BEGIN:DAYLIGHT
TZOFFSETFROM:+0200
TZOFFSETTO:+0300
TZNAME:EEST
DTSTART:20220327T010000
END:DAYLIGHT
BEGIN:STANDARD
TZOFFSETFROM:+0300
TZOFFSETTO:+0200
TZNAME:EET
DTSTART:20221030T010000
END:STANDARD
END:VTIMEZONE
BEGIN:VEVENT
DTSTART;TZID=Europe/Helsinki:20210414T100000
DTEND;TZID=Europe/Helsinki:20220414T120000
DTSTAMP:20260426T012333
CREATED:20210409T092115Z
LAST-MODIFIED:20210409T092234Z
UID:11316-1618394400-1649937600@svobodnapraktika.com
SUMMARY:Онлайн курс по графичен дизайн
DESCRIPTION:Имаш интереси в сферата на графичния дизайн и обмисляш да се развиваш професионално в областта. До момента си се самообучавал – следиш няколко YouTube канала и прилагаш наученото от видеата. Отделяш време\, за да се упражняваш\, но знаеш\, че има редица тънкости\, които все още ти убягват. Замисляш ли се да запишеш специализиран курс? Защо не разгледаш с какво може да ти е полезен този конкретно? Неговата цел е не толкова да те научи да ползваш софтуерни програми\, колкото да ти осигури всеобхватно обучение по дизайн. \nОсновните модули са:\n\nИстория на изкуството\, рисуване\, композиция и перспектива.\nВизуални изкуства – научаваш повече за фотографията и използването ѝ в дизайна.\nГрафичен дизайн – лекторът акцентира върху различните видове реклама.\nГрафични техники и печатни технологии – разбираш кои са основите на художественото оформление.\nAdobe Photoshop – сдобиваш се с базови познания за работа с програмата.\nAdobe Illustrator – разбираш как да използваш растерна и векторна графика в един проект.\nAdobe InDesign – работиш със страници\, рисуваш векторни обекти и научаваш принципите за създаване на книги\, списания и др.\nCorelDraw – вникваш в изграждането на цялостни дизайнерски решения с програмата.\nУеб технологии и анимации – получаваш информация за SEO и видоветете оптимизация; CMS системи и др.\n\nПо време на обучението трябва да изпълняваш различни практически задачи. Някои от тях са: \n\nсъздаване на малко списание;\nизработка на лого;\nнаправа на фирмени рекламни материали и др.\n\nВсички задачи\, както и подробна програма можеш да видиш в страницата на обучението. \nКурсът се провежда в рамките на една календарна година. В края му полагаш държавен изпит\, а ако го завършиш успешно\, получаваш диплома от МОН. Изискването към теб е да имаш завършено средно образование. \nЗа кого е подходящо събитието\n\nЗа всички\, които искат да получат обширни знания по графичен дизайн.\n\nЛектори\n\nЕмануела Станоева – специалист в областта на графичния дизайн и фотографията. Преподавател е от над 7 години.\nГеорги Благоев – графичен дизайнер. От 13 години работи в областта на печатната реклама.\n\nОбучението е платено\, с предварителна регистрация. \n\nМожеш да заплатиш таксата на 4 вноски.
URL:https://svobodnapraktika.com/event/%d0%be%d0%bd%d0%bb%d0%b0%d0%b9%d0%bd-%d0%ba%d1%83%d1%80%d1%81-%d0%bf%d0%be-%d0%b3%d1%80%d0%b0%d1%84%d0%b8%d1%87%d0%b5%d0%bd-%d0%b4%d0%b8%d0%b7%d0%b0%d0%b9%d0%bd
CATEGORIES:Онлайн събития
ORGANIZER;CN="%D0%A6%D0%9F%D0%9E%20%D0%9C%D1%83%D0%BB%D1%82%D0%B8%D1%82%D1%80%D0%B5%D0%B9%D0%BD%20%D0%9E%D0%9E%D0%94":MAILTO:office@multitrain.bg
END:VEVENT
BEGIN:VEVENT
DTSTART;TZID=Europe/Helsinki:20210622T190000
DTEND;TZID=Europe/Helsinki:20210815T210000
DTSTAMP:20260426T012333
CREATED:20210530T211736Z
LAST-MODIFIED:20210530T211736Z
UID:11575-1624388400-1629061200@svobodnapraktika.com
SUMMARY:„Видео маркетинг“
DESCRIPTION:Планираш да развиваш YouTube канал\, в който да споделяш полезна информация за клиентите си. Знаеш\, че това ще е от полза и за тях\, и за твоя бизнес. Изградил си план\, определил си и целта си. Сега следва изпълнението – да започнеш да заснемаш видеата и да разпространяваш създаденото съдържание. Преди да стартираш\, прегледай курса „Видео маркетинг“. Учи те точно на това и със сигурност ти е от полза\, ако до момента не си се впускал в подобно начинание. \nОт лектора разбираш: \n\nкак да се подготвиш за създаването на видео;\nкак да пишеш ефективни сценарии;\nкак да създадеш ангажиращо съдържание и др.\n\nОбучението се провежда онлайн във вторник и четвъртък\, а в края му полагаш изпит. Ако резултатът е добър\, получаваш и сертификат за участие. \nЗа кого е подходящо събитието\n\nЗа хора\, които нямат познания в сферата на видео маркетинга.\n\nЛектор\n\nЮлия Николова е специалист с 10-годишен опит. Изучавала е специалност „Филмова и телевизионна режисура“ в НБУ и „Медии и комуникации“ в Швеция.\n\nСъбитието е с такса\, с предварителна регистрация. \n\nЗапиши се не по-късно от 20.06.21 г.
URL:https://svobodnapraktika.com/event/%d0%b2%d0%b8%d0%b4%d0%b5%d0%be-%d0%bc%d0%b0%d1%80%d0%ba%d0%b5%d1%82%d0%b8%d0%bd%d0%b3
CATEGORIES:Онлайн събития
ORGANIZER;CN="SoftUni%20Digital":MAILTO:digital@softuni.bg
END:VEVENT
BEGIN:VEVENT
DTSTART;VALUE=DATE:20210717
DTEND;VALUE=DATE:20210721
DTSTAMP:20260426T012333
CREATED:20210709T080945Z
LAST-MODIFIED:20210709T080945Z
UID:11801-1626480000-1626825599@svobodnapraktika.com
SUMMARY:Онлайн събитие „Млади предприемачи – конкурс и обучения“
DESCRIPTION:Ти си млад\, амбициозен и предприемчив. Работата от 9 до 5 в офис не те удовлетворява – решил си да вложиш време и енергия\, за да развиеш собствен бизнес. Не си съвсем наясно с какво точно да се захванеш\, нито как да стартираш\, но четеш много\, учиш се от грешките на другите и търсиш подходящи събития. В такъв случай разгледай и това. \nЗа да участваш\, трябва да: \n\nживееш\, учиш или работиш в следните области: Перник\, Кюстендил\, София (област);\nси между 18 и 29 години.\n\nАко решиш да се включиш\, очаквай: \n\nОнлайн въвеждащ курс – състои се от две части – на 17.07 и на 20.07.\nЦялостно обучение – базирано е на най-добрите световни практики\, но е адаптирано за пазара в България. Включва и безплатно изготвяне на документи за регистрация на фирма.\n\nУчаствай\, независимо дали имаш ясно формулирана бизнес идея\, или не. Организаторите ще ти помогнат да я дефинираш. \nМожеш да запишеш и единствено въвеждащото обучение без да заплащаш такса\, но и без да се съревноваваш за наградата на организаторите. \nАко имаш каквито и да е въпроси\, свържи се с Юлия Иванова на следните координати: \n\n0897004770;\nyuya.consult@gmail.com\n\nЗа кого е подходящо събитието\n\nЗа млади предприемачи под 29-годишна възраст.\n\nУчастието е безплатно\, с предварителна регистрация.
URL:https://svobodnapraktika.com/event/%d0%be%d0%bd%d0%bb%d0%b0%d0%b9%d0%bd-%d1%81%d1%8a%d0%b1%d0%b8%d1%82%d0%b8%d0%b5-%d0%bc%d0%bb%d0%b0%d0%b4%d0%b8-%d0%bf%d1%80%d0%b5%d0%b4%d0%bf%d1%80%d0%b8%d0%b5%d0%bc%d0%b0%d1%87%d0%b8
CATEGORIES:Онлайн събития
ORGANIZER;CN="BFree":MAILTO:foundation.bfree@gmail.com
END:VEVENT
BEGIN:VEVENT
DTSTART;TZID=Europe/Helsinki:20210717T190000
DTEND;TZID=Europe/Helsinki:20210720T220000
DTSTAMP:20260426T012333
CREATED:20210709T080855Z
LAST-MODIFIED:20210709T080855Z
UID:11804-1626548400-1626818400@svobodnapraktika.com
SUMMARY:„E-mail marketing“ – онлайн обучение
DESCRIPTION:Много често\, когато развиваш собствен бизнес с малко средства\, предпочиташ да се справяш сам. Избираш да инвестираш в собственото си обучение вместо да възложиш задачите на специалист. Имейл маркетингът е инструмент за привличане на нови клиенти и ако все още не си го използвал\, може би е време да се насочиш и към него. Курсът на „SoftUni“ ти е полезен\, защото ти дава и теоретична\, и практическа подготовка. \nЗаниманията се състоят от: \n\nлекции;\nдемонстрации;\nанализи;\nупражнения.\n\nВ края на курса ще можеш да: \n\nсъздаваш имейл маркетинг стратегия;\nразработваш кампании;\nанализираш и оптимизираш резултатите от тях;\nсе справяш с възникнали проблеми.\n\nРазгледай програмата на обучението. Към всеки модул е разработен подробен план\, с който можеш да се запознаеш. \nРегистрирай се до 18.07.\, ако решиш за се включиш. Занятията стартират на 20.07. и са с продължителност 3 седмици. \nЗа кого е подходящо събитието\n\nЗа хора с базови познания по маркетинг.\n\nЛектор\n\nСимона Попова е съосновател на агенция „Стартъп Мастърс“ и се занимава с дигитален маркетинг от над 9 години. Разработвала е цялостна бизнес стратегия за български и чуждестранни фирми.\nЖюстин Томс е основател на дигитална агенция „ABC Design & Communication“. Тя е сред пионерите в областта на дигиталния маркетинг. Създател е на медийна група „Аз медия“.\n\nУчастието е платено\, с предварителна регистрация.
URL:https://svobodnapraktika.com/event/e-mail-marketing-%d0%be%d0%bd%d0%bb%d0%b0%d0%b9%d0%bd-%d0%be%d0%b1%d1%83%d1%87%d0%b5%d0%bd%d0%b8%d0%b5
CATEGORIES:Онлайн събития
ORGANIZER;CN="SoftUni%20Digital":MAILTO:digital@softuni.bg
END:VEVENT
END:VCALENDAR