BEGIN:VCALENDAR
VERSION:2.0
PRODID:-//Свободна практика - ECPv6.0.13//NONSGML v1.0//EN
CALSCALE:GREGORIAN
METHOD:PUBLISH
X-ORIGINAL-URL:https://svobodnapraktika.com
X-WR-CALDESC:Events for Свободна практика
REFRESH-INTERVAL;VALUE=DURATION:PT1H
X-Robots-Tag:noindex
X-PUBLISHED-TTL:PT1H
BEGIN:VTIMEZONE
TZID:Europe/Helsinki
BEGIN:DAYLIGHT
TZOFFSETFROM:+0200
TZOFFSETTO:+0300
TZNAME:EEST
DTSTART:20240331T010000
END:DAYLIGHT
BEGIN:STANDARD
TZOFFSETFROM:+0300
TZOFFSETTO:+0200
TZNAME:EET
DTSTART:20241027T010000
END:STANDARD
END:VTIMEZONE
BEGIN:VEVENT
DTSTART;TZID=Europe/Helsinki:20240311T183000
DTEND;TZID=Europe/Helsinki:20240417T210000
DTSTAMP:20260420T005112
CREATED:20240305T120524Z
LAST-MODIFIED:20240305T120524Z
UID:16189-1710181800-1713387600@svobodnapraktika.com
SUMMARY:Обучение „Бъдещ предприемач“ – онлайн събитие
DESCRIPTION:Работата от 9 до 18 часа в офис не те удовлетворява и все по-настойчиво обмисляш да стартираш собствен бизнес. Наясно си\, че това начинание е времеемко\, но си готов да вложиш ресурси\, за да видиш резултат. Стъпките към създаването на бизнес са много\, ето защо и добрата ти подготовка е от значение. За да изградиш реалистична представа за бъдещето\, включи се в обучението. \nНаучаваш: \n\nкаква фирма да регистрираш;\nкакви са изискванията от счетоводна гледна точка;\nкак да планираш дейността на фирмата;\nкак да намериш финансиране и др.\n\nОбучението приключва с: \n\nупражнение за съставяне на бизнес план на твоята собствена дейност;\nизпит – при успешното му полагане\, получаваш удостоверение от МОН.\n\nЗа кого е подходящо\n\nЗа всички\, които искат да стартират собствен бизнес.\n\nЛектори\n\nЛекторите са експерти в различни сфери на дейност.\n\nУчастието е платено\, с предварителна регистрация. \n\nОбучението се провежда два пъти седмично\, а общата продължителност е 48 учебни часа.
URL:https://svobodnapraktika.com/event/%d0%be%d0%b1%d1%83%d1%87%d0%b5%d0%bd%d0%b8%d0%b5-%d0%b1%d1%8a%d0%b4%d0%b5%d1%89-%d0%bf%d1%80%d0%b5%d0%b4%d0%bf%d1%80%d0%b8%d0%b5%d0%bc%d0%b0%d1%87
CATEGORIES:Онлайн събития
ORGANIZER;CN="%D0%9E%D0%B1%D1%80%D0%B0%D0%B7%D0%BE%D0%B2%D0%B0%D1%82%D0%B5%D0%BB%D0%B5%D0%BD%20%D0%B1%D0%B8%D0%B7%D0%BD%D0%B5%D1%81%20%D1%86%D0%B5%D0%BD%D1%82%D1%8A%D1%80%20%E2%80%9C%D0%A5%D0%B5%D1%80%D0%BC%D0%B5%D1%81%E2%80%9D":MAILTO:info@obc-hermes.com
END:VEVENT
BEGIN:VEVENT
DTSTART;VALUE=DATE:20240406
DTEND;VALUE=DATE:20240408
DTSTAMP:20260420T005112
CREATED:20240309T221026Z
LAST-MODIFIED:20240309T221026Z
UID:16214-1712361600-1712534399@svobodnapraktika.com
SUMMARY:СофтУниада 2024 – онлайн събитие
DESCRIPTION:За девета поредна година деца и подрастващи с интерес към програмирането се включват в надпреварата СофтУниада\, организирана от Software University. Ако това е стихията и на твоето дете\, и виждаш потенциала му\, обсъдете възможността да участва в състезанието с: \n\nпрограмиране в реално време;\nразработка на приложение.\n\nНай-добре представилите се получават материални награди\, но и възможност за кариерен старт. \nУчастието е в екип или самостоятелно. Групите са разделени на две възрасти: \n\nмладша – до 16 години;\nстарша – над 16 години.\n\nСъбитието е изцяло онлайн и се провежда в продължение на два дни. Програмата е разделена на няколко модула – в зависимост от различните категории. Подробно описана е в сайта на организаторите. \n  \nСофтУниада Тийнс\nВ събитието участие взимат младежи между V и VII клас. Състезанието е отборно\, до 5 души\, или индивидуално. За да се включат\, младежите изпращат проектите си предварително\, а направленията са: \n\nScratch програмиране – участниците разработват уеб игра или образователен проект\, които се защитават в деня на състезанието;\nПредприемачество – изготвя се информационна презентация по зададена тема\, която включва описание на съдържанието. Използва се MS Office Power Point или Google Slides;\nДизайн – участниците създават дизайн за постер/плакат\, а темите са „Ребрандиране на класическа книга“ или „Кампания за осведоменост“.\n\nЗа кого е подходящо състезанието\n\nЗа деца и младежи\, които имат интерес и познания в сферата на програмирането\, дизайна и предприемачеството.\n\nУчастието е без такса\, с предварителна регистрация до 17.03.
URL:https://svobodnapraktika.com/event/%d1%81%d0%be%d1%84%d1%82%d1%83%d0%bd%d0%b8%d0%b0%d0%b4%d0%b0-2024-%d0%be%d0%bd%d0%bb%d0%b0%d0%b9%d0%bd-%d1%81%d1%8a%d0%b1%d0%b8%d1%82%d0%b8%d0%b5
CATEGORIES:Онлайн събития
END:VEVENT
BEGIN:VEVENT
DTSTART;TZID=Europe/Helsinki:20240407T100000
DTEND;TZID=Europe/Helsinki:20240407T140000
DTSTAMP:20260420T005112
CREATED:20240322T124017Z
LAST-MODIFIED:20240322T124017Z
UID:16265-1712484000-1712498400@svobodnapraktika.com
SUMMARY:Разработване на STEM урок с дигитални значки - онлайн обучение
DESCRIPTION:Учител си и по професия\, и по призвание. Интегрираш иновативни подходи в работата си\, опитваш се да предизвикаш интереса на децата. Надграждаш знанията и уменията им\, а по-добрите резултати са твоя основна цел. Ако всичко това е валидно за теб\, включи се в обучението. Курсът те учи как да интегрираш дигитални значки в STEM урок. \nПо време на обучението разбираш как да: \n\nразработваш дигиталните значки;\nпроектираш проблемно-базиран STEM урок;\nизползваш стратегията в клас.\n\nЗа кого е подходящо събитието\n\nЗа учители\, директори и педагогически специалисти.\n\nУчастието е с такса\, с предварителна регистрация.
URL:https://svobodnapraktika.com/event/%d1%80%d0%b0%d0%b7%d1%80%d0%b0%d0%b1%d0%be%d1%82%d0%b2%d0%b0%d0%bd%d0%b5-stem-%d1%83%d1%80%d0%be%d0%ba-%d0%b4%d0%b8%d0%b3%d0%b8%d1%82%d0%b0%d0%bb%d0%bd%d0%b8-%d0%b7%d0%bd%d0%b0%d1%87%d0%ba%d0%b8
CATEGORIES:Онлайн събития
ORGANIZER;CN="EduTechFlag":MAILTO:info@edutechflag.eu
END:VEVENT
BEGIN:VEVENT
DTSTART;VALUE=DATE:20240408
DTEND;VALUE=DATE:20240501
DTSTAMP:20260420T005112
CREATED:20200907T112636Z
LAST-MODIFIED:20240408T073005Z
UID:10102-1712534400-1714521599@svobodnapraktika.com
SUMMARY:„Питай копирайтър“ – безплатна\, онлайн консултация
DESCRIPTION:Ти си копирайтър или собственик на сайт\, чието съдържание създаваш сам. Ако имаш неясноти относно писането на текстове за уеб или традиционни рекламни канали\, възползвай се от безплатната месечна консултация с професионален копирайтър с богат опит. \nИмаш нужда от конкретни насоки за: \n\nподдържане на блог и писане на статии;\nсъздаване на текстове за уеб от нулата и лендинг страници;\nписане на продуктови описание и описания на услуги;\nизмисляне на рекламни послания. \n\nКакъвто и да е въпросът ти\, задай го. Ще получиш отговор.  \nКак да участваш\n\nПубликувай въпроса си като коментар под месечния пост в рубриката „Питай копирайтър“. Ако си един от първите 5-ма\, очаквай отговор до 18. 10.\n\nКой води консултацията\n\nИванка Могилска е копирайтър с над 15-годишен стаж. Пише текстове за уеб и традиционни канали за реклама. Води копирайтинг обучения\, консултира фирми относно подобряване съдържанието на сайтовете им. Тя е създател на блога „Свободна практика“. В него разказва за трудностите на фрийланса и наученото от тях\, а целта ѝ е да помогне на собственици на малък бизнес и фрийлансъри да стартират и да се развият в професионален план.\n\nПоследвай линка и задай въпроса си на Иванка Могилска.
URL:https://svobodnapraktika.com/event/%d0%ba%d0%be%d0%bf%d0%b8%d1%80%d0%b0%d0%b9%d1%82%d1%8a%d1%80-%d0%b1%d0%b5%d0%b7%d0%bf%d0%bb%d0%b0%d1%82%d0%bd%d0%b0-%d0%ba%d0%be%d0%bd%d1%81%d1%83%d0%bb%d1%82%d0%b0%d1%86%d0%b8%d1%8f
CATEGORIES:Онлайн събития
END:VEVENT
BEGIN:VEVENT
DTSTART;TZID=Europe/Helsinki:20240411T190000
DTEND;TZID=Europe/Helsinki:20240411T210000
DTSTAMP:20260420T005112
CREATED:20240409T103657Z
LAST-MODIFIED:20240409T103657Z
UID:16369-1712862000-1712869200@svobodnapraktika.com
SUMMARY:3 работещи стратегии за увеличаване на продажбите и печалбите на всеки един бизнес - уебинар
DESCRIPTION:Развиваш собствен бизнес отскоро и се интересуваш от насоките и стратегиите за разрастването му. Често безплатните ресурси дават базова информация\, която обаче можеш да надграждаш и така да разшириш познанията си в определена област на онлайн търговията. Уебинарът на SoftUni ти е от полза\, защото се фокусира върху увеличаването на продажбите и печалбите. \nЛекторът разглежда трите основни стълба на растеж на всеки бизнес. От него научаваш как да: \n\nпривличаш нови клиенти;\nувеличиш средната стойност на покупките си;\nсъздадеш доволни клиенти\, които се връщат отново.\n\nЗа кого е подходящо събитието\n\nЗа собственици на бизнес.\n\nЛектор\n\nПавел Раев е специалист в сферата на дигиталния маркетинг и съосновател на агенция Effective Agency.\n\nУчастието е без такса\, с предварителна регистрация. \n 
URL:https://svobodnapraktika.com/event/3-%d1%80%d0%b0%d0%b1%d0%be%d1%82%d0%b5%d1%89%d0%b8-%d1%81%d1%82%d1%80%d0%b0%d1%82%d0%b5%d0%b3%d0%b8%d0%b8-%d0%b7%d0%b0-%d1%83%d0%b2%d0%b5%d0%bb%d0%b8%d1%87%d0%b0%d0%b2%d0%b0%d0%bd%d0%b5-%d0%bd%d0%b0
CATEGORIES:Онлайн събития
ORGANIZER;CN="SoftUni%20Digital":MAILTO:digital@softuni.bg
END:VEVENT
BEGIN:VEVENT
DTSTART;TZID=Europe/Helsinki:20240416T190000
DTEND;TZID=Europe/Helsinki:20240416T210000
DTSTAMP:20260420T005112
CREATED:20240409T103556Z
LAST-MODIFIED:20240409T103556Z
UID:16365-1713294000-1713301200@svobodnapraktika.com
SUMMARY:Как да създадеш подкаст\, който придава идентичност на бизнеса ти – уебинар
DESCRIPTION:През последните няколко години подкастите придобиват все по-голяма популярност и в момента онлайн пространството изобилства от полезни канали в този формат\, нишови\, специфични и разнообразни като тематика. Ако ти самият мислиш\, че има с какво да допринесеш за вече създалата се общност\, или смяташ\, че посредством подкаст съдържание можеш да привлечеш клиенти\, отдели час за събитието. \nОт лектора научаваш как да: \n\nсъздадеш аудитория за своя бранд и как да запазиш вече създадената;\nсе отличиш сред останалите специалисти;\nизградиш своя уникална идентичност;\nреализираш печалби.\n\nЗа кого е подходящо събитието\n\nЗа всички\, които се интересуват от създаването на подкаст формат.\n\nЛектор\n\nВиктор Бистрев е създател на Dgtek – подкаст за дигитален маркетинг. Работи като Social media и Content writer от почти 10 години. През последните 5 години работи и в национална медия.\n\nУчастието е без такса\, с предварителна регистрация. \n 
URL:https://svobodnapraktika.com/event/%d0%bf%d0%be%d0%b4%d0%ba%d0%b0%d1%81%d1%82-%d0%b1%d0%b8%d0%b7%d0%bd%d0%b5%d1%81-%d0%b8%d0%b4%d0%b5%d0%bd%d1%82%d0%b8%d1%87%d0%bd%d0%be%d1%81%d1%82
CATEGORIES:Онлайн събития
ORGANIZER;CN="SoftUni%20Digital":MAILTO:digital@softuni.bg
END:VEVENT
BEGIN:VEVENT
DTSTART;TZID=Europe/Helsinki:20240418T190000
DTEND;TZID=Europe/Helsinki:20240418T210000
DTSTAMP:20260420T005112
CREATED:20240322T123920Z
LAST-MODIFIED:20240322T123920Z
UID:16263-1713466800-1713474000@svobodnapraktika.com
SUMMARY:Първи стъпки при регистрация на IT фирма за работа с ЕС или САЩ – уебинар
DESCRIPTION:Работиш от дълго време в IT сферата и все по-често обмисляш идеята да създадеш собствена фирма. Добре е да си наясно с базовите счетоводни въпроси преди да направиш първата крачка. Точно те се обсъждат по време на събитието. Фокусът е и върху спецификите при работа с чуждестранни клиенти. \nВключи се\, за да разбереш: \n\nнужна ли ти е регистрация по ДДС;\nкои срокове трябва да имаш предвид задължително;\nкаква е разликата между покупка на активи и на материали;\nкаква е отговорността на управителя във фирмата и др.\n\nЦялата програма е поместена в сайта на SoftUni\, разгледай я\, за да разбереш какво още те очаква. \nЗа кого е подходящо събитието\n\nЗа IT специалисти\, които искат да стартират собствена фирма.\n\nЛектор\n\nДобромира Николова е основател на правно/счетоводно дружество LEAD Consult. Тя е част от проекта на Forbes Women 2023 „Жени на върха“.\n\nУчастието е без такса\, с предварителна регистрация.
URL:https://svobodnapraktika.com/event/%d0%bf%d1%8a%d1%80%d0%b2%d0%b8-%d1%81%d1%82%d1%8a%d0%bf%d0%ba%d0%b8-%d0%bf%d1%80%d0%b8-%d1%80%d0%b5%d0%b3%d0%b8%d1%81%d1%82%d1%80%d0%b0%d1%86%d0%b8%d1%8f-%d0%bd%d0%b0-it-%d1%84%d0%b8%d1%80%d0%bc%d0%b0
CATEGORIES:Онлайн събития
ORGANIZER;CN="SoftUni%20Digital":MAILTO:digital@softuni.bg
END:VEVENT
BEGIN:VEVENT
DTSTART;TZID=Europe/Helsinki:20240425T170000
DTEND;TZID=Europe/Helsinki:20240425T180000
DTSTAMP:20260420T005112
CREATED:20240419T200434Z
LAST-MODIFIED:20240419T200434Z
UID:16393-1714064400-1714068000@svobodnapraktika.com
SUMMARY:Защо си струва да използваш LinkedIn – онлайн събитие
DESCRIPTION:Все още нямаш профил в LinkedIn и не си наясно как точно да работиш с платформата. Ако често се замисляш\, че е време да промениш това\, обучението е подходящо за теб. Включи се\, за да добиеш яснота как да използваш мрежата така\, че да ти носи ползи. \nОсновните теми са: \n\nзащо LinkedIn е подходяща за теб;\nкак да създадеш успешен профил;\nвидове формати.\n\nЗа кого е подходящо събитието\n\nЗа всички\, които не са използвали мрежата до момента.\n\nУчастието е без такса\, с предварителна регистрация.
URL:https://svobodnapraktika.com/event/%d0%b7%d0%b0%d1%89%d0%be-%d1%81%d0%b8-%d1%81%d1%82%d1%80%d1%83%d0%b2%d0%b0-%d0%b4%d0%b0-%d0%b8%d0%b7%d0%bf%d0%be%d0%bb%d0%b7%d0%b2%d0%b0%d1%88-linkedin-%d0%be%d0%bd%d0%bb%d0%b0%d0%b9%d0%bd
CATEGORIES:Онлайн събития
ORGANIZER;CN="Startup%20Factory":MAILTO:info@startupfactory.bg
END:VEVENT
END:VCALENDAR