BEGIN:VCALENDAR
VERSION:2.0
PRODID:-//Свободна практика - ECPv6.0.13//NONSGML v1.0//EN
CALSCALE:GREGORIAN
METHOD:PUBLISH
X-ORIGINAL-URL:https://svobodnapraktika.com
X-WR-CALDESC:Events for Свободна практика
REFRESH-INTERVAL;VALUE=DURATION:PT1H
X-Robots-Tag:noindex
X-PUBLISHED-TTL:PT1H
BEGIN:VTIMEZONE
TZID:Europe/Helsinki
BEGIN:DAYLIGHT
TZOFFSETFROM:+0200
TZOFFSETTO:+0300
TZNAME:EEST
DTSTART:20240331T010000
END:DAYLIGHT
BEGIN:STANDARD
TZOFFSETFROM:+0300
TZOFFSETTO:+0200
TZNAME:EET
DTSTART:20241027T010000
END:STANDARD
END:VTIMEZONE
BEGIN:VEVENT
DTSTART;TZID=Europe/Helsinki:20240108T193000
DTEND;TZID=Europe/Helsinki:20240108T213000
DTSTAMP:20260420T052529
CREATED:20231219T134834Z
LAST-MODIFIED:20231219T134834Z
UID:15916-1704742200-1704749400@svobodnapraktika.com
SUMMARY:UX/UI дизайнер в Agile екип – мисията възможна – уебинар
DESCRIPTION:Управляваш собствена фирма и работиш с екип от специалисти по онлайн присъствието си. Често прибягваш и до услугите на фрийлансъри. Ако ти предстои работа по UX/UI дизайна на сайта\, събитието ще ти е от полза. \nЛекторът споделя с теб: \n\nкакво представлява UI/UX дизайнът;\nкаква е разликата между изолирани дизайнерски проекти и внедрен в цялостния процес дизайнерски подход.\n\nЛекцията е базирана на реален казус. Ако имаш въпроси\, можеш да ги зададеш в края на уебинара по време на Q&A сесия. \nСъбитието е част от групата IT Project Management. \nЗа кого е подходящо\n\nЗа всички\, които имат нужда да подобрят потребителското преживяване на сайта си.\n\nЛектор\n\nВиолета Узунова се занимава с програмиране\, а интересите ѝ са в сферата на взаимодействието между хората и сформирането на силни екипи. Част е от екипа на BBraun Medical.\n\nУчастието е без такса\, с предварителна регистрация.
URL:https://svobodnapraktika.com/event/ux-ui-%d0%b4%d0%b8%d0%b7%d0%b0%d0%b9%d0%bd%d0%b5%d1%80-%d0%b2-agile-%d0%b5%d0%ba%d0%b8%d0%bf-%d0%bc%d0%b8%d1%81%d0%b8%d1%8f%d1%82%d0%b0-%d0%b2%d1%8a%d0%b7%d0%bc%d0%be%d0%b6%d0%bd%d0%b0
CATEGORIES:Онлайн събития
END:VEVENT
BEGIN:VEVENT
DTSTART;VALUE=DATE:20240120
DTEND;VALUE=DATE:20240121
DTSTAMP:20260420T052529
CREATED:20240122T212936Z
LAST-MODIFIED:20240122T212936Z
UID:15999-1705708800-1705795199@svobodnapraktika.com
SUMMARY:InvestPro Conference 2024 – събитие от хибриден тип
DESCRIPTION:Ако темите за финансите и инвестициите са важни за теб\, гледай онлайн излъчването на конференцията InvestPro Conference 2024. Специалисти от различни сфери на дейност обсъждат с теб възможностите за инвестиции във времена на инфлация. Събитието е разделено на лекции и дискусионни панели. Сред основните теми са: \n\nБългария в Еврозоната през 2025 година – как това ще повлияе на твоите лични финанси\, ще се повишат ли лихвите по изтеглените кредити.\nПазарът на имоти в България – в очакване на рецесия – научаваш какви са проблемите и предизвикателствата пред имотните инвеститори.\nЗлатото в ерата на инфлация и рецесия: Сигурен пристан или илюзия – какво значат растящите бюджетни дефицити за цената на златото.\nAI: Новият Dotcom бум? Инвестиционни перспективи в акции с изкуствен интелект – разбираш какви са прогнозите на глобалния AI пазар.\n\nВиж програмата на събитието в сайта\, за да разбереш какво още да очакваш. \nЗа кого е подходящо\n\nЗа всички\, които се вълнуват от финансовите сътресения през последните години.\n\nЛектори\n\nЛекторите са инвеститори\, финансови консултанти и специалисти в различни браншове. Сред тях са Стойне Василев и Николай Василев. Разгледай сайта на събитието\, за да научиш имената на всички останали.\n\nУчастието онлайн е безплатно\, с предварителна регистрация.
URL:https://svobodnapraktika.com/event/investpro-conference-2024-%d1%81%d1%8a%d0%b1%d0%b8%d1%82%d0%b8%d0%b5-%d0%be%d1%82-%d1%85%d0%b8%d0%b1%d1%80%d0%b8%d0%b4%d0%b5%d0%bd-%d1%82%d0%b8%d0%bf
CATEGORIES:Онлайн събития
ORGANIZER;CN="InvestPRO":MAILTO:admin@investpro.bg
END:VEVENT
BEGIN:VEVENT
DTSTART;TZID=Europe/Helsinki:20240122T180000
DTEND;TZID=Europe/Helsinki:20240125T200000
DTSTAMP:20260420T052529
CREATED:20240122T212840Z
LAST-MODIFIED:20240122T212840Z
UID:15993-1705946400-1706212800@svobodnapraktika.com
SUMMARY:Изкуственият интелект за създаване на визуално съдържание – онлайн обучение
DESCRIPTION:Начинаещ си в света на графичния дизайн\, а интересът ти към работата с AI нараства. Или пък планираш да стартираш личен блог\, но предпочиташ сам да генерираш изображенията си. Идеята да работиш с изкуствен интелект е примамлива за теб и искаш да научиш повече за възможностите\, които дава. Обучението\, организирано от StartupFactory\, е точно за теб. \nВключи се\, за да разбереш: \n\nкак да работиш съвместно с AI за добри резултати;\nкои са най-добрите генератори на изображения;\nкои са основните функции на Midjourney и Stable Diffusion.\n\nЗа кого е подходящо обучението\n\nЗа всички\, които искат да придобият основни знания относно използването на изкуствен интелект за визуално съдържание.\n\nЛектор\n\nПетя Бонева е лектор в StartupFactory\, занимава се с дизайн и рисуване над 15 години.\n\nУчастието е с такса\, с предварителна регистрация.
URL:https://svobodnapraktika.com/event/%d0%b8%d0%b7%d0%ba%d1%83%d1%81%d1%82%d0%b2%d0%b5%d0%bd-%d0%b8%d0%bd%d1%82%d0%b5%d0%bb%d0%b5%d0%ba%d1%82-%d0%b2%d0%b8%d0%b7%d1%83%d0%b0%d0%bb%d0%bd%d0%be-%d1%81%d1%8a%d0%b4%d1%8a%d1%80%d0%b6%d0%b0
CATEGORIES:Онлайн събития
ORGANIZER;CN="Startup%20Factory":MAILTO:info@startupfactory.bg
END:VEVENT
BEGIN:VEVENT
DTSTART;TZID=Europe/Helsinki:20240123T190000
DTEND;TZID=Europe/Helsinki:20240123T210000
DTSTAMP:20260420T052529
CREATED:20240110T101956Z
LAST-MODIFIED:20240110T101956Z
UID:15968-1706036400-1706043600@svobodnapraktika.com
SUMMARY:„Отключи съвършенство: Стратегическата сила на управлението на дигитални проекти в маркетинга“ - уебинар
DESCRIPTION:Сам ръководиш рекламните кампании в социалните мрежи и си наясно\, че тенденциите и изискванията се променят постоянно. Следиш новостите\, прилагаш\, тестваш и наблюдаваш резултатите. Още един полезен уебинар за теб е предстоящият от поредицата безплатни събития на SoftUni. Включи се\, лекторът ти дава примери за различни маркетинг проектите в дигитална среда. \nПо време на събитието научаваш: \n\nкакъв е жизнения цикъл на проектите;\nкак да ги изпълняваш успешно;\nкакви са видовете стратегии.\n\nЗа кого е подходящо събитието\n\nЗа собственици на бизнес и начинаещи маркетолози.\n\nЛектор\n\nИван Николов е Project Manager в DXC Technology Bulgaria. Ръководи международни проекти от години.\n\nУчастието е без такса\, с предварителна регистрация.
URL:https://svobodnapraktika.com/event/%d1%83%d0%bf%d1%80%d0%b0%d0%b2%d0%bb%d0%b5%d0%bd%d0%b8%d0%b5-%d0%b4%d0%b8%d0%b3%d0%b8%d1%82%d0%b0%d0%bb%d0%bd%d0%b8-%d0%bf%d1%80%d0%be%d0%b5%d0%ba%d1%82%d0%b8
CATEGORIES:Онлайн събития
ORGANIZER;CN="SoftUni%20Digital":MAILTO:digital@softuni.bg
END:VEVENT
BEGIN:VEVENT
DTSTART;TZID=Europe/Helsinki:20240123T190000
DTEND;TZID=Europe/Helsinki:20240123T210000
DTSTAMP:20260420T052529
CREATED:20240110T102122Z
LAST-MODIFIED:20240110T102122Z
UID:15936-1706036400-1706043600@svobodnapraktika.com
SUMMARY:Инстаграм - изграждане на стратегия и тенденции 2024 – уебинар
DESCRIPTION:Стартираш собствено бизнес начинание и планираш да използваш всяка социална мрежа\, за да изградиш малки общности или лоялна аудитория. Знаеш\, че различните платформи имат свои специфики\, Инстаграм не прави изключение. Както навсякъде\, и тук трябва да следиш тенденциите\, за да отговаряш поне в някаква степен на потребителските търсения. Какво още е важно за теб\, ако решиш да развиваш бизнес акаунт в мрежата? Отговори получаваш по време на уебинара. От лектора разбираш: \n\nзащо ти е нужда стратегия за развитието на профила;\nкакво е мястото на естетиката в тази платформа;\nкак да изградиш структура на съдържанието;\nкакви са тенденциите през 2024-а година.\n\nЗа кого е подходящо събитието\n\nЗа хора\, които поддържат профил в Инстаграм.\n\nЛектор\n\nМихаела Стоянова е основател на FemmePerium – общност\, подкрепяща жените по пътя им към собствения бизнес и финансова грамотност. Има дългогодишен опит в сферата на маркетинга.\n\nУебинарът е без такса\, с предварителна регистрация.
URL:https://svobodnapraktika.com/event/%d0%b8%d0%bd%d1%81%d1%82%d0%b0%d0%b3%d1%80%d0%b0%d0%bc-%d1%81%d1%82%d1%80%d0%b0%d1%82%d0%b5%d0%b3%d0%b8%d1%8f-%d1%82%d0%b5%d0%bd%d0%b4%d0%b5%d0%bd%d1%86%d0%b8%d0%b8-2024
CATEGORIES:Онлайн събития
ORGANIZER;CN="SoftUni%20Digital":MAILTO:digital@softuni.bg
END:VEVENT
BEGIN:VEVENT
DTSTART;VALUE=DATE:20241104
DTEND;VALUE=DATE:20241201
DTSTAMP:20260420T052529
CREATED:20201006T192228Z
LAST-MODIFIED:20241104T071838Z
UID:10116-1730678400-1733011199@svobodnapraktika.com
SUMMARY:„Питай дизайнер“ – безплатна\, онлайн консултация със специалист
DESCRIPTION:Ако си собственик на малък бизнес и сам поддържаш сайта си\, то вероятно и с дизайна се справяш някак. Но без базови познания и естетически усет\, ще ти е трудно да избереш правилния темплейт за блога\, онлайн магазина или лендинг страницата. \nДори и да имаш опит в работата с графични изображения и влечение към дизайна\, допитай се до специалист\, за да изглежда сайтът ти по-професионално.  \nПолезен съвет за визиите на твоите проекти можеш да получиш от дизайнера Любомира Попова. Тя споделя знанията си в статии за „Свободна практика“ и отговаря на питанията ти. Възползвай се от безплатната консултация и задай своя въпрос. \n  \nКак да участваш\n\nПубликувай въпроса си като коментар под месечния пост в рубриката „Питай дизайнер“. \n\n  \nКой води консултацията\n\nЛюбомира Попова е графичен дизайнер на свободна практика с над 17-годишен стаж. През по-голямата част от практиката си е работила за рекламни агенции. Има опит в създаването на визии за различни рекламни среди. В момента създава основно WordPress сайтове и визии за уеб. Разгледай професионалния ѝ сайт\, за да научиш повече за услугите\, които предлага.\n\nПоследвай линка и задай въпросите си на Любомира Попова.
URL:https://svobodnapraktika.com/event/%d0%b4%d0%b8%d0%b7%d0%b0%d0%b9%d0%bd%d0%b5%d1%80-%d0%be%d0%bd%d0%bb%d0%b0%d0%b9%d0%bd-%d0%ba%d0%be%d0%bd%d1%81%d1%83%d0%bb%d1%82%d0%b0%d1%86%d0%b8%d1%8f
CATEGORIES:Онлайн събития
END:VEVENT
BEGIN:VEVENT
DTSTART;TZID=Europe/Helsinki:20240131T190000
DTEND;TZID=Europe/Helsinki:20240131T210000
DTSTAMP:20260420T052529
CREATED:20240110T101902Z
LAST-MODIFIED:20240110T101902Z
UID:15966-1706727600-1706734800@svobodnapraktika.com
SUMMARY:„Създаване на бранд общност: Защо е важно и откъде да започнем?“ - уебинар
DESCRIPTION:Вероятно имаш не един любим бранд. Забелязал ли си как целенасоченото и последователно изграждане на аудитория влияе на развитието му? А правило ли ти е впечатление колко подкрепяща е средата в предизвикателните моменти\, особено ако бизнесът е малък? Ако си наблюдавал всичко това\, сам осъзнаваш колко е важно брандът да създава своя собствена аудитория. Как? Отговор получаваш по време на уебинара. \nВключи се\, за да научиш: \n\nкакви са стъпките за изграждане на общност;\nкои са най-често допусканите грешки.\n\nВ края на събитието можеш да зададеш въпросите си и да обсъдиш всичко\, което те вълнува\, с лектора. \nЗа кого е подходящо събитието\n\nЗа собственици на бизнес.\n\nЛектор\n\nЛия Младенова работи като Community Manager\, занимава се с изграждане на онлайн общности.\n\nУчастието е без такса\, с предварителна регистрация.
URL:https://svobodnapraktika.com/event/%d1%81%d1%8a%d0%b7%d0%b4%d0%b0%d0%b2%d0%b0%d0%bd%d0%b5-%d0%bd%d0%b0-%d0%b1%d1%80%d0%b0%d0%bd%d0%b4-%d0%be%d0%b1%d1%89%d0%bd%d0%be%d1%81%d1%82-%d0%b7%d0%b0%d1%89%d0%be-%d0%b5-%d0%b2%d0%b0
CATEGORIES:Онлайн събития
ORGANIZER;CN="SoftUni%20Digital":MAILTO:digital@softuni.bg
END:VEVENT
END:VCALENDAR