BEGIN:VCALENDAR
VERSION:2.0
PRODID:-//Свободна практика - ECPv6.0.13//NONSGML v1.0//EN
CALSCALE:GREGORIAN
METHOD:PUBLISH
X-WR-CALNAME:Свободна практика
X-ORIGINAL-URL:https://svobodnapraktika.com
X-WR-CALDESC:Events for Свободна практика
REFRESH-INTERVAL;VALUE=DURATION:PT1H
X-Robots-Tag:noindex
X-PUBLISHED-TTL:PT1H
BEGIN:VTIMEZONE
TZID:Europe/Helsinki
BEGIN:DAYLIGHT
TZOFFSETFROM:+0200
TZOFFSETTO:+0300
TZNAME:EEST
DTSTART:20230326T010000
END:DAYLIGHT
BEGIN:STANDARD
TZOFFSETFROM:+0300
TZOFFSETTO:+0200
TZNAME:EET
DTSTART:20231029T010000
END:STANDARD
END:VTIMEZONE
BEGIN:VEVENT
DTSTART;TZID=Europe/Helsinki:20231207T190000
DTEND;TZID=Europe/Helsinki:20231207T210000
DTSTAMP:20260420T101338
CREATED:20231130T111300Z
LAST-MODIFIED:20231130T111300Z
UID:15798-1701975600-1701982800@svobodnapraktika.com
SUMMARY:ChatGPT: Най-важното изобретение от интернета насам – уебинар
DESCRIPTION:Темата за изкуствения интелект е широко обсъждана. За и против\, има ли полза от него\, каква е тя и т.н. AI вече е част от нашата реалност и е по-добре да се фокусираме върху използването му\, за да допринесем за собственото си развитие. По време на уебинара разбираш как ChatGPT може да те направи в пъти по-продуктивен. Лекторът споделя с теб и добри практики при използването му. \nОчаква се\, че в следващите 10 години хората ще използват ChatGPT  така\, както днес Google. Изцяло от теб зависи дали и колко бързо ще се адаптираш към промените. \nЗа кого е подходящо събитието\n\nЗа всички\, които искат да научат повече за ChatGPT.\n\nЛектор\n\nИлия Вълчанов е предприемач\, основател на 3 компании в сферата на технологиите и изкуствения интелект. Преподава data science и AI в платформата Udemy.com.\n\nУчастието е без такса\, с предварителна регистрация.
URL:https://svobodnapraktika.com/event/chatgpt-%d0%bd%d0%b0%d0%b9-%d0%b2%d0%b0%d0%b6%d0%bd%d0%be%d1%82%d0%be-%d0%b8%d0%b7%d0%be%d0%b1%d1%80%d0%b5%d1%82%d0%b5%d0%bd%d0%b8%d0%b5-%d0%be%d1%82-%d0%b8%d0%bd%d1%82%d0%b5%d1%80%d0%bd%d0%b5%d1%82
CATEGORIES:Онлайн събития
ORGANIZER;CN="SoftUni%20Digital":MAILTO:digital@softuni.bg
END:VEVENT
BEGIN:VEVENT
DTSTART;TZID=Europe/Helsinki:20231207T190000
DTEND;TZID=Europe/Helsinki:20231207T210000
DTSTAMP:20260420T101338
CREATED:20231130T111604Z
LAST-MODIFIED:20231130T111604Z
UID:15800-1701975600-1701982800@svobodnapraktika.com
SUMMARY:От самоук аниматор до анимационно студио – уебинар
DESCRIPTION:Обичаш да твориш и искаш да се развиваш в креативна сфера. Анимацията е най-голямата ти страст и в момента правиш първи стъпки към професионалното израстване. Включи се в уебинара\, полезен ти е и има много какво да научиш. Ина Гавазова не само ти споделя примери от практиката\, но и ти разказва за своя собствен дългогодишен професионален път. От нея черпиш и вдъхновение\, и познания. \nПо време на събитието научаваш как да: \n\nпродаваш работата си;\nнамираш дългосрочни партньорства;\nсъздадеш свой креативен екип.\n\nУебинарът има за цел да мотивира всеки\, който иска да се занимава с дизайн или анимация. \nЗа кого е подходящо събитието\n\nЗа начинаещи фрийлансъри и творчески личности.\n\nЛектор\n\nИна Гавазова е създател и творчески директор в студио „Кашу“. През годините е преминала през фрийланса\, създаването и разрастването на студио. В момента тя е и ментор и учител по анимация. Повече за нея научаваш от страницата на SoftUni Creative.\n\nУчастието е без такса\, с предварителна регистрация.
URL:https://svobodnapraktika.com/event/%d1%81%d0%b0%d0%bc%d0%be%d1%83%d0%ba-%d0%b0%d0%bd%d0%b8%d0%bc%d0%b0%d1%82%d0%be%d1%80-%d0%b0%d0%bd%d0%b8%d0%bc%d0%b0%d1%86%d0%b8%d0%be%d0%bd%d0%bd%d0%be-%d1%81%d1%82%d1%83%d0%b4%d0%b8%d0%be
CATEGORIES:Онлайн събития
ORGANIZER;CN="SoftUni%20Digital":MAILTO:digital@softuni.bg
END:VEVENT
BEGIN:VEVENT
DTSTART;TZID=Europe/Helsinki:20231213T190000
DTEND;TZID=Europe/Helsinki:20231213T210000
DTSTAMP:20260420T101338
CREATED:20231210T213748Z
LAST-MODIFIED:20231210T213748Z
UID:15844-1702494000-1702501200@svobodnapraktika.com
SUMMARY:„7 причини защо изкуственият интелект няма да заличи WordPress индустрията…скоро“ - уебинар
DESCRIPTION:Имаш блог или онлайн магазин в WordPress? Искаш ли да разбереш как да използваш изкуствения интелект така\, че да подпомогнеш работата си в платформата? Включи се в уебинара\, от лектора научаваш много нови неща. Фокусът е върху: \n\nразличните възможности за използване на AI в платформата;\nползите от изкуствения интелект.\n\nЗа кого е подходящо събитието\n\nЗа всички\, които поддържат блог\, сайт или магазин в WordPress.\n\nЛектор\n\nСимона Георгиева е собственик на дигитална агенция Webbies и над седем години работи с WordPress за клиенти от цял свят.\n\nУчастието е без такса\, с предварителна регистрация.
URL:https://svobodnapraktika.com/event/7-%d0%bf%d1%80%d0%b8%d1%87%d0%b8%d0%bd%d0%b8-%d0%b7%d0%b0%d1%89%d0%be-%d0%b8%d0%b7%d0%ba%d1%83%d1%81%d1%82%d0%b2%d0%b5%d0%bd%d0%b8%d1%8f%d1%82-%d0%b8%d0%bd%d1%82%d0%b5%d0%bb%d0%b5%d0%ba%d1%82
CATEGORIES:Онлайн събития
ORGANIZER;CN="SoftUni%20Digital":MAILTO:digital@softuni.bg
END:VEVENT
BEGIN:VEVENT
DTSTART;TZID=Europe/Helsinki:20231213T190000
DTEND;TZID=Europe/Helsinki:20231213T210000
DTSTAMP:20260420T101338
CREATED:20231210T213832Z
LAST-MODIFIED:20231210T213832Z
UID:15842-1702494000-1702501200@svobodnapraktika.com
SUMMARY:„Работа като фрийлансър в Upwork с 4-часова работна седмица“ - уебинар
DESCRIPTION:Обмислял си много пъти възможността да напуснеш офис средата и да преминеш на свободна практика. Намираш за вълнуваща идеята да работиш за себе си и сам да подбираш проектите си. \nАко е така\, включи се в събитието. Лекторът споделя с теб: \n\nзащо е избрал пътя на фрийлансъра;\nкакви са плюсовете и минусите на свободната професия;\nкакви са предимствата на платформата Upwork.\n\nЗа кого е подходящо събитието\n\nЗа специалисти\, които обмислят да започнат работа на свободна практика.\n\nЛектор\n\nЯсен Димитров стартира кариерата си през 2002 година като графичен дизайнер\, впоследствие работи като Front-End програмист и ръководител на екип. През 2017-а прави първите си стъпки в Upwork\, а в момента ръководи малка агенция.\n\nСъбитието е без такса\, с предварителна регистрация.
URL:https://svobodnapraktika.com/event/%d1%80%d0%b0%d0%b1%d0%be%d1%82%d0%b0-%d0%ba%d0%b0%d1%82%d0%be-%d1%84%d1%80%d0%b8%d0%b9%d0%bb%d0%b0%d0%bd%d1%81%d1%8a%d1%80-%d0%b2-upwork-%d1%81-4-%d1%87%d0%b0%d1%81%d0%be%d0%b2%d0%b0-%d1%80
CATEGORIES:Онлайн събития
END:VEVENT
END:VCALENDAR