BEGIN:VCALENDAR
VERSION:2.0
PRODID:-//Свободна практика - ECPv6.0.13//NONSGML v1.0//EN
CALSCALE:GREGORIAN
METHOD:PUBLISH
X-ORIGINAL-URL:https://svobodnapraktika.com
X-WR-CALDESC:Events for Свободна практика
REFRESH-INTERVAL;VALUE=DURATION:PT1H
X-Robots-Tag:noindex
X-PUBLISHED-TTL:PT1H
BEGIN:VTIMEZONE
TZID:Europe/Helsinki
BEGIN:DAYLIGHT
TZOFFSETFROM:+0200
TZOFFSETTO:+0300
TZNAME:EEST
DTSTART:20230326T010000
END:DAYLIGHT
BEGIN:STANDARD
TZOFFSETFROM:+0300
TZOFFSETTO:+0200
TZNAME:EET
DTSTART:20231029T010000
END:STANDARD
END:VTIMEZONE
BEGIN:VEVENT
DTSTART;TZID=Europe/Helsinki:20230928T190000
DTEND;TZID=Europe/Helsinki:20230928T210000
DTSTAMP:20260420T130842
CREATED:20230917T193240Z
LAST-MODIFIED:20230917T193240Z
UID:15329-1695927600-1695934800@svobodnapraktika.com
SUMMARY:„Онлайн магазин\, който сам генерира повече продажби и доволни клиенти. Възможно ли е?" - онлайн събитие
DESCRIPTION:Имаш идея за развитие на собствен бизнес\, желание\, визия за малките крачки\, които ще те доведат до голямата цел. Нужни са ти много познания\, за да си пробиеш път в онлайн пространството\, особено ако разчиташ предимно на собствените си сили. Книгите\, уебинарите\, семинарите и полезните статии са част от пътя към успеха. А успешните примери са не само източник на мотивация и вдъхновение\, но и ти дават ценни насоки за твоя бизнес. \nАко се чудиш откъде да започнеш\, добър старт е точно този уебинар\, защото те среща с предприемчив лектор\, който превръща идеите си в успешни проекти. Фокусът е върху добрите практики в света на електронната търговия. \nЗа кого е подходящо събитието\n\nЗа всички\, които искат да стартират собствен бизнес.\n\nЛектор\n\nБорислав Колибаров има над 15 години опит в маркетинга и директните продажби. Съсобственик е на дигитална агенция МarmaLAB и стои зад небезизвестния проект за нестандартни подаръци „Сапунта мара“.\n\nУчастието е без такса\, с предварителна регистрация.
URL:https://svobodnapraktika.com/event/%d0%be%d0%bd%d0%bb%d0%b0%d0%b9%d0%bd-%d0%bc%d0%b0%d0%b3%d0%b0%d0%b7%d0%b8%d0%bd-%d1%81%d0%b0%d0%bc-%d0%b3%d0%b5%d0%bd%d0%b5%d1%80%d0%b8%d1%80%d0%b0-%d0%bf%d1%80%d0%be%d0%b4%d0%b0%d0%b6%d0%b1%d0%b8
CATEGORIES:Онлайн събития
ORGANIZER;CN="SoftUni%20Digital":MAILTO:digital@softuni.bg
END:VEVENT
END:VCALENDAR