BEGIN:VCALENDAR
VERSION:2.0
PRODID:-//Свободна практика - ECPv6.0.13//NONSGML v1.0//EN
CALSCALE:GREGORIAN
METHOD:PUBLISH
X-WR-CALNAME:Свободна практика
X-ORIGINAL-URL:https://svobodnapraktika.com
X-WR-CALDESC:Events for Свободна практика
REFRESH-INTERVAL;VALUE=DURATION:PT1H
X-Robots-Tag:noindex
X-PUBLISHED-TTL:PT1H
BEGIN:VTIMEZONE
TZID:Europe/Helsinki
BEGIN:DAYLIGHT
TZOFFSETFROM:+0200
TZOFFSETTO:+0300
TZNAME:EEST
DTSTART:20230326T010000
END:DAYLIGHT
BEGIN:STANDARD
TZOFFSETFROM:+0300
TZOFFSETTO:+0200
TZNAME:EET
DTSTART:20231029T010000
END:STANDARD
END:VTIMEZONE
BEGIN:VEVENT
DTSTART;TZID=Europe/Helsinki:20230310T180000
DTEND;TZID=Europe/Helsinki:20230310T200000
DTSTAMP:20260421T005247
CREATED:20230301T115953Z
LAST-MODIFIED:20230301T115953Z
UID:14775-1678471200-1678478400@svobodnapraktika.com
SUMMARY:Онлайн събитие на живо „Live Q&A с Jon Loomer: "Бъдещето на Facebook маркетинга и AI през 2023“
DESCRIPTION:Какви промени предстоят във Facebook? Какви са преимуществата за бизнесите\, които ще се възползват от платения абонаментен план? Ако тези въпроси те интересуват\, участвай в онлайн събитието на живо. Гост е Jon Loomer – специалист с дългогодишен опит в маркетинг средите на социалната мрежа. Включи се\, за да разбереш: \n\nкакво според лектора е бъдещето на дигиталния маркетинг;\nкак ChatGPT може да ти бъде от полза;\nкои са най-честите грешки\, които потребителите в TikTok и Instagram допускат при създаване на reels форматите.\n\nПодготви си въпроси и ги задай по време на Q&A сесията в края на събитието. \nЗа кого е подходящо\n\nЗа всички\, които се интересуват от настъпващите дигитални промени.\n\nЛектор\n\nJon Loomer е предприемач и специалист в сферата на дигиталния маркетинг. Сайтът му – JonLoomer.com е основан през 2011 г. и е един от най-добрите онлайн ресурси в света за Facebook маркетолози.\n\nУчастието е без такса\, с предварителна регистрация.
URL:https://svobodnapraktika.com/event/jon-loomer-%d0%b1%d1%8a%d0%b4%d0%b5%d1%89%d0%b5-facebook-%d0%bc%d0%b0%d1%80%d0%ba%d0%b5%d1%82%d0%b8%d0%bd%d0%b3
CATEGORIES:Онлайн събития
ORGANIZER;CN="SoftUni%20Digital":MAILTO:digital@softuni.bg
END:VEVENT
BEGIN:VEVENT
DTSTART;VALUE=DATE:20230316
DTEND;VALUE=DATE:20230317
DTSTAMP:20260421T005247
CREATED:20230219T223752Z
LAST-MODIFIED:20230219T223752Z
UID:14716-1678924800-1679011199@svobodnapraktika.com
SUMMARY:Career Show: „Languages“ – онлайн събитие
DESCRIPTION:Млад си\, животът е пред теб и все още нямаш ясна представа по кой професионален път искаш да поемеш. Трудно ти е да дефинираш конкурентните си предимства\, но отчиташ като голям плюс лекотата\, с която изучаваш чужди езици. Осъзнаваш\, че владеенето дори само на един допълнителен език може да отвори много врати пред теб. Ако се припознаваш във всичко това\, включи се в поредното събитие на Career Show. Основната тема е „Languages“\, а лектори от различни организации споделят опит и ти дават ценни съвети. Някои от предстоящите теми са: \n\nМениджър проекти в преводаческата индустрия – разбираш какви умения са ти нужни за тази позиция.\nCommunication beyond borders: presentation & language skills – фокусът е върху ползите от овладяването на презентационните и езиковите умения.\n5 easy steps to perform at your best at a job interview in English or French – от лектора научаваш няколко лесни стъпки\, които ще ти помогнат да се представиш добре на интервюто за работа.\n\nЦялата програма можеш да видиш в сайта на събитието. Предстои да бъде допълнена\, така че отваряй страницата от време на време. \nОсвен че ще присъстваш на интересни лекции\, имаш възможността да се свържеш с работодатели онлайн. Нужно е само да се регистрираш. \nЗа кого е подходящо събитието\n\nЗа хора\, които търсят нови кариерни възможности.\n\nЛектори\n\nСпециалисти в български и международни организации\, чиито работни ангажименти изискват владеенето на поне един чужд език.\n\nУчастието е без такса\, с предварителна регистрация. \n\nЧаст от лекциите са на английски език.
URL:https://svobodnapraktika.com/event/career-show-languages-%d0%be%d0%bd%d0%bb%d0%b0%d0%b9%d0%bd-%d1%81%d1%8a%d0%b1%d0%b8%d1%82%d0%b8%d0%b5-2
CATEGORIES:Онлайн събития
END:VEVENT
BEGIN:VEVENT
DTSTART;TZID=Europe/Helsinki:20230330T080000
DTEND;TZID=Europe/Helsinki:20230423T170000
DTSTAMP:20260421T005247
CREATED:20230330T065536Z
LAST-MODIFIED:20230330T065536Z
UID:14929-1680163200-1682269200@svobodnapraktika.com
SUMMARY:„WordPress and WooCommerce for Business“ – онлайн обучение
DESCRIPTION:Не само обмисляш изграждането на онлайн магазин\, но и имаш визия за развитието му. Наясно си и какви ще са реалните ползи за потенциалните клиенти от съществуването на бизнеса ти. Но първата крачка към реализирането на идеята ти е техническата част. Няма как да я пропуснеш\, ако изграждаш онлайн присъствие. С още по-голяма сила важи\, ако бизнесът ти е малък\, нямаш финансиране и се налага да разчиташ предимно на собствените си сили. Спрял си се на платформата WordPress с приставката за електронна търговия WooCommerce. Включи се в обучението\, за да разбереш как да: \n\nподбираш и настройваш плъгини;\nоптимизираш магазина си;\nподобриш скоростта на зареждане;\nпривлечеш повече трафик и др.\n\nВиж програмата\, за да си наясно какви лекции и упражнения са включени в модула. \nЗа кого е подходящо събитието\n\nЗа всички\, които обмислят създаване на онлайн магазин в WordPress.\n\nЛектор\n\nАлександър Лейков е мениджър на „Алейков Студио“\, занимава се с дизайн и SEO оптимизация. Има знания в областта на JavaScript\, Photoshop\, HTML\, CSS\, CMS системи\, бази данни и уеб приложения.\n\nУчастието е платено\, с предварителна регистрация. \n\nЗапиши се не по-късно от 23.04.\n\n 
URL:https://svobodnapraktika.com/event/wordpress-and-woocommerce-for-business-%d0%be%d0%bd%d0%bb%d0%b0%d0%b9%d0%bd-%d0%be%d0%b1%d1%83%d1%87%d0%b5%d0%bd%d0%b8%d0%b5
CATEGORIES:Онлайн събития
ORGANIZER;CN="SoftUni%20Digital":MAILTO:digital@softuni.bg
END:VEVENT
END:VCALENDAR