BEGIN:VCALENDAR
VERSION:2.0
PRODID:-//Свободна практика - ECPv6.0.13//NONSGML v1.0//EN
CALSCALE:GREGORIAN
METHOD:PUBLISH
X-WR-CALNAME:Свободна практика
X-ORIGINAL-URL:https://svobodnapraktika.com
X-WR-CALDESC:Events for Свободна практика
REFRESH-INTERVAL;VALUE=DURATION:PT1H
X-Robots-Tag:noindex
X-PUBLISHED-TTL:PT1H
BEGIN:VTIMEZONE
TZID:Europe/Helsinki
BEGIN:DAYLIGHT
TZOFFSETFROM:+0200
TZOFFSETTO:+0300
TZNAME:EEST
DTSTART:20210328T010000
END:DAYLIGHT
BEGIN:STANDARD
TZOFFSETFROM:+0300
TZOFFSETTO:+0200
TZNAME:EET
DTSTART:20211031T010000
END:STANDARD
BEGIN:DAYLIGHT
TZOFFSETFROM:+0200
TZOFFSETTO:+0300
TZNAME:EEST
DTSTART:20220327T010000
END:DAYLIGHT
BEGIN:STANDARD
TZOFFSETFROM:+0300
TZOFFSETTO:+0200
TZNAME:EET
DTSTART:20221030T010000
END:STANDARD
END:VTIMEZONE
BEGIN:VEVENT
DTSTART;TZID=Europe/Helsinki:20211209T190000
DTEND;TZID=Europe/Helsinki:20221231T200000
DTSTAMP:20260423T130222
CREATED:20211208T134704Z
LAST-MODIFIED:20211208T134704Z
UID:12475-1639076400-1672516800@svobodnapraktika.com
SUMMARY:Основи на инвестициите и личните финанси – безплатен онлайн курс
DESCRIPTION:Замисляш ли се за алтернативата да останеш без своята работа или клиенти? Днес имаш стабилни и/или регулярни доходи\, но няма как да си напълно сигурен\, че и утре ще е така. А какво е отношението ти към инвестициите? Може би вече си допуснал\, че това е твоят резервен план. Благодарение на Стойне Василев до теб достига немалко полезна информация по темата. Поредният ресурс е безплатният курс\, от който научаваш как да създадеш личен план\, за да управляваш финансите си. \nОсновните теми\, по които лекторът говори\, са: \n\nкакво ти пречи да постигаш целите си;\nкак да инвестираш като професионалист (влагане на средства в акции\, имоти\, кредити и др.);\nкак работят капиталовите пазари.\n\nВсички други акценти намери в програмата. Достатъчно детайлна е\, задължително я разгледай преди да решиш дали да се включиш. \nСамото обучение е уводната част към курсовете на InvestPRO\, в които можеш да участваш впоследствие\, ако пожелаеш. \nЗа кого е подходящо събитието\n\nЗа начинаещи\, които искат да започнат да управляват финансите си разумно.\nЗа напреднали\, които се колебаят дали да се включат в програмите на InvestPRO.\n\nЛектор\n\nСтойне Василев е финансов консултант\, създател на SmartMoney.bg – сайт за лични финанси и автор на книгата „Умни пари“. Има дългогодишен опит във финансовата сфера\, заемал е ръководни позиции в български и международни компании.\n\nСъбитието е безплатно\, с предварителна регистрация. \n\nМожеш да се включиш до 31.12.22 г.
URL:https://svobodnapraktika.com/event/%d0%be%d1%81%d0%bd%d0%be%d0%b2%d0%b8-%d0%b8%d0%bd%d0%b2%d0%b5%d1%81%d1%82%d0%b8%d1%86%d0%b8%d0%b8-%d0%bb%d0%b8%d1%87%d0%bd%d0%b8-%d1%84%d0%b8%d0%bd%d0%b0%d0%bd%d1%81%d0%b8
CATEGORIES:Онлайн събития
ORGANIZER;CN="InvestPRO":MAILTO:admin@investpro.bg
END:VEVENT
BEGIN:VEVENT
DTSTART;TZID=Europe/Helsinki:20221206T190000
DTEND;TZID=Europe/Helsinki:20221206T210000
DTSTAMP:20260423T130222
CREATED:20221109T101022Z
LAST-MODIFIED:20221109T101103Z
UID:14228-1670353200-1670360400@svobodnapraktika.com
SUMMARY:„Уроци от провала: как не се прави креативен бранд“ - уебинар
DESCRIPTION:Стартираш собствен бизнес и\, разбираемо\, имаш немалки очаквания към него. Виждаш успехите на някои свои конкуренти и си сигурен\, че можеш да се справиш също толкова добре. Започваш с ентусиазъм\, но бързо се убеждаваш\, че когато той прегори\, са ти нужни търпение и постоянство. \nУспешният бизнес е резултат от трудностите и неуспехите\, които те съпътстват ежедневно. Вероятно има много тънкости\, които\, биха спестили част от главоболията ти. На помощ ти идва уебинарът „Уроци от провала“. \nВключи се\, за да разбереш какви са грешките на един малък онлайн бизнес – „Мазно“ и как те са помогнали на магазина да се развие. Какви са поуките на създателите му и как да преминеш по-лесно през някои препятствия? Отговори получаваш от основателите на „Мазно“ – Кристиян Стефанов и Пламен Борисов. \nЗа кого е подходящо събитието\n\nЗа собственици на бизнес\, които са в началото на своето начинание.\n\nЛектори\n\nКристиян Стефанов и Пламен Борисов създават „Мазно“ – сайт за забавни картички и подаръци. Всеки от тях има опит в сферата на дигиталния маркетинг. Към момента Кристиян се развива като Data Engineer\, а Пламен – Front-end Developer.\n\nСъбитието е без такса\, с предварителна регистрация. \n 
URL:https://svobodnapraktika.com/event/%d1%83%d1%80%d0%be%d1%86%d0%b8-%d0%be%d1%82-%d0%bf%d1%80%d0%be%d0%b2%d0%b0%d0%bb%d0%b0-%d0%ba%d1%80%d0%b5%d0%b0%d1%82%d0%b8%d0%b2%d0%b5%d0%bd-%d0%b1%d1%80%d0%b0%d0%bd%d0%b4
CATEGORIES:Онлайн събития
ORGANIZER;CN="SoftUni%20Digital":MAILTO:digital@softuni.bg
END:VEVENT
BEGIN:VEVENT
DTSTART;VALUE=DATE:20221213
DTEND;VALUE=DATE:20221214
DTSTAMP:20260423T130222
CREATED:20221212T152610Z
LAST-MODIFIED:20221212T152610Z
UID:14362-1670889600-1670975999@svobodnapraktika.com
SUMMARY:„Marketing\, Sales & Customer Support“ – онлайн събитие
DESCRIPTION:Маркетингът е сферата\, в която искаш да се развиваш\, но осъзнаваш\, че без добра основа\, натрупани знания и поне някакъв опит трудно ще намериш своето място в агенциите. Започни с обучението\, дава ти полезни насоки и съвети. Освен това една от основните цели на „Career Show“ е да те срещне с работодатели\, така че може би именно това събитие ще очертае бъдещия ти професионален път. \nОт специалисти в областта на маркетинга научаваш: \n\nКакви са седемте ключови етапа в B2B продажбите – кои продажбени процеси трябва да следваш\, за да развиваш успешен бизнес.\nКаква е формулата на успеха – споделя ти я Ивайло Нецов – регионален мениджър за България\, bg.\nКак развитието на дигитален продукт развива самите нас – фокусът е върху иновативно приложение на Yettel\, което става част от ежедневието на служителите на компанията.\n\nОтвори сайта и разгледай програмата\, за да разбереш темите на предстоящите лекции. \nЗа кого е подходящо събитието?\n\nЗа бъдещи маркетолози.\n\nЛектори\n\nЛекторите са специалисти в различни сфери на дейност. Повече за тях научаваш от сайта на „Career Show“.\n\nУчастието е без такса\, с предварителна регистрация. \n 
URL:https://svobodnapraktika.com/event/marketing-sales-customer-support-%d0%be%d0%bd%d0%bb%d0%b0%d0%b9%d0%bd-%d1%81%d1%8a%d0%b1%d0%b8%d1%82%d0%b8%d0%b5
CATEGORIES:Онлайн събития
END:VEVENT
BEGIN:VEVENT
DTSTART;TZID=Europe/Helsinki:20221214T190000
DTEND;TZID=Europe/Helsinki:20221214T210000
DTSTAMP:20260423T130222
CREATED:20221130T110516Z
LAST-MODIFIED:20221130T110516Z
UID:14317-1671044400-1671051600@svobodnapraktika.com
SUMMARY:„Копирайтинг за социалните медии - възможности и предизвикателства“ - уебинар
DESCRIPTION:Бизнесът ти се развива\, но си наясно\, че можеш да поработиш върху представянето си в социалните мрежи. Не успяваш да ангажираш аудиторията си. Смяташ\, че има какво да подобриш\, полагаш усилия\, но се нуждаеш от ясна посока и по-добри идеи. Включи се в уебинара\, получаваш подробна информация за текстовете\, предназначени за различните социални мрежи. Лекторът споделя с теб много примери и разглежда предизвикателствата\, пред които е изправен малкият бизнес в сферата на социалните медии. \nАкцентът е върху: \n\nFacebook;\nLinkedIn;\nTwitter;\nInstagram.\n\nЗа кого е подходящо събитието\n\nЗа копирайтъри\, собственици на бизнес и всеки\, който сам управлява социалните си мрежи.\n\nЛектор\n\nНевена Милошева се занимава с дигитален маркетинг от над 13 години. Работила е за мултинационални компании\, а в момента е фрийлансър\, чийто фокус е върху копирайтинга за социални мрежи.\n\nУебинарът е без такса\, с предварителна регистрация. \n 
URL:https://svobodnapraktika.com/event/%d0%ba%d0%be%d0%bf%d0%b8%d1%80%d0%b0%d0%b9%d1%82%d0%b8%d0%bd%d0%b3-%d0%b7%d0%b0-%d1%81%d0%be%d1%86%d0%b8%d0%b0%d0%bb%d0%bd%d0%b8%d1%82%d0%b5-%d0%bc%d0%b5%d0%b4%d0%b8%d0%b8-%d0%b2%d1%8a
CATEGORIES:Онлайн събития
END:VEVENT
BEGIN:VEVENT
DTSTART;TZID=Europe/Helsinki:20221215T190000
DTEND;TZID=Europe/Helsinki:20221215T210000
DTSTAMP:20260423T130222
CREATED:20221212T140931Z
LAST-MODIFIED:20221212T140931Z
UID:14356-1671130800-1671138000@svobodnapraktika.com
SUMMARY:„Първи стъпки в имейл маркетинга за онлайн магазини“ - уебинар
DESCRIPTION:Кои дигитални канали използваш\, за да достигаш до клиентите си? Не са малко собствениците на бизнес\, които предпочитат платените реклами и пренебрегват изцяло възможностите\, които имейл маркетингът дава. Клиентите са ти важни – насочи усилията си в изграждането на лоялна аудитория. Включи се в обучението\, за да разбереш как да ползваш имейл маркетинга ефективно. От лектора научаваш: \n\nкаква е разликата между автоматизация и реклами;\nкоя платформа дава най-добри резултати;\nкои са първите стъпки\, които трябва да предприемеш;\nгрешките\, които трябва да избягваш.\n\nЗа кого е подходящо обучението\n\nЗа всички\, които все още не се възползват от възможностите на имейл маркетинга.\n\nЛектор\n\nМихаил Атанасов е създател на PROGS Agency – дигитална агенция\, която работи предимно с чуждестранни клиенти.\n\nУебинарът е без такса\, с предварителна регистрация.
URL:https://svobodnapraktika.com/event/%d0%b8%d0%bc%d0%b5%d0%b9%d0%bb-%d0%bc%d0%b0%d1%80%d0%ba%d0%b5%d1%82%d0%b8%d0%bd%d0%b3%d0%b0-%d0%be%d0%bd%d0%bb%d0%b0%d0%b9%d0%bd-%d0%bc%d0%b0%d0%b3%d0%b0%d0%b7%d0%b8%d0%bd%d0%b8
CATEGORIES:Онлайн събития
ORGANIZER;CN="SoftUni%20Digital":MAILTO:digital@softuni.bg
END:VEVENT
BEGIN:VEVENT
DTSTART;TZID=Europe/Helsinki:20221220T190000
DTEND;TZID=Europe/Helsinki:20221220T210000
DTSTAMP:20260423T130222
CREATED:20221218T235056Z
LAST-MODIFIED:20221218T235056Z
UID:14404-1671562800-1671570000@svobodnapraktika.com
SUMMARY:„Как се увеличaват приходите и поръчките чрез имейл маркетинг и автоматизации?“ - уебинар
DESCRIPTION:Не всеки собственик се възползва от възможностите\, които имейл маркетингът предлага. Ако и ти си от тях\, включи се в уебинара. Той ще ти даде яснота по темата. Освен това лекторът се фокусира и върху автоматизираните известия\, сред които: \n\nзабравена количка;\nразгледан продукт или категория;\nнамалена цена;\nпоздрав за рожден ден и др.\n\nВземи участие в уебинара\, за да научиш: \n\nкакви са видовете автоматизирани известия;\nкак да увеличиш средната стойност на поръчката;\nкак да измерваш успеха си.\n\nЗа кого е подходящо събитието\n\nЗа собственици на бизнес\n\nЛектор\n\nСмилен Смиленов е основател и изпълнителен директор на дигитална агенция IMPROVE.bg. Има опит в управлението на над 55 онлайн магазина и често е гост-лектор на събития\, посветени на дигиталния маркетинг.\n\nУчастието е без такса\, с предварителна регистрация.
URL:https://svobodnapraktika.com/event/%d1%83%d0%b2%d0%b5%d0%bb%d0%b8%d1%87%d0%b5%d0%bd%d0%b8%d0%b5-%d0%bf%d1%80%d0%b8%d1%85%d0%be%d0%b4%d0%b8-%d0%b8%d0%bc%d0%b5%d0%b9%d0%bb-%d0%bc%d0%b0%d1%80%d0%ba%d0%b5%d1%82%d0%b8%d0%bd%d0%b3
CATEGORIES:Онлайн събития
ORGANIZER;CN="SoftUni%20Digital":MAILTO:digital@softuni.bg
END:VEVENT
END:VCALENDAR