BEGIN:VCALENDAR
VERSION:2.0
PRODID:-//Свободна практика - ECPv6.0.13//NONSGML v1.0//EN
CALSCALE:GREGORIAN
METHOD:PUBLISH
X-WR-CALNAME:Свободна практика
X-ORIGINAL-URL:https://svobodnapraktika.com
X-WR-CALDESC:Events for Свободна практика
REFRESH-INTERVAL;VALUE=DURATION:PT1H
X-Robots-Tag:noindex
X-PUBLISHED-TTL:PT1H
BEGIN:VTIMEZONE
TZID:Europe/Helsinki
BEGIN:DAYLIGHT
TZOFFSETFROM:+0200
TZOFFSETTO:+0300
TZNAME:EEST
DTSTART:20210328T010000
END:DAYLIGHT
BEGIN:STANDARD
TZOFFSETFROM:+0300
TZOFFSETTO:+0200
TZNAME:EET
DTSTART:20211031T010000
END:STANDARD
BEGIN:DAYLIGHT
TZOFFSETFROM:+0200
TZOFFSETTO:+0300
TZNAME:EEST
DTSTART:20220327T010000
END:DAYLIGHT
BEGIN:STANDARD
TZOFFSETFROM:+0300
TZOFFSETTO:+0200
TZNAME:EET
DTSTART:20221030T010000
END:STANDARD
END:VTIMEZONE
BEGIN:VEVENT
DTSTART;TZID=Europe/Helsinki:20210414T100000
DTEND;TZID=Europe/Helsinki:20220414T120000
DTSTAMP:20260424T122032
CREATED:20210409T092115Z
LAST-MODIFIED:20210409T092234Z
UID:11316-1618394400-1649937600@svobodnapraktika.com
SUMMARY:Онлайн курс по графичен дизайн
DESCRIPTION:Имаш интереси в сферата на графичния дизайн и обмисляш да се развиваш професионално в областта. До момента си се самообучавал – следиш няколко YouTube канала и прилагаш наученото от видеата. Отделяш време\, за да се упражняваш\, но знаеш\, че има редица тънкости\, които все още ти убягват. Замисляш ли се да запишеш специализиран курс? Защо не разгледаш с какво може да ти е полезен този конкретно? Неговата цел е не толкова да те научи да ползваш софтуерни програми\, колкото да ти осигури всеобхватно обучение по дизайн. \nОсновните модули са:\n\nИстория на изкуството\, рисуване\, композиция и перспектива.\nВизуални изкуства – научаваш повече за фотографията и използването ѝ в дизайна.\nГрафичен дизайн – лекторът акцентира върху различните видове реклама.\nГрафични техники и печатни технологии – разбираш кои са основите на художественото оформление.\nAdobe Photoshop – сдобиваш се с базови познания за работа с програмата.\nAdobe Illustrator – разбираш как да използваш растерна и векторна графика в един проект.\nAdobe InDesign – работиш със страници\, рисуваш векторни обекти и научаваш принципите за създаване на книги\, списания и др.\nCorelDraw – вникваш в изграждането на цялостни дизайнерски решения с програмата.\nУеб технологии и анимации – получаваш информация за SEO и видоветете оптимизация; CMS системи и др.\n\nПо време на обучението трябва да изпълняваш различни практически задачи. Някои от тях са: \n\nсъздаване на малко списание;\nизработка на лого;\nнаправа на фирмени рекламни материали и др.\n\nВсички задачи\, както и подробна програма можеш да видиш в страницата на обучението. \nКурсът се провежда в рамките на една календарна година. В края му полагаш държавен изпит\, а ако го завършиш успешно\, получаваш диплома от МОН. Изискването към теб е да имаш завършено средно образование. \nЗа кого е подходящо събитието\n\nЗа всички\, които искат да получат обширни знания по графичен дизайн.\n\nЛектори\n\nЕмануела Станоева – специалист в областта на графичния дизайн и фотографията. Преподавател е от над 7 години.\nГеорги Благоев – графичен дизайнер. От 13 години работи в областта на печатната реклама.\n\nОбучението е платено\, с предварителна регистрация. \n\nМожеш да заплатиш таксата на 4 вноски.
URL:https://svobodnapraktika.com/event/%d0%be%d0%bd%d0%bb%d0%b0%d0%b9%d0%bd-%d0%ba%d1%83%d1%80%d1%81-%d0%bf%d0%be-%d0%b3%d1%80%d0%b0%d1%84%d0%b8%d1%87%d0%b5%d0%bd-%d0%b4%d0%b8%d0%b7%d0%b0%d0%b9%d0%bd
CATEGORIES:Онлайн събития
ORGANIZER;CN="%D0%A6%D0%9F%D0%9E%20%D0%9C%D1%83%D0%BB%D1%82%D0%B8%D1%82%D1%80%D0%B5%D0%B9%D0%BD%20%D0%9E%D0%9E%D0%94":MAILTO:office@multitrain.bg
END:VEVENT
BEGIN:VEVENT
DTSTART;TZID=Europe/Helsinki:20211209T190000
DTEND;TZID=Europe/Helsinki:20221231T200000
DTSTAMP:20260424T122032
CREATED:20211208T134704Z
LAST-MODIFIED:20211208T134704Z
UID:12475-1639076400-1672516800@svobodnapraktika.com
SUMMARY:Основи на инвестициите и личните финанси – безплатен онлайн курс
DESCRIPTION:Замисляш ли се за алтернативата да останеш без своята работа или клиенти? Днес имаш стабилни и/или регулярни доходи\, но няма как да си напълно сигурен\, че и утре ще е така. А какво е отношението ти към инвестициите? Може би вече си допуснал\, че това е твоят резервен план. Благодарение на Стойне Василев до теб достига немалко полезна информация по темата. Поредният ресурс е безплатният курс\, от който научаваш как да създадеш личен план\, за да управляваш финансите си. \nОсновните теми\, по които лекторът говори\, са: \n\nкакво ти пречи да постигаш целите си;\nкак да инвестираш като професионалист (влагане на средства в акции\, имоти\, кредити и др.);\nкак работят капиталовите пазари.\n\nВсички други акценти намери в програмата. Достатъчно детайлна е\, задължително я разгледай преди да решиш дали да се включиш. \nСамото обучение е уводната част към курсовете на InvestPRO\, в които можеш да участваш впоследствие\, ако пожелаеш. \nЗа кого е подходящо събитието\n\nЗа начинаещи\, които искат да започнат да управляват финансите си разумно.\nЗа напреднали\, които се колебаят дали да се включат в програмите на InvestPRO.\n\nЛектор\n\nСтойне Василев е финансов консултант\, създател на SmartMoney.bg – сайт за лични финанси и автор на книгата „Умни пари“. Има дългогодишен опит във финансовата сфера\, заемал е ръководни позиции в български и международни компании.\n\nСъбитието е безплатно\, с предварителна регистрация. \n\nМожеш да се включиш до 31.12.22 г.
URL:https://svobodnapraktika.com/event/%d0%be%d1%81%d0%bd%d0%be%d0%b2%d0%b8-%d0%b8%d0%bd%d0%b2%d0%b5%d1%81%d1%82%d0%b8%d1%86%d0%b8%d0%b8-%d0%bb%d0%b8%d1%87%d0%bd%d0%b8-%d1%84%d0%b8%d0%bd%d0%b0%d0%bd%d1%81%d0%b8
CATEGORIES:Онлайн събития
ORGANIZER;CN="InvestPRO":MAILTO:admin@investpro.bg
END:VEVENT
BEGIN:VEVENT
DTSTART;TZID=Europe/Helsinki:20220110T190000
DTEND;TZID=Europe/Helsinki:20220228T210000
DTSTAMP:20260424T122032
CREATED:20220108T163251Z
LAST-MODIFIED:20220108T163315Z
UID:12627-1641841200-1646082000@svobodnapraktika.com
SUMMARY:Онлайн курс: UX и уеб дизайн. HTML & CSS
DESCRIPTION:В дизайна откриваш своето професионално развитие\, наясно си с това. Работиш добре с няколко графични програми и надграждаш знанията и уменията си с различни курсове. UX е нещо сравнително ново за теб. Интересите ти обаче се простират и в тази сфера\, защото искаш да си наистина полезен на клиентите си. В такъв случай разгледай курса. По време на обучението преминаваш през всички стъпки от процеса на потребителското преживяване. А в края му можеш да изграждаш функционални страници\, ориентирани към потребителя. Провежда се в три различни модула: \n\nРабота с HTML и CSS – структура на HTML5 документите\, включване на CSS таблица и др.\nUX дизайн – дефиниране на цели и потребителски групи\, организация и визуализация на съдържанието и др.\nResponsive web design – изграждане на лендинг страница\, предизвикателства при преобразуване на визуалното съдържание в код и др.\n\nОнлайн събитието ти дава достъп до всички видеа\, освен това получаваш и обратна връзка от лектора преди всяко занятие. \nЗа кого е подходящо\n\nЗа дизайнери\, копирайтъри\, маркетолози.\n\nОбучението е с такса\, с предварителна регистрация. \n 
URL:https://svobodnapraktika.com/event/%d0%be%d0%bd%d0%bb%d0%b0%d0%b9%d0%bd-%d0%ba%d1%83%d1%80%d1%81-ux-%d0%b8-%d1%83%d0%b5%d0%b1-%d0%b4%d0%b8%d0%b7%d0%b0%d0%b9%d0%bd-html-css
CATEGORIES:Онлайн събития
ORGANIZER;CN="Devise%20Expert":MAILTO:info@expert-bg.org
END:VEVENT
BEGIN:VEVENT
DTSTART;TZID=Europe/Helsinki:20220203T190000
DTEND;TZID=Europe/Helsinki:20220203T210000
DTSTAMP:20260424T122032
CREATED:20220108T162751Z
LAST-MODIFIED:20220108T162751Z
UID:12620-1643914800-1643922000@svobodnapraktika.com
SUMMARY:Уебинар „Как да създаваме визуално съдържание с Canva?“
DESCRIPTION:Опитваш се да направиш бранда си по-разпознаваем и виждаш\, че трябва да поработиш върху дизайна. Идеята ти е да разчупиш визията на сайта и визията на профилите в социалните мрежи и търсиш подходяща платформа за целта. Очакваш да е лесна за боравене\, но същевременно да предлага разнообразни възможности. Canva отговаря на изискванията ти\, а най-хубавото е\, че чрез нея можеш да правиш дизайн на почти всичко – от постове в социални мрежи до презентации. Включи се в тричасовото обучение\, за да разбереш как да: \n\nдобавяш текст или елемент и да премахваш фон;\nанимираш изображенията;\nперсонализираш шаблоните и много други неща.\n\nЗа кого е подходящо събитието\n\nЗа всички\, които искат да създават свой дизайн.\n\nЛектор\n\nПетър Хаджиколев е специалист в сферата на маркетинга за социални медии в „1ForFit“. Компанията е единственият SMB партньор на Facebook за България.\n\nУебинарът е без такса\, с предварителна регистрация.
URL:https://svobodnapraktika.com/event/%d0%b2%d0%b8%d0%b7%d1%83%d0%b0%d0%bb%d0%bd%d0%be-%d1%81%d1%8a%d0%b4%d1%8a%d1%80%d0%b6%d0%b0%d0%bd%d0%b8%d0%b5-canva
CATEGORIES:Онлайн събития
ORGANIZER;CN="SoftUni%20Digital":MAILTO:digital@softuni.bg
END:VEVENT
BEGIN:VEVENT
DTSTART;TZID=Europe/Helsinki:20220203T190000
DTEND;TZID=Europe/Helsinki:20220203T210000
DTSTAMP:20260424T122032
CREATED:20220129T222621Z
LAST-MODIFIED:20220129T222621Z
UID:12752-1643914800-1643922000@svobodnapraktika.com
SUMMARY:Уебинар „First Step – YouTube video creation”
DESCRIPTION:Създаването на YouTube канал е предизвикателство\, в което си решил да се впуснеш. Може би имаш стратегия как да станеш популярен влогър или искаш да развиеш дейността на фирмата си като доставяш интересно съдържание на потребителите си. Изготвянето на едно видео обаче има своите тънкости и специфики. Добре е да си наясно с тях\, преди да се захванеш с работата по канала. Като за начало не пропускай да се включиш в уебинара\, за да научиш как да: \n\nзаснемаш и обработваш видеата си;\nизбираш теми за тях;\nсъобразяваш звука и осветлението с това\, което искаш да постигнеш.\n\nЗа кого е подходящо събитиет\n\nЗа всички\, които искат да развият YouTube канал.\n\nЛектор\n\nНиколай Николов е видеограф и създател на „Create Studios“. Клиенти на агенцията са български и международни компании.\n\nГледай записа безплатно\, с предварителна регистрация.
URL:https://svobodnapraktika.com/event/%d1%83%d0%b5%d0%b1%d0%b8%d0%bd%d0%b0%d1%80-first-step-youtube-video-creation
CATEGORIES:Онлайн събития
ORGANIZER;CN="SoftUni%20Creative":MAILTO:creative@softuni.bg
END:VEVENT
BEGIN:VEVENT
DTSTART;TZID=Europe/Helsinki:20220205T130000
DTEND;TZID=Europe/Helsinki:20220212T180000
DTSTAMP:20260424T122032
CREATED:20220119T121050Z
LAST-MODIFIED:20220119T121050Z
UID:12683-1644066000-1644688800@svobodnapraktika.com
SUMMARY:„Стартирай бизнес в променящия се свят“ – онлайн обучение
DESCRIPTION:Отскоро обмисляш интересна бизнес идея. Не само я намираш за вдъхновяваща\, но и вярваш\, че реализацията ѝ ще направи света по-добро място за живеене. Може би имаш решение за част от отпадъка\, който генерираме ежедневно\, или пък искаш да превърнеш любимо хоби в професия. С каквото и да си решил да се захванеш\, познанията относно развитието и популяризирането на бизнеси със сигурност ще са ти от полза. Затова\, ако отлагаш стартирането на начинанието от неувереност и неинформираност\, включи се в обучението. \nКурсът е разделен на два модула – „Предприемачество“ и „Маркетинг“. \nВ първата част научаваш: \n\nкак да се подготвиш за финансиране;\nкак да представиш проекта си;\nзащо създаването на стойност е важно;\nкак да позиционираш продукта си.\n\nПо време на втория модул разбираш: \n\nкаква е спецификата при маркетинга за стартъпи;\nкак да изградиш бранда си;\nкак да привличаш финансиране чрез маркетинг;\nкак да изградиш продажбена стратегия.\n\nАкцент в обучението са зелените идеи и тяхното финансиране. \nЗа кого е подходящо събитието\n\nЗа млади хора с вдъхновяващи идеи за стартъпи\, както и за професионалисти в различни области\, които искат да поставят началото на нов бизнес проект.\n\nЛектори\n\nЕмилиян Енев е част от екипа на Startup Factory и един от основателите на Българската стартъп асоциация (BESCO).\nЛенард Аданов е основател на агенция за „Видеопроизводство и маркетингови услуги“. Започва да преподава предприемачество на съучениците си едва на 16 години\, а година по-късно официално е предложен за позицията в собственото си училище.\nАдвокатско дружество „Миланова и партньори“ – представител на European Law Firm за страната.\nВ обучението се включват още и лектори от дизайн екипа на Startup Factory.\n\nСъбитието е платено\, с предварителна регистрация. \n\nС предимство си\, ако живееш в региона на Русе или в някой от малките градове в страната.\nОнлайн обучението се провежда всяка събота от 05.02 до 31.03.
URL:https://svobodnapraktika.com/event/%d0%b1%d0%b8%d0%b7%d0%bd%d0%b5%d1%81-%d0%bf%d1%80%d0%be%d0%bc%d0%b5%d0%bd%d1%8f%d1%89%d0%b8%d1%8f-%d1%81%d0%b5-%d1%81%d0%b2%d1%8f%d1%82
CATEGORIES:Онлайн събития
ORGANIZER;CN="Startup%20Factory":MAILTO:info@startupfactory.bg
END:VEVENT
BEGIN:VEVENT
DTSTART;TZID=Europe/Helsinki:20220213T183000
DTEND;TZID=Europe/Helsinki:20220221T203000
DTSTAMP:20260424T122032
CREATED:20220209T120925Z
LAST-MODIFIED:20220209T120925Z
UID:12815-1644777000-1645475400@svobodnapraktika.com
SUMMARY:Онлайн обучение по дигитален маркетинг
DESCRIPTION:Дигиталният маркетинг е основата\, без която онлайн бизнесът трудно би просъществувал. Добрата контент стратегия\, ефективното управление на социалните мрежи\, e-mail маркетингът – все необходими елементи за успеха на бизнеса. Независимо дали ти самият развиваш електронна търговия\, или си решил да се захванеш професионално с маркетинг\, безплатното обучение на Враца Софтуер Общество със сигурност ще ти е полезно. \nКакво можеш да очакваш от курса? \n\nПрактически ориентиран е\, а в края на всяко ниво полагаш изпит.\nПодходящ е за теб дори да си напълно начинаещ. Подготви се обаче за интензивно обучение.\nАко си сред най-добрите курсисти\, можеш да започнеш платен стаж в дигитална агенция\, партньор в организирането му.\n\nЗа кого е подходящо събитието\n\nЗа хора с интереси в областта на дигиталния маркетинг.\n\nУчастието ти е без такса\, с предварителна регистрация. \n\nЗапиши се не по-късно от 13.02.
URL:https://svobodnapraktika.com/event/%d0%be%d0%bd%d0%bb%d0%b0%d0%b9%d0%bd-%d0%be%d0%b1%d1%83%d1%87%d0%b5%d0%bd%d0%b8%d0%b5-%d0%bf%d0%be-%d0%b4%d0%b8%d0%b3%d0%b8%d1%82%d0%b0%d0%bb%d0%b5%d0%bd-%d0%bc%d0%b0%d1%80%d0%ba%d0%b5%d1%82%d0%b8
CATEGORIES:Онлайн събития
ORGANIZER;CN="%D0%92%D1%80%D0%B0%D1%86%D0%B0%20%D1%81%D0%BE%D1%84%D1%82%D1%83%D0%B5%D1%80%20%D0%BE%D0%B1%D1%89%D0%B5%D1%81%D1%82%D0%B2%D0%BE":MAILTO:school@vratsasoftware.com
END:VEVENT
BEGIN:VEVENT
DTSTART;TZID=Europe/Helsinki:20220215T190000
DTEND;TZID=Europe/Helsinki:20220215T210000
DTSTAMP:20260424T122032
CREATED:20220209T120743Z
LAST-MODIFIED:20220209T120743Z
UID:12819-1644951600-1644958800@svobodnapraktika.com
SUMMARY:„Успешни TikTok Marketing кампании за бизнеса“ - уебинар
DESCRIPTION:В TikTok много бизнеси виждат възможност за развитие\, но ти все още не се престрашаваш да използваш тази социална мрежа. Знаеш\, че има своите специфики и не си съвсем сигурен дали можеш да адаптираш бизнеса си към нея\, нито дали можеш да намериш клиенти. Освен това не искаш да инвестираш много време в разучаване на алгоритъм\, който не си сигурен\, че ще ти е от полза. Обучения като това са добре дошли за хора като теб. Изгледай записа на уебинара\, за да научиш: \n\nкаква е ролята на TikTok;\nкак работи алгоритъмът на мрежата;\nкак да създаваш полезно и интересно съдържание в нея.\n\nЗа кого е подходящо събитието\n\nЗа собственици на бизнес\, които не са работили с TikTok .\n\nЛектор\n\nНиколай Николов е маркетинг експерт\, който се специализира в сферата на TikTok маркетинга. В момента той развива профилите в мрежата на над 30 бранда в страната.\n\nСъбитието е без такса\, с предварителна регистрация. \n  \n 
URL:https://svobodnapraktika.com/event/%d1%83%d1%81%d0%bf%d0%b5%d1%88%d0%bd%d0%b8-tiktok-marketing-%d0%ba%d0%b0%d0%bc%d0%bf%d0%b0%d0%bd%d0%b8%d0%b8
CATEGORIES:Онлайн събития
ORGANIZER;CN="SoftUni%20Digital":MAILTO:digital@softuni.bg
END:VEVENT
BEGIN:VEVENT
DTSTART;TZID=Europe/Helsinki:20220222T193000
DTEND;TZID=Europe/Helsinki:20220222T210000
DTSTAMP:20260424T122032
CREATED:20220220T203841Z
LAST-MODIFIED:20220220T203841Z
UID:12854-1645558200-1645563600@svobodnapraktika.com
SUMMARY:SEO Copywriting for Dummies: как да пишем статии за хора и търсачки - уебинар
DESCRIPTION:Начинаещ копирайтър си и целиш да превърнеш това допълнително занимание в свое основно. Въпреки че си наясно с основните правила за писане за уеб\, участието в уебинара няма да ти е излишно. Включи се и ако развиваш сам онлайн бизнеса си и ти се налага сам да поддържаш блога във фирмения сайт. \nОт Ана Мария Ангелова научаваш: \n\nкои са основите на една добра статия;\nкакво означава добре структурирана статия – нагледен пример;\nзащо е важно да не пропускаш вътрешния link building и мета данните;\nкои инструменти са ти полезни при писането и др.\n\nЗа кого е подходящо събитието\n\nЗа начинаещи копирайтъри и собственици на бизнес.\n\nЛектор\n\nАна Мария Ангелова е маркетинг експерт в подкаста „Свръхчовекът с Георги Ненов“. Освен това е и SEO и Content Strategist в „EM DIGITAL“.\n\nСъбитието е без такса\, с предварителна регистрация.
URL:https://svobodnapraktika.com/event/seo-copywriting-%d0%bf%d0%b8%d1%88%d0%b5%d0%bc-%d0%b7%d0%b0-%d1%85%d0%be%d1%80%d0%b0-%d0%b8-%d1%82%d1%8a%d1%80%d1%81%d0%b0%d1%87%d0%ba%d0%b8
CATEGORIES:Онлайн събития
ORGANIZER;CN="SoftUni%20Digital":MAILTO:digital@softuni.bg
END:VEVENT
BEGIN:VEVENT
DTSTART;VALUE=DATE:20220225
DTEND;VALUE=DATE:20220226
DTSTAMP:20260424T122032
CREATED:20220209T120510Z
LAST-MODIFIED:20220209T120510Z
UID:12821-1645747200-1645833599@svobodnapraktika.com
SUMMARY:Онлайн хакатон „Подобряване на качеството на въздуха в България“
DESCRIPTION:Живееш в София и проблемът с качеството на въздуха не е просто поредната наболяла тема за теб. Пътуваш предимно с градски транспорт или дори с велосипед понякога\, но знаеш\, че личният ти пример не е достатъчен да промени средата. Нужни са незабавни мерки на институционално ниво. \nКакво би направил\, ако можеше да дадеш решение на проблема? Помисли по въпроса и сподели идеята си по време на хакатона. Може би точно тя ще се превърне в двигател на тази положителна и належаща промяна. \nКакво се иска от теб?\n\nДа решиш дали ще участваш сам или в отбор (до общо 5 души).\nДа обмислиш добре идеята си. В деня на събитието имаш 4 часа\, за да го направиш. Получаваш и напътствия от професионалисти в областта на устойчивото развитие.\nДа я представиш пред журито.\n\nВ края на събитието научаваш и дали ти самият си сред победителите. Освен това имаш възможност да спечелиш награди\, насочени към живот с по-малко емисии. \nПолезна информация\n\nЗа своя отправна точка можеш да вземеш проучването на Deloitte по поръчка на Clean Air Fund – „Въздействие на замърсяването на въздуха върху кариерните решения на висококвалифицираните работници в София“.\nВъпреки че фокусът на проучването е столицата\, твоята идея може да е насочена към подобряване на средата в който и да е друг голям български град.\n\nЗа кого е подходящо събитието\n\nЗа хора\, които искат да подобрят качеството на въздух в страната и имат идеи как да го направят.\n\nСъбитието е безплатно\, с предварителна регистрация. Излъчва се на живо във Фейсбук страницата на „Зелена София“. \n\nКандидатствай до 22.02. включително.
URL:https://svobodnapraktika.com/event/%d1%85%d0%b0%d0%ba%d0%b0%d1%82%d0%be%d0%bd-%d0%bf%d0%be%d0%b4%d0%be%d0%b1%d1%80%d1%8f%d0%b2%d0%b0%d0%bd%d0%b5-%d0%ba%d0%b0%d1%87%d0%b5%d1%81%d1%82%d0%b2%d0%be%d1%82%d0%be-%d0%b2%d1%8a%d0%b7%d0%b4
CATEGORIES:Онлайн събития
END:VEVENT
BEGIN:VEVENT
DTSTART;VALUE=DATE:20220226
DTEND;VALUE=DATE:20220328
DTSTAMP:20260424T122032
CREATED:20220129T222406Z
LAST-MODIFIED:20220129T222406Z
UID:12754-1645833600-1648425599@svobodnapraktika.com
SUMMARY:СофтУниада 2022 – онлайн състезание
DESCRIPTION:Ако все още си ученик\, обичаш предизвикателства\, а технологиите са твоята стихия\, не пропускай тазгодишното издание на СофтУниада. \nВключи се като: \n\nучастваш в състезателното програмиране – на 27.02. получаваш 10 задачи за 5 часа. Оценяването става в реално време;\nразработиш свое приложение (уеб\, мобилно или софтуерно) – защитата е на 27.02.\n\nРаботиш сам или в екип – ти избираш. Ако се представиш достатъчно добре\, получаваш парични и предметни награди\, както и възможност за кариерен старт. \nВъзрастовите групи са: \n\nмладша – до 16 години;\nстарша – над 16 години.\n\nИмай предвид\, че отборът ти може да е съставен от участници в различна възраст\, но ако дори един от тях е над 16 години\, причислявате се към старшата група. \nSoftUniada Kids\nПраво на изява и участие имат и най-малките. Възрастовата група при тях е от 7 до 12 години (първи – шести клас)\, а категориите са: \n\n„Образователна анимация със Scratch” – важно е да е презентирана по интересен начин и да има обучителен характер.\n„Хардуерен проект с Micro:bit“ – изискването е да е използвана платка и поне едно външно входно и едно външно изходно устройство.\n\nПредставянето е онлайн – на 26.02. \nЗа кого е подходящо събитието\n\nЗа ученици и студенти с интереси и познания в областта на програмирането.\n\nВключи се безплатно\, с предварителна регистрация. Кандидатствай със свой проект не по-късно от 08.02. включително. \n 
URL:https://svobodnapraktika.com/event/%d1%81%d0%be%d1%84%d1%82%d1%83%d0%bd%d0%b8%d0%b0%d0%b4%d0%b0-2022-%d0%be%d0%bd%d0%bb%d0%b0%d0%b9%d0%bd-%d1%81%d1%8a%d1%81%d1%82%d0%b5%d0%b7%d0%b0%d0%bd%d0%b8%d0%b5
CATEGORIES:Онлайн събития
ORGANIZER;CN="SoftUni%20Digital":MAILTO:digital@softuni.bg
END:VEVENT
END:VCALENDAR