BEGIN:VCALENDAR
VERSION:2.0
PRODID:-//Свободна практика - ECPv6.0.13//NONSGML v1.0//EN
CALSCALE:GREGORIAN
METHOD:PUBLISH
X-ORIGINAL-URL:https://svobodnapraktika.com
X-WR-CALDESC:Events for Свободна практика
REFRESH-INTERVAL;VALUE=DURATION:PT1H
X-Robots-Tag:noindex
X-PUBLISHED-TTL:PT1H
BEGIN:VTIMEZONE
TZID:Europe/Helsinki
BEGIN:DAYLIGHT
TZOFFSETFROM:+0200
TZOFFSETTO:+0300
TZNAME:EEST
DTSTART:20210328T010000
END:DAYLIGHT
BEGIN:STANDARD
TZOFFSETFROM:+0300
TZOFFSETTO:+0200
TZNAME:EET
DTSTART:20211031T010000
END:STANDARD
BEGIN:DAYLIGHT
TZOFFSETFROM:+0200
TZOFFSETTO:+0300
TZNAME:EEST
DTSTART:20220327T010000
END:DAYLIGHT
BEGIN:STANDARD
TZOFFSETFROM:+0300
TZOFFSETTO:+0200
TZNAME:EET
DTSTART:20221030T010000
END:STANDARD
END:VTIMEZONE
BEGIN:VEVENT
DTSTART;TZID=Europe/Helsinki:20210414T100000
DTEND;TZID=Europe/Helsinki:20220414T120000
DTSTAMP:20260425T045416
CREATED:20210409T092115Z
LAST-MODIFIED:20210409T092234Z
UID:11316-1618394400-1649937600@svobodnapraktika.com
SUMMARY:Онлайн курс по графичен дизайн
DESCRIPTION:Имаш интереси в сферата на графичния дизайн и обмисляш да се развиваш професионално в областта. До момента си се самообучавал – следиш няколко YouTube канала и прилагаш наученото от видеата. Отделяш време\, за да се упражняваш\, но знаеш\, че има редица тънкости\, които все още ти убягват. Замисляш ли се да запишеш специализиран курс? Защо не разгледаш с какво може да ти е полезен този конкретно? Неговата цел е не толкова да те научи да ползваш софтуерни програми\, колкото да ти осигури всеобхватно обучение по дизайн. \nОсновните модули са:\n\nИстория на изкуството\, рисуване\, композиция и перспектива.\nВизуални изкуства – научаваш повече за фотографията и използването ѝ в дизайна.\nГрафичен дизайн – лекторът акцентира върху различните видове реклама.\nГрафични техники и печатни технологии – разбираш кои са основите на художественото оформление.\nAdobe Photoshop – сдобиваш се с базови познания за работа с програмата.\nAdobe Illustrator – разбираш как да използваш растерна и векторна графика в един проект.\nAdobe InDesign – работиш със страници\, рисуваш векторни обекти и научаваш принципите за създаване на книги\, списания и др.\nCorelDraw – вникваш в изграждането на цялостни дизайнерски решения с програмата.\nУеб технологии и анимации – получаваш информация за SEO и видоветете оптимизация; CMS системи и др.\n\nПо време на обучението трябва да изпълняваш различни практически задачи. Някои от тях са: \n\nсъздаване на малко списание;\nизработка на лого;\nнаправа на фирмени рекламни материали и др.\n\nВсички задачи\, както и подробна програма можеш да видиш в страницата на обучението. \nКурсът се провежда в рамките на една календарна година. В края му полагаш държавен изпит\, а ако го завършиш успешно\, получаваш диплома от МОН. Изискването към теб е да имаш завършено средно образование. \nЗа кого е подходящо събитието\n\nЗа всички\, които искат да получат обширни знания по графичен дизайн.\n\nЛектори\n\nЕмануела Станоева – специалист в областта на графичния дизайн и фотографията. Преподавател е от над 7 години.\nГеорги Благоев – графичен дизайнер. От 13 години работи в областта на печатната реклама.\n\nОбучението е платено\, с предварителна регистрация. \n\nМожеш да заплатиш таксата на 4 вноски.
URL:https://svobodnapraktika.com/event/%d0%be%d0%bd%d0%bb%d0%b0%d0%b9%d0%bd-%d0%ba%d1%83%d1%80%d1%81-%d0%bf%d0%be-%d0%b3%d1%80%d0%b0%d1%84%d0%b8%d1%87%d0%b5%d0%bd-%d0%b4%d0%b8%d0%b7%d0%b0%d0%b9%d0%bd
CATEGORIES:Онлайн събития
ORGANIZER;CN="%D0%A6%D0%9F%D0%9E%20%D0%9C%D1%83%D0%BB%D1%82%D0%B8%D1%82%D1%80%D0%B5%D0%B9%D0%BD%20%D0%9E%D0%9E%D0%94":MAILTO:office@multitrain.bg
END:VEVENT
BEGIN:VEVENT
DTSTART;TZID=Europe/Helsinki:20211102T190000
DTEND;TZID=Europe/Helsinki:20211102T210000
DTSTAMP:20260425T045416
CREATED:20211029T085957Z
LAST-MODIFIED:20211029T085957Z
UID:12267-1635879600-1635886800@svobodnapraktika.com
SUMMARY:„Кога изграждането на бранд среща Ecommerce стратегията?“ – онлайн обучение
DESCRIPTION:Предлагаш качествени продукти и си наясно\, че се харесват на потребителите. Фокусът ти е насочен предимно към повишаване на продажбите. На заден план обаче остава идеята\, която те е вдъхновила да се захванеш с това занимание. Замислял ли си се къде е нейното място в представянето ти и в бизнеса? Ако не си\, уебинарът е точно за теб. Лекторът ти дава отговор на този въпрос. Научаваш още и защо: \n\nизграждането на бранд е основополагащо за успеха;\nкачеството на продуктите е не по-малко важно от името зад тях\, дългосрочните цели и комуникацията с клиентите.\n\nЗа кого е подходящо събитието\n\nЗа собственици на бизнес\, маркетолози\, фрийлансъри\, копирайтъри.\n\nЛектор\n\nВилиян Милчев се занимава с онлайн търговия и маркетинг от около 10 години. Работил е върху собствени и чужди проекти. През последните три години е фокусиран изцяло върху изграждането на бранд стратегии.\n\nСъбитието се излъчва на живо и е без такса\, но е с предварителна регистрация.
URL:https://svobodnapraktika.com/event/%d0%ba%d0%be%d0%b3%d0%b0-%d0%b8%d0%b7%d0%b3%d1%80%d0%b0%d0%b6%d0%b4%d0%b0%d0%bd%d0%b5%d1%82%d0%be-%d0%bd%d0%b0-%d0%b1%d1%80%d0%b0%d0%bd%d0%b4-%d1%81%d1%80%d0%b5%d1%89%d0%b0-ecommerce-%d1%81
CATEGORIES:Онлайн събития
ORGANIZER;CN="SoftUni%20Digital":MAILTO:digital@softuni.bg
END:VEVENT
BEGIN:VEVENT
DTSTART;TZID=Europe/Helsinki:20211105T183000
DTEND;TZID=Europe/Helsinki:20211108T210000
DTSTAMP:20260425T045416
CREATED:20211010T194826Z
LAST-MODIFIED:20211010T194826Z
UID:12162-1636137000-1636405200@svobodnapraktika.com
SUMMARY:Въведение в графичния дизайн – онлайн курс
DESCRIPTION:Все по-често се улавяш как отваряш Photoshop и се заиграваш със снимките от последните почивни дни. Гледаш обучителни видеа и лека-полека научаваш по нещо ново\, което прилагаш и на практика. Увлича те графичния дизайн и дори обмисляш да се преквалифицираш. Дали обаче това занимание е наистина подходящо за теб? Безплатният курс на Нет Ит ще ти даде по-голяма яснота. \nЗапиши го\, за да:\n\nразбереш кои са основните софтуерни продукти на Adobe Creative Cloud;\nсе запознаеш с основните композиционните принципи;\nнаучиш как да създаваш банер и изображения за Facebook;\nразвиеш креативността си.\n\nВ края на обучението можеш да положиш изпит и ако изкараш добра оценка – да запишеш следващото ниво. \nЗа кого е подходящо събитието\n\nЗа всички\, които искат да се занимават с графичен дизайн.\n\nУчастието е без такса\, с предварителна регистрация. \n\nИзпитът се заплаща\, цената е 95 лв. с включено ДДС.
URL:https://svobodnapraktika.com/event/%d0%b2%d1%8a%d0%b2%d0%b5%d0%b4%d0%b5%d0%bd%d0%b8%d0%b5-%d0%b2-%d0%b3%d1%80%d0%b0%d1%84%d0%b8%d1%87%d0%bd%d0%b8%d1%8f-%d0%b4%d0%b8%d0%b7%d0%b0%d0%b9%d0%bd-%d0%be%d0%bd%d0%bb%d0%b0%d0%b9%d0%bd
CATEGORIES:Онлайн събития
END:VEVENT
BEGIN:VEVENT
DTSTART;TZID=Europe/Helsinki:20211112T190000
DTEND;TZID=Europe/Helsinki:20211114T220000
DTSTAMP:20260425T045416
CREATED:20211029T085837Z
LAST-MODIFIED:20211029T085837Z
UID:12265-1636743600-1636927200@svobodnapraktika.com
SUMMARY:„Marketing Basics” – безплатен онлайн курс
DESCRIPTION:Развиваш онлайн магазин отскоро и виждаш\, че има върху какво да поработиш. Резултатите не отговарят на очакванията ти. Това не те изненадва\, ти самият осъзнаваш\, че действията ти са по-скоро хаотични. Липсва ти цялостен план\, който да следваш – стъпка по стъпка\, за да достигнеш до задоволителен резултат. Разгледай курсa „Marketing Basics“ – предлага ти да усвоиш ключови концепции. Всяко занятие е свързано с останалите\, а в края на обучението ще си наясно как да: \n\nопределиш целевата си аудитория;\nизградиш бранд;\nпланираш и подобряваш дейностите си.\n\nВ програмата са включени и две работилници – учиш се как да създаваш: \n\nBusiness Model Canvas за реален бизнес;\nмаркетинг план.\n\nЗа кого е подходящо събитието\n\nЗа собственици на бизнес и хора\, които искат да се занимават с дигитален маркетинг.\n\nЛектор\n\nАлександър Иванов е изпълнителен директор на „CreateX Digital Agency“ и част от екипа на SoftUni Digital. Основател е и на медийна група „Дигитално дело“ и е преподавател по програмата „Заедно в час“.\n\nСъбитието е безплатно\, с предварителна регистрация. Изпитът в края на курса се заплаща: \n\n50 лв.\, ако се явиш до 25.11.\n100 лв.\, ако се явиш след тази дата.
URL:https://svobodnapraktika.com/event/marketing-basics-%d0%b1%d0%b5%d0%b7%d0%bf%d0%bb%d0%b0%d1%82%d0%b5%d0%bd-%d0%be%d0%bd%d0%bb%d0%b0%d0%b9%d0%bd-%d0%ba%d1%83%d1%80%d1%81
CATEGORIES:Онлайн събития
ORGANIZER;CN="SoftUni%20Digital":MAILTO:digital@softuni.bg
END:VEVENT
BEGIN:VEVENT
DTSTART;TZID=Europe/Helsinki:20211115T093000
DTEND;TZID=Europe/Helsinki:20211115T130000
DTSTAMP:20260425T045416
CREATED:20211109T081228Z
LAST-MODIFIED:20211109T081228Z
UID:12338-1636968600-1636981200@svobodnapraktika.com
SUMMARY:„Онлайн продажби – нормативни изисквания“ - уебинар
DESCRIPTION:От известно време сериозно обмисляш идеята да се захванеш със собствен онлайн бизнес. Мисълта за новото начинание е окриляваща\, но изпълнението му поражда и безброй въпроси – от това с какво точно да се занимаваш до това къде да хостваш магазина си. На някои от тях получаваш отговор по време на обучението. Полезно ти е\, защото лекторът обсъжда най-често срещаните казуси при стартиране на електронна търговия. \nАкцентите са върху: \n\nмеханизмите за извършване на онлайн продажби;\nспецификите при сключване на договори;\nновостите покрай Наредба Н-18;\nизискванията за защита на потребителите и др.\n\nВ края на уебинара е предвидено време за дискусия. Ако имаш въпроси\, можеш да ги зададеш. \nЗа кого е подходящо събитието\n\nЗа всички\, които планират да създадат свой електронен магазин.\n\nОбучението е с такса\, с предварителна регистрация. \n\nЦената е без включено ДДС.
URL:https://svobodnapraktika.com/event/%d0%be%d0%bd%d0%bb%d0%b0%d0%b9%d0%bd-%d0%bf%d1%80%d0%be%d0%b4%d0%b0%d0%b6%d0%b1%d0%b8-%d0%b8%d0%b7%d0%b8%d1%81%d0%ba%d0%b2%d0%b0%d0%bd%d0%b8%d1%8f
CATEGORIES:Онлайн събития
ORGANIZER;CN="Expert%20Events":MAILTO:events@expertevents.bg
END:VEVENT
BEGIN:VEVENT
DTSTART;VALUE=DATE:20211119
DTEND;VALUE=DATE:20211120
DTSTAMP:20260425T045416
CREATED:20211109T081015Z
LAST-MODIFIED:20211109T081015Z
UID:12342-1637280000-1637366399@svobodnapraktika.com
SUMMARY:„Продажби и преговори с хипермаркети“ - хибридно събитие
DESCRIPTION:Ти си малък производител\, който работи с желание и предлага наистина качествени продукти. Клиентите ти са доволни и бизнесът ти лека-полека се разраства. Правиш следващата крачка и започваш да снабсяваш локални търговски обекти с продуктите си. Стоките се харесват\, търсят се и се питаш дали не е време да се появиш на регалите в супермаркетите. Преди да се въвлечеш в това нелеко начинание\, обмисли добре плюсовете и минусите. Професионално мнение също ти е от полза – получаваш го по време на уебинара. Включи се онлайн или на живо\, за да разбереш какви са спецификите при работата с големите търговски вериги. \nМалка част от темите\, които се дискутират\, са: \n\nкога една компания е готова да продава в хипермаркет;\nкакво би струвало обслужването в %;\nколко можеш да дадеш и какво получаваш обратно;\nкак да договориш печеливши условия;\nкакви са работещите и неработещите реклами и промоции и др.\n\nРазгледай цялата програма в сайта – обучението е целодневно\, обхваща много теми и е добре предварително да разбереш какво включват отделните панели. \nЗа кого е подходящо\n\nЗа малки и средни производители\, които искат продуктите им да достигнат до хипермаркетите.\n\nОбучението е платено\, с предварителна регистрация. \n\nЦената е без включено ДДС.
URL:https://svobodnapraktika.com/event/%d0%bf%d1%80%d0%be%d0%b4%d0%b0%d0%b6%d0%b1%d0%b8-%d0%b8-%d0%bf%d1%80%d0%b5%d0%b3%d0%be%d0%b2%d0%be%d1%80%d0%b8-%d1%81-%d1%85%d0%b8%d0%bf%d0%b5%d1%80%d0%bc%d0%b0%d1%80%d0%ba%d0%b5%d1%82%d0%b8
LOCATION:Парк Хотел Витоша\, ул. Росарио 1
CATEGORIES:Онлайн събития,София
ORGANIZER;CN="%D0%94%D0%B8%D1%82%D0%B5%D1%80%D0%B0%D0%BC%D0%B1%20%D0%9A%D0%BE%D0%BD%D1%81%D1%83%D0%BB%D1%82%20%D0%95%D0%9E%D0%9E%D0%94":MAILTO:office@diterambconsult.com
END:VEVENT
BEGIN:VEVENT
DTSTART;TZID=Europe/Helsinki:20211130T190000
DTEND;TZID=Europe/Helsinki:20211130T210000
DTSTAMP:20260425T045416
CREATED:20211129T093401Z
LAST-MODIFIED:20211129T100252Z
UID:12389-1638298800-1638306000@svobodnapraktika.com
SUMMARY:„Афилиейт Маркетинг: кaк работи\, какви са предимствата и откъде да започнем“ – онлайн обучение
DESCRIPTION:Питаш се как да монетизираш блога си. Пишеш за неща\, които те вълнуват\, изградил си своя кръг от читатели и мислиш\, че е подходящ момент да развиеш сайта и в тази насока. \nАфилией маркетингът е добро решение. Но преди да се захванеш с него\, трябва да си зададеш един куп въпроси: „Как да намеря търговци?“\, „Към кои фирми да се насоча?“\, „Откъде да започна изобщо?“. Отговори на някои от тях\, а и на много други\, получаваш от обучението. От лектора научаваш: \n\nкакво точно представлява този вид маркетинг;\nкои са основните източни на трафик;\nкакви са тенденциите в сферата и др.\n\nЗа кого е подходящо събитието\n\nЗа блогъри\, маркетолози и всички\, които проявяват интерес към афилиейт маркетинга.\n\nЛектор\n\nАлександра Кисова работи като маркетинг мениджър в „DarkSide Management“. Фокусът ѝ е насочен към социалните медии.\n\nГледаш излъчването на събитието безплатно\, с предварителна регистрация.
URL:https://svobodnapraktika.com/event/%d0%b0%d1%84%d0%b8%d0%bb%d0%b8%d0%b5%d0%b9%d1%82-%d0%bc%d0%b0%d1%80%d0%ba%d0%b5%d1%82%d0%b8%d0%bd%d0%b3-%d0%be%d1%82%d0%ba%d1%8a%d0%b4%d0%b5-%d0%b4%d0%b0-%d0%b7%d0%b0%d0%bf%d0%be%d1%87%d0%bd%d0%b5
CATEGORIES:Онлайн събития
ORGANIZER;CN="SoftUni%20Digital":MAILTO:digital@softuni.bg
END:VEVENT
END:VCALENDAR