BEGIN:VCALENDAR
VERSION:2.0
PRODID:-//Свободна практика - ECPv6.0.13//NONSGML v1.0//EN
CALSCALE:GREGORIAN
METHOD:PUBLISH
X-WR-CALNAME:Свободна практика
X-ORIGINAL-URL:https://svobodnapraktika.com
X-WR-CALDESC:Events for Свободна практика
REFRESH-INTERVAL;VALUE=DURATION:PT1H
X-Robots-Tag:noindex
X-PUBLISHED-TTL:PT1H
BEGIN:VTIMEZONE
TZID:Europe/Helsinki
BEGIN:DAYLIGHT
TZOFFSETFROM:+0200
TZOFFSETTO:+0300
TZNAME:EEST
DTSTART:20210328T010000
END:DAYLIGHT
BEGIN:STANDARD
TZOFFSETFROM:+0300
TZOFFSETTO:+0200
TZNAME:EET
DTSTART:20211031T010000
END:STANDARD
BEGIN:DAYLIGHT
TZOFFSETFROM:+0200
TZOFFSETTO:+0300
TZNAME:EEST
DTSTART:20220327T010000
END:DAYLIGHT
BEGIN:STANDARD
TZOFFSETFROM:+0300
TZOFFSETTO:+0200
TZNAME:EET
DTSTART:20221030T010000
END:STANDARD
END:VTIMEZONE
BEGIN:VEVENT
DTSTART;TZID=Europe/Helsinki:20210414T100000
DTEND;TZID=Europe/Helsinki:20220414T120000
DTSTAMP:20260425T222348
CREATED:20210409T092115Z
LAST-MODIFIED:20210409T092234Z
UID:11316-1618394400-1649937600@svobodnapraktika.com
SUMMARY:Онлайн курс по графичен дизайн
DESCRIPTION:Имаш интереси в сферата на графичния дизайн и обмисляш да се развиваш професионално в областта. До момента си се самообучавал – следиш няколко YouTube канала и прилагаш наученото от видеата. Отделяш време\, за да се упражняваш\, но знаеш\, че има редица тънкости\, които все още ти убягват. Замисляш ли се да запишеш специализиран курс? Защо не разгледаш с какво може да ти е полезен този конкретно? Неговата цел е не толкова да те научи да ползваш софтуерни програми\, колкото да ти осигури всеобхватно обучение по дизайн. \nОсновните модули са:\n\nИстория на изкуството\, рисуване\, композиция и перспектива.\nВизуални изкуства – научаваш повече за фотографията и използването ѝ в дизайна.\nГрафичен дизайн – лекторът акцентира върху различните видове реклама.\nГрафични техники и печатни технологии – разбираш кои са основите на художественото оформление.\nAdobe Photoshop – сдобиваш се с базови познания за работа с програмата.\nAdobe Illustrator – разбираш как да използваш растерна и векторна графика в един проект.\nAdobe InDesign – работиш със страници\, рисуваш векторни обекти и научаваш принципите за създаване на книги\, списания и др.\nCorelDraw – вникваш в изграждането на цялостни дизайнерски решения с програмата.\nУеб технологии и анимации – получаваш информация за SEO и видоветете оптимизация; CMS системи и др.\n\nПо време на обучението трябва да изпълняваш различни практически задачи. Някои от тях са: \n\nсъздаване на малко списание;\nизработка на лого;\nнаправа на фирмени рекламни материали и др.\n\nВсички задачи\, както и подробна програма можеш да видиш в страницата на обучението. \nКурсът се провежда в рамките на една календарна година. В края му полагаш държавен изпит\, а ако го завършиш успешно\, получаваш диплома от МОН. Изискването към теб е да имаш завършено средно образование. \nЗа кого е подходящо събитието\n\nЗа всички\, които искат да получат обширни знания по графичен дизайн.\n\nЛектори\n\nЕмануела Станоева – специалист в областта на графичния дизайн и фотографията. Преподавател е от над 7 години.\nГеорги Благоев – графичен дизайнер. От 13 години работи в областта на печатната реклама.\n\nОбучението е платено\, с предварителна регистрация. \n\nМожеш да заплатиш таксата на 4 вноски.
URL:https://svobodnapraktika.com/event/%d0%be%d0%bd%d0%bb%d0%b0%d0%b9%d0%bd-%d0%ba%d1%83%d1%80%d1%81-%d0%bf%d0%be-%d0%b3%d1%80%d0%b0%d1%84%d0%b8%d1%87%d0%b5%d0%bd-%d0%b4%d0%b8%d0%b7%d0%b0%d0%b9%d0%bd
CATEGORIES:Онлайн събития
ORGANIZER;CN="%D0%A6%D0%9F%D0%9E%20%D0%9C%D1%83%D0%BB%D1%82%D0%B8%D1%82%D1%80%D0%B5%D0%B9%D0%BD%20%D0%9E%D0%9E%D0%94":MAILTO:office@multitrain.bg
END:VEVENT
BEGIN:VEVENT
DTSTART;VALUE=DATE:20211005
DTEND;VALUE=DATE:20211006
DTSTAMP:20260425T222348
CREATED:20210920T085121Z
LAST-MODIFIED:20210920T085121Z
UID:12043-1633392000-1633478399@svobodnapraktika.com
SUMMARY:Хибриден форум E-commerce summit 2021
DESCRIPTION:Развиваш онлайн магазин от доста време и забелязваш как се променя електронната търговия през последната година и половина. Конкуренцията ти расте\, появяват се нови магазини\, а ти трябва да се адаптираш бързо\, за да задържиш клиентите си. Невинаги знаеш как да постъпиш. Участвай в събитието\, за да намериш отговор на поне част от въпросите ти. Полезно е\, защото очертава тенденциите през идната година\, а от лекторите научаваш: \n\nкак да привличаш и задържаш нови потребители;\nкак да подобриш тяхното преживяване в сайта;\nкак да разраснеш бизнеса си;\nзащо брандингът е толкова важен;\nкак да предвиждаш продажби по ключови думи и др.\n\nВиж програмата в сайта\, за да разбереш кои са другите лекции. \nЗа кого е подходящ форумът\n\nЗа собственици на онлайн магазини.\n\nЛектори\n\nЛекторите са мениджъри и основатели на наложи ли се вече фирми или бързо развиващи се компании.\n\nВходът е платен\, с предварителна регистрация. \nМожеш да присъстваш виртуално или на живо: \n\nонлайн билет – 80 лв.\nстандартен – 160 лв.\nпакет от 3 билета: 399 лв.\n\nВсички цени са без ДДС. \n 
URL:https://svobodnapraktika.com/event/%d1%85%d0%b8%d0%b1%d1%80%d0%b8%d0%b4%d0%b5%d0%bd-%d1%84%d0%be%d1%80%d1%83%d0%bc-e-commerce-summit-2021
LOCATION:Интерпред\, бул. "Драган Цанков" 36\, София\, Bulgaria
CATEGORIES:Онлайн събития,София
END:VEVENT
BEGIN:VEVENT
DTSTART;TZID=Europe/Helsinki:20211014T190000
DTEND;TZID=Europe/Helsinki:20211014T210000
DTSTAMP:20260425T222348
CREATED:20211010T195241Z
LAST-MODIFIED:20211010T195241Z
UID:12159-1634238000-1634245200@svobodnapraktika.com
SUMMARY:„TikTok маркетинг стратегия\, която всеки бизнес трябва да има“ - уебинар
DESCRIPTION:Имаш свой бизнес или предлагаш услуги\, а част от клиентите ти се свързват с теб чрез социалните мрежи. Сам развиваш профилите си в платформите. Интересно и приятно ти е. Забавляваш се\, последователите ти също. Намерил си вярната рецепта\, но си наясно и че аудиторията на всяка социална мрежа има свои изисквания\, към които трябва да се адаптираш. Това важи и за TikTok. Платформата придобива все по-голяма популярност\, затова си решил да присъстваш и в нея. Ако е така\, не пропускай уебинара\, за да разбереш: \n\nдо кои потребители можеш да достигнеш;\nкак да използваш трендовете в своя полза;\nкак да заснемеш видео за мрежата и др.\n\nВиж програмата на събитието\, за да разбереш кои са останалите акценти. \nЗа кого е подходящо\n\nЗа собственици на бизнес\, специалисти на свободна практика и маркетолози.\n\nЛектор\n\nКатерина Николич е маркетинг експерт в SoftUni. Развива и свой личен профил в Instagram. Работи успешно и с брандове\, и с инфлуенсъри.\n\nГледай записа на събитието безплатно\, но се регистрирай предварително. \n 
URL:https://svobodnapraktika.com/event/tiktok-%d0%bc%d0%b0%d1%80%d0%ba%d0%b5%d1%82%d0%b8%d0%bd%d0%b3-%d1%81%d1%82%d1%80%d0%b0%d1%82%d0%b5%d0%b3%d0%b8%d1%8f-%d1%83%d0%b5%d0%b1%d0%b8%d0%bd%d0%b0%d1%80
CATEGORIES:Онлайн събития
ORGANIZER;CN="SoftUni%20Digital":MAILTO:digital@softuni.bg
END:VEVENT
BEGIN:VEVENT
DTSTART;TZID=Europe/Helsinki:20211019T190000
DTEND;TZID=Europe/Helsinki:20211019T210000
DTSTAMP:20260425T222348
CREATED:20211010T195034Z
LAST-MODIFIED:20211010T195034Z
UID:12154-1634670000-1634677200@svobodnapraktika.com
SUMMARY:„Как да създаваме блог постове\, които се класират в Google?“ - уебинар
DESCRIPTION:Имаш малък онлайн магазин\, проучил си ползите от водене на блог към него и си решил да се захванеш с тази задача. Пишеш добре\, а и познаваш бизнеса си – знаеш\, че можеш да си наистина полезен на целевата си аудитория. Един от въпросите\, който със сигурност си задаваш\, е можеш ли да достигаш по-лесно и по-бързо до клиентите си. Важно ти е да можеш да оптимизираш съдържанието\, което публикуваш.  Как? Този уебинар е част от отговора. От лектора научаваш и как да: \n\nтърсиш и подбираш ключови думи;\nпроверяваш съдържанието си по тях;\n\nЗа кого е подходящо събитието\n\nЗа собственици на бизнес\, маркетолози и копирайтъри.\n\nЛектор\n\nГеорги Тодоров е работил като SEO Manager в „Semrush“\, а към момента поддържа thrivemyway.com – сайт\, от който можеш да научиш как да създаваш стратегии за дигитален маркетинг.\n\nГледай записа на събитието безплатно\, но се регистрирай предварително.
URL:https://svobodnapraktika.com/event/%d1%81%d1%8a%d0%b7%d0%b4%d0%b0%d0%b2%d0%b0%d0%bd%d0%b5-%d0%bd%d0%b0-%d0%b1%d0%bb%d0%be%d0%b3-%d0%bf%d0%be%d1%81%d1%82%d0%be%d0%b2%d0%b5-%d0%ba%d0%bb%d0%b0%d1%81%d0%b8%d1%80%d0%b0%d1%82-google
CATEGORIES:Онлайн събития
ORGANIZER;CN="SoftUni%20Digital":MAILTO:digital@softuni.bg
END:VEVENT
BEGIN:VEVENT
DTSTART;TZID=Europe/Helsinki:20211021T190000
DTEND;TZID=Europe/Helsinki:20211021T210000
DTSTAMP:20260425T222348
CREATED:20211020T083003Z
LAST-MODIFIED:20211020T083003Z
UID:12215-1634842800-1634850000@svobodnapraktika.com
SUMMARY:„Откъде идват идеите“ - уебинар
DESCRIPTION:Занимаваш се с писане\, дизайн\, рисуване или друга творческа дейност. Работиш с лекота\, когато имаш добра идея. Но са ти познати и онези моменти\, в които седиш и чакаш вдъхновението да се появи\, а то така и не идва. Само че работата трябва да бъде свършена. Какво правиш в тези ситуации? Интересна гледна точка ти дава уебинарът. Лекторът споделя с теб: \n\nкакво представлява голямата идея и как да я познаеш;\nкак да постъпиш\, когато нямаш вдъхновение;\nкакви хрумки лежат в основата на някои от успешните рекламни кампании.\n\nЗа кого е подходящо събитието\n\nЗа хора с творчески професии\, копирайтъри\, рекламисти.\n\nЛектор\n\nАлександър Братимиров е един от основателите на рекламна агенция Human. Работил е в Saatchi&Saatchi като копирайтър\, а в последствие и като творчески директор.\n\nГледай излъчването на живо\, но се регистрирай преди това.
URL:https://svobodnapraktika.com/event/%d0%be%d1%82%d0%ba%d1%8a%d0%b4%d0%b5-%d0%b8%d0%b4%d0%b2%d0%b0%d1%82-%d0%b8%d0%b4%d0%b5%d0%b8%d1%82%d0%b5-%d1%83%d0%b5%d0%b1%d0%b8%d0%bd%d0%b0%d1%80
CATEGORIES:Онлайн събития
ORGANIZER;CN="SoftUni%20Digital":MAILTO:digital@softuni.bg
END:VEVENT
BEGIN:VEVENT
DTSTART;TZID=Europe/Helsinki:20211026T120000
DTEND;TZID=Europe/Helsinki:20211030T140000
DTSTAMP:20260425T222348
CREATED:20211020T083238Z
LAST-MODIFIED:20211020T083238Z
UID:12218-1635249600-1635602400@svobodnapraktika.com
SUMMARY:„Дизайн на визуални материали за начинаещи“ – курс на живо и онлайн
DESCRIPTION:Ти си гимназист или първа година студент\, а интересите ти са насочени към дизайна. Нямаш задълбочени познания\, нито можеш да работиш професионално с някоя графична програма\, но експериментираш\, получава ти се и си решил да се развиваш в тази област. Включи се в събитието. От лектора разбираш какви са основните принципи на творческия дизайн-процес. \nОсновен акцент е работата с Photoshop. По време на курса научаваш: \n\nкакви са основните групи инструменти и файлови формати;\nкак да работиш със слоеве и текст;\nкак да редактираш изображения и др.\n\nС предимство си пред останалите участници\, ако живееш в Русе или региона. \nСъбитието се провежда на живо в града\, но дори и да кандидатстваш от друго населено място\, можеш да се включиш в обучението онлайн. \nЗа кого е подходящо\n\nЗа начинаещи дизайнери.\n\nЛектор\n\nБоян Петков е специалист с над 15 години опит. Обучавал се е в Австрия\, Италия и Гърция. Работи на свободна практика по различни проекти – разработка на мобилни приложения\, уеб и графичен дизайн и т.н.\n\nОбучението е платено\, с предварителна регистрация. \n 
URL:https://svobodnapraktika.com/event/%d0%b4%d0%b8%d0%b7%d0%b0%d0%b9%d0%bd-%d0%b2%d0%b8%d0%b7%d1%83%d0%b0%d0%bb%d0%bd%d0%b8-%d0%bc%d0%b0%d1%82%d0%b5%d1%80%d0%b8%d0%b0%d0%bb%d0%b8-%d0%bd%d0%b0%d1%87%d0%b8%d0%bd%d0%b0%d0%b5%d1%89%d0%b8
LOCATION:Startup Factory – Коуъркинг\, ул. „Цар Калоян“ №10\, Русе\, Bulgaria
CATEGORIES:Онлайн събития,Русе
ORGANIZER;CN="Startup%20Factory":MAILTO:info@startupfactory.bg
END:VEVENT
BEGIN:VEVENT
DTSTART;TZID=Europe/Helsinki:20211030T140000
DTEND;TZID=Europe/Helsinki:20211030T180000
DTSTAMP:20260425T222348
CREATED:20211029T085646Z
LAST-MODIFIED:20211029T085646Z
UID:12263-1635602400-1635616800@svobodnapraktika.com
SUMMARY:„Разработване на уеб страници с HTML\, CSS и JavaScript“ – обучение на живо и онлайн
DESCRIPTION:Опитвал ли си да коригираш малка част от кода в сайта си? Да уголемиш шрифт\, да добавиш вътрешен хиперлинк в текста или каквото и да е друго? Отваряш страницата с кода и започваш да се чудиш какво и как да промениш. Пробваш и грешиш\, докато не успееш. До следващия път. А мислил ли си да запишеш обучение по писане на код? Така ще решиш проблемите със сайта си\, поне частично. Ако идеята ти се струва добра\, включи се в курса. \nСъздаден е за напълно начинаещи и те учи на основните принципи при изграждането на страница. Практически ориентиран е\, така че се подготви за интензивна работа. \nРазделен е на 3 модула с продължителност по 2 месеца всеки. \nС предимство си\, ако живееш в района на Русе\, а ако Covid мерките позволяват\, можеш да се обучаваш и в споделеното пространство на „Startup Factory“. \nЗа кого е подходящо събитието\n\nЗа всички\, които искат да се научат как се пише код.\n\nСъбитието е платено\, с предварителна регистрация.
URL:https://svobodnapraktika.com/event/%d1%80%d0%b0%d0%b7%d1%80%d0%b0%d0%b1%d0%be%d1%82%d0%b2%d0%b0%d0%bd%d0%b5-%d0%bd%d0%b0-%d1%83%d0%b5%d0%b1-%d1%81%d1%82%d1%80%d0%b0%d0%bd%d0%b8%d1%86%d0%b8-%d1%81-html-css-%d0%b8-javascript
LOCATION:Startup Factory – Коуъркинг\, ул. „Цар Калоян“ №10\, Русе\, Bulgaria
CATEGORIES:Онлайн събития,Русе
ORGANIZER;CN="Startup%20Factory":MAILTO:info@startupfactory.bg
END:VEVENT
END:VCALENDAR