BEGIN:VCALENDAR
VERSION:2.0
PRODID:-//Свободна практика - ECPv6.0.13//NONSGML v1.0//EN
CALSCALE:GREGORIAN
METHOD:PUBLISH
X-ORIGINAL-URL:https://svobodnapraktika.com
X-WR-CALDESC:Events for Свободна практика
REFRESH-INTERVAL;VALUE=DURATION:PT1H
X-Robots-Tag:noindex
X-PUBLISHED-TTL:PT1H
BEGIN:VTIMEZONE
TZID:Europe/Helsinki
BEGIN:DAYLIGHT
TZOFFSETFROM:+0200
TZOFFSETTO:+0300
TZNAME:EEST
DTSTART:20210328T010000
END:DAYLIGHT
BEGIN:STANDARD
TZOFFSETFROM:+0300
TZOFFSETTO:+0200
TZNAME:EET
DTSTART:20211031T010000
END:STANDARD
BEGIN:DAYLIGHT
TZOFFSETFROM:+0200
TZOFFSETTO:+0300
TZNAME:EEST
DTSTART:20220327T010000
END:DAYLIGHT
BEGIN:STANDARD
TZOFFSETFROM:+0300
TZOFFSETTO:+0200
TZNAME:EET
DTSTART:20221030T010000
END:STANDARD
END:VTIMEZONE
BEGIN:VEVENT
DTSTART;TZID=Europe/Helsinki:20210125T173000
DTEND;TZID=Europe/Helsinki:20210625T220000
DTSTAMP:20260426T062443
CREATED:20201220T200223Z
LAST-MODIFIED:20201220T200223Z
UID:10759-1611595800-1624658400@svobodnapraktika.com
SUMMARY:Онлайн обучение „Уверена\, устремена\, успешна“
DESCRIPTION:Чувстваш ли удовлетворение от работата си? Или по-скоро осъзнаваш\, че не си развила пълния си потенциал заради собствените си ограничения? Ако си отговаряш положително на втория въпрос\, вероятно си наясно\, че увереността е онова качество\, което ти липсва\, съответно – заради което се проваляш. \nКурсът ти е полезен\, ако искаш и си готова да работиш за собствената си промяна. Помага ти да повишиш самооценката си и да се научиш на постоянство и последователност в действията си. Всичко това те прави по-успешна в професионален план. \nБлагодарение на обучението и на собствените си усилия ще: \n\nразвиеш увереността и самооценката си;\nзапочнеш да отстояваш границите си;\nразбереш как да си поставяш цели\, адекватни на ценностите ти и др.\n\nРазгледай и програмата по месеци. \nКурсът включва: \n\nшест онлайн срещи – всяка с продължителност 4 часа;\nучастие в малка група – до 12 души и работа по двойки;\nнасоки за домашна работа и допълнителни ресурси;\n6 подробни мейла с обратна връзка относно домашните задания.\n\nПриготви се за много практическа работа. \nВ края на програмата очаквай онлайн среща за обсъждане на прогреса на участниците. \nЗа кого е подходящо събитието\n\nЗа жени\, на които им липсва самоувереност\, целеустременост и способност да поставят граници в професионален аспект.\n\nЛектор\n\nЛили Георгиева е сертифициран кариерен консултант и създател на методологията за промяна „Устрем“. Основната ѝ цел е да помогне на хората да постигнат удовлетворение в професионален план. Работила е като HR в международни компании.\n\nСъбитието е с такса\, с предварителна регистрация.
URL:https://svobodnapraktika.com/event/%d0%be%d0%bd%d0%bb%d0%b0%d0%b9%d0%bd-%d0%be%d0%b1%d1%83%d1%87%d0%b5%d0%bd%d0%b8%d0%b5-%d1%83%d0%b2%d0%b5%d1%80%d0%b5%d0%bd%d0%b0-%d1%83%d1%81%d1%82%d1%80%d0%b5%d0%bc%d0%b5%d0%bd%d0%b0
CATEGORIES:Онлайн събития
ORGANIZER;CN="%D0%9B%D0%B8%D0%BB%D0%B8%20%D0%93%D0%B5%D0%BE%D1%80%D0%B3%D0%B8%D0%B5%D0%B2%D0%B0":MAILTO:lillie@lilliegeorgieva.com
END:VEVENT
BEGIN:VEVENT
DTSTART;TZID=Europe/Helsinki:20210414T100000
DTEND;TZID=Europe/Helsinki:20220414T120000
DTSTAMP:20260426T062443
CREATED:20210409T092115Z
LAST-MODIFIED:20210409T092234Z
UID:11316-1618394400-1649937600@svobodnapraktika.com
SUMMARY:Онлайн курс по графичен дизайн
DESCRIPTION:Имаш интереси в сферата на графичния дизайн и обмисляш да се развиваш професионално в областта. До момента си се самообучавал – следиш няколко YouTube канала и прилагаш наученото от видеата. Отделяш време\, за да се упражняваш\, но знаеш\, че има редица тънкости\, които все още ти убягват. Замисляш ли се да запишеш специализиран курс? Защо не разгледаш с какво може да ти е полезен този конкретно? Неговата цел е не толкова да те научи да ползваш софтуерни програми\, колкото да ти осигури всеобхватно обучение по дизайн. \nОсновните модули са:\n\nИстория на изкуството\, рисуване\, композиция и перспектива.\nВизуални изкуства – научаваш повече за фотографията и използването ѝ в дизайна.\nГрафичен дизайн – лекторът акцентира върху различните видове реклама.\nГрафични техники и печатни технологии – разбираш кои са основите на художественото оформление.\nAdobe Photoshop – сдобиваш се с базови познания за работа с програмата.\nAdobe Illustrator – разбираш как да използваш растерна и векторна графика в един проект.\nAdobe InDesign – работиш със страници\, рисуваш векторни обекти и научаваш принципите за създаване на книги\, списания и др.\nCorelDraw – вникваш в изграждането на цялостни дизайнерски решения с програмата.\nУеб технологии и анимации – получаваш информация за SEO и видоветете оптимизация; CMS системи и др.\n\nПо време на обучението трябва да изпълняваш различни практически задачи. Някои от тях са: \n\nсъздаване на малко списание;\nизработка на лого;\nнаправа на фирмени рекламни материали и др.\n\nВсички задачи\, както и подробна програма можеш да видиш в страницата на обучението. \nКурсът се провежда в рамките на една календарна година. В края му полагаш държавен изпит\, а ако го завършиш успешно\, получаваш диплома от МОН. Изискването към теб е да имаш завършено средно образование. \nЗа кого е подходящо събитието\n\nЗа всички\, които искат да получат обширни знания по графичен дизайн.\n\nЛектори\n\nЕмануела Станоева – специалист в областта на графичния дизайн и фотографията. Преподавател е от над 7 години.\nГеорги Благоев – графичен дизайнер. От 13 години работи в областта на печатната реклама.\n\nОбучението е платено\, с предварителна регистрация. \n\nМожеш да заплатиш таксата на 4 вноски.
URL:https://svobodnapraktika.com/event/%d0%be%d0%bd%d0%bb%d0%b0%d0%b9%d0%bd-%d0%ba%d1%83%d1%80%d1%81-%d0%bf%d0%be-%d0%b3%d1%80%d0%b0%d1%84%d0%b8%d1%87%d0%b5%d0%bd-%d0%b4%d0%b8%d0%b7%d0%b0%d0%b9%d0%bd
CATEGORIES:Онлайн събития
ORGANIZER;CN="%D0%A6%D0%9F%D0%9E%20%D0%9C%D1%83%D0%BB%D1%82%D0%B8%D1%82%D1%80%D0%B5%D0%B9%D0%BD%20%D0%9E%D0%9E%D0%94":MAILTO:office@multitrain.bg
END:VEVENT
BEGIN:VEVENT
DTSTART;VALUE=DATE:20210510
DTEND;VALUE=DATE:20210601
DTSTAMP:20260426T062443
CREATED:20200907T111856Z
LAST-MODIFIED:20210509T200916Z
UID:10112-1620604800-1622505599@svobodnapraktika.com
SUMMARY:„Питай адвокат“ – безплатна\, онлайн консултация със специалист
DESCRIPTION:Като фрийлансър вероятно ти се е случвало да имаш проблемни взаимоотношения с клиент и да не знаеш как да постъпиш. Най-доброто решение е да се допиташ до адвокат.  \nБезплатна правна консултация можеш да получиш в блога „Свободна практика“. \nОбърни се към адвокат Мирослав Моравски\, ако искаш да: \n\nзащитиш авторските си права;\nимаш добре написан договор\, който да ползваш при стартиране на работа с нови клиенти;\nрегистрираш фирма.\n\nТърговски марки\, отношения с партньори – каквито и други специфични въпроси да имаш\, вземи участие в безплатната консултация. Навременният правен съвет може да ти спести проблеми в бъдеще.  \nКак да участваш\n\nПубликувай въпроса си като коментар под месечния пост в рубриката „Питай адвокат“. Ако си един от първите 5-ма\, очаквай отговор до четвъртък вечер (20. 05. 2021)\n\nКой води консултацията\n\nМирослав Моравски е адвокат с дългогодишен стаж. Юристконсулт в областта на гражданското и търговското право. Разрешава както семейни и имотни казуси\, така и фирмени. Практикувал е в нотариални и правни кантори\, работил е и като адвокат в търговски дружества. Защитата на правото е в основата на неговата дейност\, затова и окачествява работата си като „правна помощ с човешко лице“. Разгледай професионалния му сайт\, за да разбереш повече за консултациите\, които предлага.\n\nПоследвай линка и задай въпросите си на Мирослав Моравски. \n 
URL:https://svobodnapraktika.com/event/%d0%b0%d0%b4%d0%b2%d0%be%d0%ba%d0%b0%d1%82-%d0%b1%d0%b5%d0%b7%d0%bf%d0%bb%d0%b0%d1%82%d0%bd%d0%b0-%d0%ba%d0%be%d0%bd%d1%81%d1%83%d0%bb%d1%82%d0%b0%d1%86%d0%b8%d1%8f
CATEGORIES:Онлайн събития
END:VEVENT
BEGIN:VEVENT
DTSTART;TZID=Europe/Helsinki:20210511T090000
DTEND;TZID=Europe/Helsinki:20210511T153000
DTSTAMP:20260426T062443
CREATED:20210429T081818Z
LAST-MODIFIED:20210429T081818Z
UID:11435-1620723600-1620747000@svobodnapraktika.com
SUMMARY:„Retail Digital Summit 2021“ – конференция от хибриден тип
DESCRIPTION:Пандемията доведе до дигитализация на бизнеса. Всички са в интернет. Ти си там\, също и конкуренцията ти – на един клик разстояние от потребителите. Задачата ти е да накараш потенциалните си клиентите да изберат теб пред останалите. Ако искаш да знаеш как да се отличиш\, вземи участие в „Retail Digital Summit 2021“. По време на конференцията научаваш още: \n\nкакви са тенденциите в маркетинга и онлайн търговията;\nкак да разшириш дейността си и извън страната;\nкакво е персонализация и защо е важна за теб;.\nкак LinkedIn ти помага да достигаш до клиентите си и др.\n\nРазгледай цялата програма. \nЗа кого е подходящо събитието\n\nЗа собственици на електронни магазини.\n\nЛектори\n\nЛекторите са маркетинг специалисти и основатели на наложили се компании\, сред които: „Xplora“\, „Net Info“\, „Netpeak“\, „Зора“\, „BILLA“ и др. Научи повече за тях от страницата на събитието.\n\nВходът е платен\, с предварителна регистрация. \nМожеш да закупиш: \n\nонлайн билет – 107 лв.;\nприсъствен – 178 лв.;\nпакет от 3 билета – 390 лв.\n\nЦените са без включено ДДС.
URL:https://svobodnapraktika.com/event/retail-digital-summit-2021-%d0%ba%d0%be%d0%bd%d1%84%d0%b5%d1%80%d0%b5%d0%bd%d1%86%d0%b8%d1%8f-%d0%be%d1%82-%d1%85%d0%b8%d0%b1%d1%80%d0%b8%d0%b4%d0%b5%d0%bd-%d1%82%d0%b8
LOCATION:Интерпред\, бул. "Драган Цанков" 36\, София\, Bulgaria
CATEGORIES:Онлайн събития,София
END:VEVENT
BEGIN:VEVENT
DTSTART;TZID=Europe/Helsinki:20210511T190000
DTEND;TZID=Europe/Helsinki:20210511T210000
DTSTAMP:20260426T062443
CREATED:20210429T081946Z
LAST-MODIFIED:20210429T081946Z
UID:11433-1620759600-1620766800@svobodnapraktika.com
SUMMARY:Уебинар „Дигитални инструменти и етапи в развитието на малкия онлайн бизнес“
DESCRIPTION:Сръчен си и често прекарваш часове наред в майсторене на всевъзможни неща. Решил си да ги продаваш и така да превърнеш хобито си в източник на доходи\, но искаш да излезеш извън рамките на маркетплейсите в България. Насочваш погледа си към чуждестранните платформи за търговия\, а същевременно с това развиваш и собствен онлайн магазин. В такъв случай не пропускай да гледаш записа на семинара „Дигитални инструменти и етапи в развитието на малкия онлайн бизнес“. \nАкцентите са върху трите основни етапа на продажбата – подготовката\, реализацията и поръчката. \nОт лектора разбираш: \n\nкои изображения продават;\nкак да избереш подходяща платформа;\nкак да изградиш сайта си;\nкои са основните източници на трафик;\nкак да използваш социалните мрежи ефективно и др.\n\nЗа кого е подходящо събитието\n\nЗа всички\, които искат да развият собствен бизнес\, а фокусът им е върху чуждестранният пазар.\n\nЛектор\n\nФани Ванкова се занимава с дигитален маркетинг от 6 години. До момента е развила успешно няколко бранда\, сред които „RadGal Roller Skate“.\n\nЗаписът е без такса\, с предварителна регистрация. \n 
URL:https://svobodnapraktika.com/event/%d1%83%d0%b5%d0%b1%d0%b8%d0%bd%d0%b0%d1%80-%d0%b5%d1%82%d0%b0%d0%bf%d0%b8-%d1%80%d0%b0%d0%b7%d0%b2%d0%b8%d1%82%d0%b8%d0%b5-%d0%bc%d0%b0%d0%bb%d1%8a%d0%ba-%d0%b1%d0%b8%d0%b7%d0%bd%d0%b5%d1%81
CATEGORIES:Онлайн събития
ORGANIZER;CN="SoftUni%20Digital":MAILTO:digital@softuni.bg
END:VEVENT
BEGIN:VEVENT
DTSTART;TZID=Europe/Helsinki:20210515T143000
DTEND;TZID=Europe/Helsinki:20210605T160000
DTSTAMP:20260426T062443
CREATED:20210419T213926Z
LAST-MODIFIED:20210419T213926Z
UID:11387-1621089000-1622908800@svobodnapraktika.com
SUMMARY:„Започни развитието си като UI дизайнер“ - онлайн курс
DESCRIPTION:Имаш интереси в сферата на дизайна\, следиш няколко YouTube канала за работа с графичен софтуер и ежедневно отделяш време\, за да се упражняваш. Ставаш все по-добър и обмисляш да се развиваш професионално в сферата. Искаш да разшириш познанията си\, затова насочваш вниманието си и към UI дизайна. Ако е така\, разгледай и този курс. \nВключи се\, за да: \n\nнаучиш какви са принципите за изграждане на потребителска среда в уеб;\nусвоиш практически умения в създаването на UI дизайн;\nработиш по свой проект с Adobe XD.\n\nИнсталирай си Adobe XD\, преди да започнеш с уроците. \nЗа кого е подходящо събитието\n\nЗа хора без опит\, но с интереси в областта на UI дизайна.\n\nЛектор\n\nБоян Петков е дизайнер с над 15-годишен стаж в областта. Обучавал се е в Италия\, Гърция и Австрия. Той е част от екипа на „Startup Factory“ и същевременно работи по различни проекти като специалист на свободна практика.\n\nВходът е с такса самоучастие\, с предварителна регистрация. \n\nОстаналата част от таксата се поема от Фондация „Америка за България“.
URL:https://svobodnapraktika.com/event/ui-%d0%b4%d0%b8%d0%b7%d0%b0%d0%b9%d0%bd%d0%b5%d1%80-%d0%be%d0%bd%d0%bb%d0%b0%d0%b9%d0%bd-%d0%ba%d1%83%d1%80%d1%81
CATEGORIES:Онлайн събития
ORGANIZER;CN="Startup%20Factory":MAILTO:info@startupfactory.bg
END:VEVENT
BEGIN:VEVENT
DTSTART;TZID=Europe/Helsinki:20210517T140000
DTEND;TZID=Europe/Helsinki:20210517T153000
DTSTAMP:20260426T062443
CREATED:20210509T200003Z
LAST-MODIFIED:20210509T200003Z
UID:11472-1621260000-1621265400@svobodnapraktika.com
SUMMARY:Уебинар „Кариерно ориентиране за майки“
DESCRIPTION:Посрещаш ли началото на работната седмица с нежелание? Намираш ли изобщо мотивация да продължиш на настоящата си позиция? Ако искаш да направиш промяна в кариерен план\, но все още не знаеш кое занимание би ти носило удовлетворение\, уебинарът е за теб. \nВключи се в разговора с Лили Георгиева. Тя споделя какъв е процесът на осъзнатата кариерна промяна и представя обновеното издание на книгата „От любов към себе си“. \nЗа кого е подходящо събитието\n\nЗа всички майки\, които искат да се преориентират в професионален план.\n\nЛектор\n\nЛили Георгиева е консултант по кариерно развитие и създател на методологията „Устрем“. Автор е и на книгата за кариерна промяна „От любов към себе си“. Работила е като HR в международни компании.\n\nСъбитието е без такса\, с предварителна регистрация. \n\nПрисъедини се към „РАБОТНА ГРУПА“ във Фейсбук\, за да имаш достъп до разговора.
URL:https://svobodnapraktika.com/event/%d1%83%d0%b5%d0%b1%d0%b8%d0%bd%d0%b0%d1%80-%d0%ba%d0%b0%d1%80%d0%b8%d0%b5%d1%80%d0%bd%d0%be-%d0%be%d1%80%d0%b8%d0%b5%d0%bd%d1%82%d0%b8%d1%80%d0%b0%d0%bd%d0%b5-%d0%bc%d0%b0%d0%b9%d0%ba%d0%b8
CATEGORIES:Онлайн събития
ORGANIZER;CN="1%20%D0%BD%D0%B0%D1%83%D0%BC":MAILTO:bk@1naum.com
END:VEVENT
BEGIN:VEVENT
DTSTART;TZID=Europe/Helsinki:20210520T093000
DTEND;TZID=Europe/Helsinki:20210520T133000
DTSTAMP:20260426T062443
CREATED:20210509T195859Z
LAST-MODIFIED:20210509T195859Z
UID:11467-1621503000-1621517400@svobodnapraktika.com
SUMMARY:Онлайн курс „Как да си направим онлайн магазин сами“
DESCRIPTION:Изработваш ръчно всякакви чудеса или имаш интересна идея за електронна търговия? Проучил си какво ти е необходимо\, за да стартираш свой електронен магазин\, потърсил си подходящи платформи и си се спрял на WooCommerce. Ако до момента не си работил с WordPress и предпочиташ да получиш синтезирана информация\, вместо да откриваш всичко сам\, курсът ще ти е полезен. \nНаучаваш: \n\nкакви са предимствата на WooCommerce;\nкои плъгини са ти в помощ и как да ги инсталираш;\nкак да създаваш страници и галерии;\nкак да добавяш продукти.\n\nРазбери кои други теми ще се обсъждат – разгледай програмата на събитието. \nНа края можеш да зададеш въпросите си на лектора. \nЗа кого е подходящо\n\nЗа хора\, които искат да си направят онлайн магазин.\n\nВходът е с такса\, с предварителна регистрация. \n\nАко се запишеш преди 12.05.\, цената на билета е 120 лв.
URL:https://svobodnapraktika.com/event/%d0%ba%d0%b0%d0%ba-%d0%b4%d0%b0-%d0%bd%d0%b0%d0%bf%d1%80%d0%b0%d0%b2%d0%b8%d0%bc-%d0%be%d0%bd%d0%bb%d0%b0%d0%b9%d0%bd-%d0%bc%d0%b0%d0%b3%d0%b0%d0%b7%d0%b8%d0%bd
CATEGORIES:Онлайн събития
ORGANIZER;CN="Seminari.BG":MAILTO:office@seminari.bg
END:VEVENT
BEGIN:VEVENT
DTSTART;TZID=Europe/Helsinki:20210520T170000
DTEND;TZID=Europe/Helsinki:20210520T180000
DTSTAMP:20260426T062443
CREATED:20210517T093001Z
LAST-MODIFIED:20210518T081904Z
UID:11541-1621530000-1621533600@svobodnapraktika.com
SUMMARY:SuperTalks 026: Добрият копирайтинг или как думите продават
DESCRIPTION:Ефективният копирайтинг е гореща тема от години насам и няма изгледи това да се промени скоро. В онлайн предаването SuperTalks на Superhosting ще си говорим за: \n👉 принципите на добрия копирайтинг;\n👉 особеностите на видовете съдържание – за уебсайт\, рекламно в уеб и печат;\n👉 най-често срещаните грешки при създаване на съдържание;\n👉 посланията и текстовете\, които работят най-добре за един сайт;\n👉 трябва ли добрият копирайтър в уеб да разбира и от SEO.\nТова са само част от темите. Включи се в разговора в четвъртък\, 20.05 от 17:00 часа във Facebook страницата на SuperHosting.BG. \nМожеш да задаваш въпроси по време на срещата или да ми ги напишеш предварително в самото Facebook събитие. \n\nЗа кого е подходящ този онлайн разговор за копирайтинг\nЗа всеки\, който се опитва сам да пише текстове за уеб и/или се бори сам с подготовката на рекламните послания за своя бизнес. \n  \nКой ще е гостът в SuperTalks\nГостът ще съм аз – Иванка Могилска\, копирайтър на свободна практика вече повече от 14 години\, създател на блога за фрийланс „Свободна практика“\, на онлайн курсове за копирайтинг и фрийланс. Имам опит в създаването на рекламни послания и текстове за всякакви канали за реклама – традиционни и онлайн\, водя лекции и обучения за писане в уеб и помагам на собствениците на микро\, малък и среден бизнес да стигнат до повече клиенти\, създавайки качествено съдържание. \n\nПредаването можеш да слушаш на запис на следните места:\n\nУебсайт: https://talks.superhosting.bg/\nYouTube: youtube.com/user/SuperHostingBg\nInstagram: instagram.com/superhosting.bg/\nSoundCloud: https://soundcloud.com/supertalks\nSpotify: https://open.spotify.com/show/5pFg9xMOKN6h2tGqT0SVjZ
URL:https://svobodnapraktika.com/event/supertalks-026-%d0%b4%d0%be%d0%b1%d1%80%d0%b8%d1%8f%d1%82-%d0%ba%d0%be%d0%bf%d0%b8%d1%80%d0%b0%d0%b9%d1%82%d0%b8%d0%bd%d0%b3-%d0%b8%d0%bb%d0%b8-%d0%ba%d0%b0%d0%ba-%d0%b4%d1%83%d0%bc%d0%b8%d1%82%d0%b5
CATEGORIES:Онлайн събития
END:VEVENT
BEGIN:VEVENT
DTSTART;VALUE=DATE:20210527
DTEND;VALUE=DATE:20210529
DTSTAMP:20260426T062443
CREATED:20210509T195559Z
LAST-MODIFIED:20210509T195559Z
UID:11465-1622073600-1622246399@svobodnapraktika.com
SUMMARY:DigitalK – hybrid conference
DESCRIPTION:The last year has been marked by a lot of events – both positive and negative. They all laid the new foundations of the the future. How has 2020 changed the world? What are the technological trends? These issues will be discussed during the conference. \nSome of the highlights are: \n\ncommunication – how Covid-19 brings people together through video platforms;\ndigitalization – the future of the cloud services;\ncybersecurity as a growing problem;\nentrepreneurship in Bulgaria;\n5G – what to expect.\n\nThe event is in a hybrid format\, with online broadcasting and a limited number of the physical presence of guests. \nFor whom it is suitable\n\nFor all who are interested in the future of technology.\n\nLecturers\n\nThe lecturers are representatives of some of the world’s largest tech companies – experts\, investors\, managers\, entrepreneurs. See more about them from DigitalK’s site.\n\nThe entrance is paid\, with pre-registration. \nThe are 3 different kinds of tickets: \n\nHybrid Pass – 119 EUR;\nPremium Digital Pass – 50 EUR;\nDigital Pass – 25 EUR.
URL:https://svobodnapraktika.com/event/digitalk-hybrid-conference
LOCATION:Sofia Event Center\, бул. "Черни връх" 100\, София\, 1407\, Bulgaria
CATEGORIES:Онлайн събития,София
END:VEVENT
BEGIN:VEVENT
DTSTART;TZID=Europe/Helsinki:20210527T190000
DTEND;TZID=Europe/Helsinki:20210527T203000
DTSTAMP:20260426T062443
CREATED:20210509T195521Z
LAST-MODIFIED:20210509T195521Z
UID:11469-1622142000-1622147400@svobodnapraktika.com
SUMMARY:Онлайн обучение „Q&A Session: Всичко\, което трябва да знаете преди да кандидатствате за работа“
DESCRIPTION:Търсиш нова работа. Изпращаш документите си за всяка обявена позиция. Чакаш телефонът да звънне и проверяваш мейла си ежедневно\, но не получаваш покани за интервюта. Сигурно се чудиш дали изобщо някой е прегледал кандидатурата ти. Ако ситуацията ти е позната\, запиши курса. Ще ти помогне да разбереш грешките\, които допускаш при изготвяне на професионална автобиография. \nОт лекторите научаваш: \n\nс какво трябва да се съобразиш при създаването на CV;\nкак да се подготвиш за техническо и HR интервю;\nкакво трябва да знаеш\, когато търсиш своя бъдещ работодател и др.\n\nМожеш да изпратиш CV-то си на мейл careers@softuni.bg и в края на обучение да получиш съвети как да го подобриш. \nЗа кого е подходящо събитието\n\nЗа хора\, които искат да разберат как да изготвят професионалната си автобиография.\n\nЛектори\n\nСабина Попова е кариерен консултант\, който помага на курсистите да се реализират.\nИвелина Петкова се занимава с маркетинг от над 5 години\, а към момента е част от екипа на SoftUni.\n\nУчастието е без такса\, с предварителна регистрация.
URL:https://svobodnapraktika.com/event/%d0%ba%d0%b0%d0%bd%d0%b4%d0%b8%d0%b4%d0%b0%d1%82%d1%81%d1%82%d0%b2%d0%b0%d0%bd%d0%b5-%d1%80%d0%b0%d0%b1%d0%be%d1%82%d0%b0-%d1%81%d1%8a%d0%b7%d0%b4%d0%b0%d0%b2%d0%b0%d0%bd%d0%b5-cv
CATEGORIES:Онлайн събития
ORGANIZER;CN="SoftUni%20Digital":MAILTO:digital@softuni.bg
END:VEVENT
END:VCALENDAR