BEGIN:VCALENDAR
VERSION:2.0
PRODID:-//Свободна практика - ECPv6.0.13//NONSGML v1.0//EN
CALSCALE:GREGORIAN
METHOD:PUBLISH
X-ORIGINAL-URL:https://svobodnapraktika.com
X-WR-CALDESC:Events for Свободна практика
REFRESH-INTERVAL;VALUE=DURATION:PT1H
X-Robots-Tag:noindex
X-PUBLISHED-TTL:PT1H
BEGIN:VTIMEZONE
TZID:Europe/Helsinki
BEGIN:DAYLIGHT
TZOFFSETFROM:+0200
TZOFFSETTO:+0300
TZNAME:EEST
DTSTART:20190331T010000
END:DAYLIGHT
BEGIN:STANDARD
TZOFFSETFROM:+0300
TZOFFSETTO:+0200
TZNAME:EET
DTSTART:20191027T010000
END:STANDARD
END:VTIMEZONE
BEGIN:VEVENT
DTSTART;TZID=Europe/Helsinki:20190422T190000
DTEND;TZID=Europe/Helsinki:20190422T210000
DTSTAMP:20260420T172851
CREATED:20190418T190916Z
LAST-MODIFIED:20190418T190916Z
UID:7573-1555959600-1555966800@svobodnapraktika.com
SUMMARY:Семинар „Как да продадем една идея пред инвеститори“
DESCRIPTION:Стоян Тунков\, ментор в предприемаческата програма Rinker’s Challenge\, ще сподели с вас основни принципи при представяне на бизнес идея пред инвеститори. Той ще разясни структурата на презентацията на идеята\, ще ви обясни как успешно да предавате посланията си. В семинара са включени демонстрация и  упражнения с участниците. \nЗа кого е предназначено събитието \n\nЗа предприемачи\, собственици на малък и среден бизнес.\n\nЛектор \n\nСтоян Тунков има над 10 години опит в „Граве България“.  Ментор в Rinker’s Challenge по темите „Презентационни умения“ и Pitching skills.\n\nВход безплатен\, с предварителна регистрация.
URL:https://svobodnapraktika.com/event/%d1%81%d0%b5%d0%bc%d0%b8%d0%bd%d0%b0%d1%80-%d0%ba%d0%b0%d0%ba-%d0%b4%d0%b0-%d0%bf%d1%80%d0%be%d0%b4%d0%b0%d0%b4%d0%b5%d0%bc-%d0%b5%d0%b4%d0%bd%d0%b0-%d0%b8%d0%b4%d0%b5%d1%8f-%d0%bf%d1%80
LOCATION:Ресторант “Мона Лиза”\, Тера мол Габрово\, бул. Могильов 47\, Габрово
CATEGORIES:Габрово
END:VEVENT
END:VCALENDAR