BEGIN:VCALENDAR
VERSION:2.0
PRODID:-//Свободна практика - ECPv6.0.13//NONSGML v1.0//EN
CALSCALE:GREGORIAN
METHOD:PUBLISH
X-WR-CALNAME:Свободна практика
X-ORIGINAL-URL:https://svobodnapraktika.com
X-WR-CALDESC:Events for Свободна практика
REFRESH-INTERVAL;VALUE=DURATION:PT1H
X-Robots-Tag:noindex
X-PUBLISHED-TTL:PT1H
BEGIN:VTIMEZONE
TZID:Europe/Helsinki
BEGIN:DAYLIGHT
TZOFFSETFROM:+0200
TZOFFSETTO:+0300
TZNAME:EEST
DTSTART:20180325T010000
END:DAYLIGHT
BEGIN:STANDARD
TZOFFSETFROM:+0300
TZOFFSETTO:+0200
TZNAME:EET
DTSTART:20181028T010000
END:STANDARD
END:VTIMEZONE
BEGIN:VEVENT
DTSTART;TZID=Europe/Helsinki:20181003T170000
DTEND;TZID=Europe/Helsinki:20181003T203000
DTSTAMP:20260423T211253
CREATED:20181002T211539Z
LAST-MODIFIED:20181002T211539Z
UID:6790-1538586000-1538598600@svobodnapraktika.com
SUMMARY:Обучение по развитие на иновативни идеи и Lean Startup в Габрово
DESCRIPTION:Фокус на събитието е дизайн мисленето – структуриран процес за генериране на иновативни решения със свои принципи и инструменти. Това е методология\, която поставя в центъра потребителския опит и преживяване (human-centered design). Lean Startup e методология\, която позволява да се минимализира рискът\, преди началото на ново бизнес начинание. \nЗа кого е предназначено събитието \n\nЗа предприемачи\, собственици на малък и среден бизнес\, специалисти в областта на бизнес развитието\, иноватори.\n\nЛектори            \n\nВенеция Нецова е председател на борда и проектен лидер в Сдружение „Асоциация на българските лидери и предприемачи“ (ABLE).\nЛеона Асланова е експерт и консултант по иновации. Основател е на агенция Innovation Starter\, на форума за иновации Innovation Explorer и на Академия за иновации.\n\nВход платен\, с предварителна регистрация.
URL:https://svobodnapraktika.com/event/%d0%be%d0%b1%d1%83%d1%87%d0%b5%d0%bd%d0%b8%d0%b5-%d0%bf%d0%be-%d1%80%d0%b0%d0%b7%d0%b2%d0%b8%d1%82%d0%b8%d0%b5-%d0%bd%d0%b0-%d0%b8%d0%bd%d0%be%d0%b2%d0%b0%d1%82%d0%b8%d0%b2%d0%bd%d0%b8-%d0%b8%d0%b4
LOCATION:Ресторант “Мона Лиза”\, Тера мол Габрово\, бул. Могильов 47\, Габрово
CATEGORIES:Габрово
ORGANIZER;CN="Innovation%20Starter":MAILTO:office@innovationstarterbox.bg
END:VEVENT
END:VCALENDAR