BEGIN:VCALENDAR
VERSION:2.0
PRODID:-//Свободна практика - ECPv6.0.13//NONSGML v1.0//EN
CALSCALE:GREGORIAN
METHOD:PUBLISH
X-ORIGINAL-URL:https://svobodnapraktika.com
X-WR-CALDESC:Events for Свободна практика
REFRESH-INTERVAL;VALUE=DURATION:PT1H
X-Robots-Tag:noindex
X-PUBLISHED-TTL:PT1H
BEGIN:VTIMEZONE
TZID:Europe/Helsinki
BEGIN:DAYLIGHT
TZOFFSETFROM:+0200
TZOFFSETTO:+0300
TZNAME:EEST
DTSTART:20190331T010000
END:DAYLIGHT
BEGIN:STANDARD
TZOFFSETFROM:+0300
TZOFFSETTO:+0200
TZNAME:EET
DTSTART:20191027T010000
END:STANDARD
END:VTIMEZONE
BEGIN:VEVENT
DTSTART;TZID=Europe/Helsinki:20190121T190000
DTEND;TZID=Europe/Helsinki:20190121T210000
DTSTAMP:20260420T203837
CREATED:20190114T055221Z
LAST-MODIFIED:20190114T055312Z
UID:7143-1548097200-1548104400@svobodnapraktika.com
SUMMARY:Лекция „Изграждане на дигитална индустрия от нулата“
DESCRIPTION:Емо Кадийски\, един от съоснователите на „Враца софтуерно общество“\, ще разкаже за развитието на организацията от занимание  на трима доброволци\, до общност\, която помага на ученици и възрастни да започнат обучение или да намерят работа в ИТ сферата във Враца. \nЗа кого е предназначено събитието\n\nЗа ИТ специалисти\, предприемачи\, учители\, ученици\, всички\, които се интересуват от високите технологии.\n\nЛектор\n\nЕмо Кадийски заедно с двама приятели стартират Враца софтуер общество през 2013 г.  Организацията развива дигитална индустрия в родния им град\, предлагайки курсове по програмиране и ИТ събития.\n\nВход безплатен\, с предварителна регистрация.
URL:https://svobodnapraktika.com/event/%d0%bb%d0%b5%d0%ba%d1%86%d0%b8%d1%8f-%d0%b8%d0%b7%d0%b3%d1%80%d0%b0%d0%b6%d0%b4%d0%b0%d0%bd%d0%b5-%d0%bd%d0%b0-%d0%b4%d0%b8%d0%b3%d0%b8%d1%82%d0%b0%d0%bb%d0%bd%d0%b0-%d0%b8%d0%bd%d0%b4%d1%83
LOCATION:Ресторант “Мона Лиза”\, Тера мол Габрово\, бул. Могильов 47\, Габрово
CATEGORIES:Габрово
END:VEVENT
END:VCALENDAR