BEGIN:VCALENDAR
VERSION:2.0
PRODID:-//Свободна практика - ECPv6.0.13//NONSGML v1.0//EN
CALSCALE:GREGORIAN
METHOD:PUBLISH
X-ORIGINAL-URL:https://svobodnapraktika.com
X-WR-CALDESC:Events for Свободна практика
REFRESH-INTERVAL;VALUE=DURATION:PT1H
X-Robots-Tag:noindex
X-PUBLISHED-TTL:PT1H
BEGIN:VTIMEZONE
TZID:Europe/Helsinki
BEGIN:DAYLIGHT
TZOFFSETFROM:+0200
TZOFFSETTO:+0300
TZNAME:EEST
DTSTART:20220327T010000
END:DAYLIGHT
BEGIN:STANDARD
TZOFFSETFROM:+0300
TZOFFSETTO:+0200
TZNAME:EET
DTSTART:20221030T010000
END:STANDARD
END:VTIMEZONE
BEGIN:VEVENT
DTSTART;TZID=Europe/Helsinki:20220525T103000
DTEND;TZID=Europe/Helsinki:20220525T133000
DTSTAMP:20260424T140254
CREATED:20220519T125830Z
LAST-MODIFIED:20220519T125830Z
UID:13636-1653474600-1653485400@svobodnapraktika.com
SUMMARY:Фестивал „Еко шампиони“ Враца – събитие на живо
DESCRIPTION:Освен специалист в своята сфера\, ти си и родител. Като такъв се опитваш да даваш добър пример на детето си\, да го образоваш по различни теми\, включително и тази за климатичните изменения. Ако екологичните въпроси те вълнуват и се чудиш как в действителност да събудиш интереса на детето си към тях\, включете се заедно в шампионата във Враца. По време на събитието ученици представят своите научни проекти по екологични теми. \nВярвам\, че срещата ще е интересна и полезна\, защото много често е по-мотивиращо и по-вдъхновяващо за едно хлапе да се учи от тийнейджъри или връстници. \nКакво да очакваш? До момента учениците са създали прототипи\, с които да допринесат за опазването на околната среда и борбата с климатичните промени на местно ниво. По време на фестивала представят резултатите от своята работа. \nОсвен във Враца\, шампионатът се провежда и в София на 08.06. \nЗа кого е подходящо събитието\n\nЗа всички\, които се интересуват от темата за климатичните изменения.\n\nУчастието е без такса.
URL:https://svobodnapraktika.com/event/%d1%84%d0%b5%d1%81%d1%82%d0%b8%d0%b2%d0%b0%d0%bb-%d0%b5%d0%ba%d0%be-%d1%88%d0%b0%d0%bc%d0%bf%d0%b8%d0%be%d0%bd%d0%b8-%d0%b2%d1%80%d0%b0%d1%86%d0%b0
LOCATION:ППМГ “Акад. Иван Ценов”\, Враца\, бул. „Демокрация“ 18\, Враца\, Bulgaria
CATEGORIES:Враца
END:VEVENT
END:VCALENDAR