BEGIN:VCALENDAR
VERSION:2.0
PRODID:-//Свободна практика - ECPv6.0.13//NONSGML v1.0//EN
CALSCALE:GREGORIAN
METHOD:PUBLISH
X-WR-CALNAME:Свободна практика
X-ORIGINAL-URL:https://svobodnapraktika.com
X-WR-CALDESC:Events for Свободна практика
REFRESH-INTERVAL;VALUE=DURATION:PT1H
X-Robots-Tag:noindex
X-PUBLISHED-TTL:PT1H
BEGIN:VTIMEZONE
TZID:Europe/Helsinki
BEGIN:DAYLIGHT
TZOFFSETFROM:+0200
TZOFFSETTO:+0300
TZNAME:EEST
DTSTART:20200329T010000
END:DAYLIGHT
BEGIN:STANDARD
TZOFFSETFROM:+0300
TZOFFSETTO:+0200
TZNAME:EET
DTSTART:20201025T010000
END:STANDARD
BEGIN:DAYLIGHT
TZOFFSETFROM:+0200
TZOFFSETTO:+0300
TZNAME:EEST
DTSTART:20210328T010000
END:DAYLIGHT
BEGIN:STANDARD
TZOFFSETFROM:+0300
TZOFFSETTO:+0200
TZNAME:EET
DTSTART:20211031T010000
END:STANDARD
END:VTIMEZONE
BEGIN:VEVENT
DTSTART;TZID=Europe/Helsinki:20201101T183000
DTEND;TZID=Europe/Helsinki:20210731T203000
DTSTAMP:20260426T070145
CREATED:20201008T084517Z
LAST-MODIFIED:20201008T084517Z
UID:10339-1604255400-1627763400@svobodnapraktika.com
SUMMARY:Курс по програмиране
DESCRIPTION:Ако живееш във Враца или региона и се интересуваш от развитието на IT технологиите\, запиши дългосрочния курс\, организиран от „Враца софтуер общество“. \nНяма значение дали си ученик и вече си избрал програмирането за своя бъдеща професия\, или до момента си се развивал в някаква сфера\, но искаш да се преквалифицираш. Във всеки от случаите курсът е подходящ за теб – създаден е за начинаещи и няма възрастови ограничения. Важно е да си мотивиран и да си наясно\, че обемът от информация е много\, затова трябва да полагаш доста усилия. \nАко се включиш\, преминаваш през четири нива на обучение: \n\nПърво ниво – научаваш основите на програмиране с PHP и базисното за Java езика.\nВторо ниво – работиш с MySQL и PHP уеб базирани приложения.\nТрето ниво – разбираш основите на front-end програмирането.\nЧетвърто ниво – създаваш различни уеб приложения.\n\nКурсът е с практическа насоченост и основно залага на упражненията\, а всяко ниво завършва с изпит. \nПолучаваш сертификат за участие в зависимост от представянето си. Организаторите ти дават възможност да работиш и по реален проект за НПО\, ако си сред най-добрите курсисти. \nКандидатстването се извършва в няколко етапа – след като заявиш участие\, се налага да се справиш с предварителен тест и самостоятелна задача\, за да достигнеш до интервюто. Можеш да кандидатстваш до 16 октомври. \nЗа кого е подходящо събитието\n\nЗа ученици\, които имат интерес към сферата\, както и за хора\, които искат да се преквалифицират.\n\nОбучението е платено\, с предварителна регистрация. \n\nЦената на всеки модул е 230 лв.\, а ако заплатиш за два – 420 лв. Получаваш пълна стипендия\, ако се представиш отлично.\n\n  \n 
URL:https://svobodnapraktika.com/event/%d0%ba%d1%83%d1%80%d1%81-%d0%bf%d0%be-%d0%bf%d1%80%d0%be%d0%b3%d1%80%d0%b0%d0%bc%d0%b8%d1%80%d0%b0%d0%bd%d0%b5
LOCATION:Гнездото Coworking\, ул. "Кокиче" 14\, Враца\, Bulgaria
CATEGORIES:Враца
ORGANIZER;CN="%D0%92%D1%80%D0%B0%D1%86%D0%B0%20%D1%81%D0%BE%D1%84%D1%82%D1%83%D0%B5%D1%80%20%D0%BE%D0%B1%D1%89%D0%B5%D1%81%D1%82%D0%B2%D0%BE":MAILTO:school@vratsasoftware.com
END:VEVENT
BEGIN:VEVENT
DTSTART;TZID=Europe/Helsinki:20210320T190000
DTEND;TZID=Europe/Helsinki:20210620T210000
DTSTAMP:20260426T070145
CREATED:20210308T140144Z
LAST-MODIFIED:20210308T140144Z
UID:11152-1616266800-1624222800@svobodnapraktika.com
SUMMARY:Курс по дигитален маркетинг
DESCRIPTION:Ако живееш в региона на Враца и се интересуваш от дигитален маркетинг\, кандидатствай за обучението\, организирано от Враца Софтуер Общество. Напълно безплатно е и няма възрастови ограничения. Подходящо е за теб\, независимо дали си решил да се развиваш в сферата на маркетинга\, или си ученик и все още се колебаеш по кой професионален път да поемеш. \nКурсът е разделен на 3 модула: \n\nОснови на дигиталния маркетинг.\nМаркетинг чрез съдържание и социални мрежи.\nОптимизация за търсачки (SEO).\n\nВсеки от тях включва лекции и практика\, затова се приготви за много задачи и тест след всяко ниво. \nЗа да кандидатстваш\, попълни и изпрати електронната форма преди 20.03. След това ще получиш самостоятелна задача\, с която трябва да се справиш. Ако я завършиш успешно\, поканен си на събеседване. \nЗанятията се провеждат в удобно за теб и останалите участници време. \nЗа кого е подходящо събитието\n\nЗа всички\, които искат да се развиват в сферата на дигиталния маркетинг.\n\nЛектор\n\nИвайло Йорданов е основател на агенция evol.bg. Работил е за bTV Media Group\, Hewlett Packard Enterprise и др.\n\nВходът е без такса\, с предварителна регистрация.
URL:https://svobodnapraktika.com/event/%d0%ba%d1%83%d1%80%d1%81-%d0%bf%d0%be-%d0%b4%d0%b8%d0%b3%d0%b8%d1%82%d0%b0%d0%bb%d0%b5%d0%bd-%d0%bc%d0%b0%d1%80%d0%ba%d0%b5%d1%82%d0%b8%d0%bd%d0%b3
CATEGORIES:Враца
ORGANIZER;CN="%D0%92%D1%80%D0%B0%D1%86%D0%B0%20%D1%81%D0%BE%D1%84%D1%82%D1%83%D0%B5%D1%80%20%D0%BE%D0%B1%D1%89%D0%B5%D1%81%D1%82%D0%B2%D0%BE":MAILTO:school@vratsasoftware.com
END:VEVENT
END:VCALENDAR