BEGIN:VCALENDAR
VERSION:2.0
PRODID:-//Свободна практика - ECPv6.0.13//NONSGML v1.0//EN
CALSCALE:GREGORIAN
METHOD:PUBLISH
X-ORIGINAL-URL:https://svobodnapraktika.com
X-WR-CALDESC:Events for Свободна практика
REFRESH-INTERVAL;VALUE=DURATION:PT1H
X-Robots-Tag:noindex
X-PUBLISHED-TTL:PT1H
BEGIN:VTIMEZONE
TZID:Europe/Helsinki
BEGIN:DAYLIGHT
TZOFFSETFROM:+0200
TZOFFSETTO:+0300
TZNAME:EEST
DTSTART:20210328T010000
END:DAYLIGHT
BEGIN:STANDARD
TZOFFSETFROM:+0300
TZOFFSETTO:+0200
TZNAME:EET
DTSTART:20211031T010000
END:STANDARD
END:VTIMEZONE
BEGIN:VEVENT
DTSTART;TZID=Europe/Helsinki:20211005T190000
DTEND;TZID=Europe/Helsinki:20211019T210000
DTSTAMP:20260425T141424
CREATED:20210927T201120Z
LAST-MODIFIED:20210927T201120Z
UID:12106-1633460400-1634677200@svobodnapraktika.com
SUMMARY:Едногодишно обучение по програмиране във Враца
DESCRIPTION:Ти си гимназист във Враца и професионалното ти бъдеще все още ти се струва далечно и неясно. Въпреки това вече си се насочил към IT сектора. Късметлия си\, защото „Враца Софтуер Общество“ се намира точно в твоя град и организира нов курс по програмиране. Включи се\, дори и да не си завършил. Така поставяш добра основа\, върху която да градиш кариерата си. Обучението е подходящо е за теб и ако си в по-напреднала възраст\, но си решил\, че е крайно време да се преквалифицираш. \nКурсът е разделен на три нива: \n\nУвод в програмирането – разбираш какви са основите\, термините и средата за разработка.\nОбектно програмиране – структурираш код\, работиш с файлове и потоци данни.\nКачество на кода – научаваш какви са SOLID принципите и работиш с релационни бази данни.\n\nВиж подробната програма\, за да разбереш с какво се захващаш. \nОбучението е интензивно\, така че се подготви за сериозно натоварване. Практически насочено е и при добро представяне ти дава възможност да работиш с ментор по проект за НПО. Продължителността му е една година\, а лекциите се провеждат два пъти седмично в удобно за всички време. \nКандидатствай до 05.10.\, изчакай поканата за събеседване и ако си одобрен\, стартираш на 19.10. с безплатна лекция – за да решиш окончателно дали програмирането е за теб. \nЗа кого е подходящо събитието\n\nЗа всички\, които искат да се развиват в IT сферата.\n\nКурсът е платен\, но можеш да поискаш и стипендия. Изпрати документите си и очаквай покана за интервю. \n 
URL:https://svobodnapraktika.com/event/%d0%b5%d0%b4%d0%bd%d0%be%d0%b3%d0%be%d0%b4%d0%b8%d1%88%d0%bd%d0%be-%d0%be%d0%b1%d1%83%d1%87%d0%b5%d0%bd%d0%b8%d0%b5-%d0%bf%d0%be-%d0%bf%d1%80%d0%be%d0%b3%d1%80%d0%b0%d0%bc%d0%b8%d1%80%d0%b0%d0%bd
LOCATION:Гнездото Coworking\, ул. "Кокиче" 14\, Враца\, Bulgaria
CATEGORIES:Враца
ORGANIZER;CN="%D0%92%D1%80%D0%B0%D1%86%D0%B0%20%D1%81%D0%BE%D1%84%D1%82%D1%83%D0%B5%D1%80%20%D0%BE%D0%B1%D1%89%D0%B5%D1%81%D1%82%D0%B2%D0%BE":MAILTO:school@vratsasoftware.com
END:VEVENT
END:VCALENDAR