BEGIN:VCALENDAR
VERSION:2.0
PRODID:-//Свободна практика - ECPv6.0.13//NONSGML v1.0//EN
CALSCALE:GREGORIAN
METHOD:PUBLISH
X-WR-CALNAME:Свободна практика
X-ORIGINAL-URL:https://svobodnapraktika.com
X-WR-CALDESC:Events for Свободна практика
REFRESH-INTERVAL;VALUE=DURATION:PT1H
X-Robots-Tag:noindex
X-PUBLISHED-TTL:PT1H
BEGIN:VTIMEZONE
TZID:Europe/Helsinki
BEGIN:DAYLIGHT
TZOFFSETFROM:+0200
TZOFFSETTO:+0300
TZNAME:EEST
DTSTART:20230326T010000
END:DAYLIGHT
BEGIN:STANDARD
TZOFFSETFROM:+0300
TZOFFSETTO:+0200
TZNAME:EET
DTSTART:20231029T010000
END:STANDARD
END:VTIMEZONE
BEGIN:VEVENT
DTSTART;TZID=Europe/Helsinki:20230429T183000
DTEND;TZID=Europe/Helsinki:20230429T213000
DTSTAMP:20260421T210242
CREATED:20230411T090910Z
LAST-MODIFIED:20230411T090923Z
UID:14982-1682793000-1682803800@svobodnapraktika.com
SUMMARY:Светлин Наков за изкуствения интелект
DESCRIPTION:Темата за изкуствения интелект е широко дискутирана напоследък. Обсъжда се в групите за предприемачи\, водеща е по време на уебинари и конференции. Това не е изненадващо\, предвид интензивния технологичен напредък\, на който сме свидетели. Ако живееш в района на Велико Търново и възможностите\, които дава AI (и в частност  ChatGPT) те интересуват\, включи се в събитието. \nСветлин Наков говори за: \n\nПромяната на разбирането за образователните системи.\nПредстоящите промени на пазара на труда\, а и в ежедневието на хората.\n\nВ края на лекцията очаквай дискусия с участието на местния бизнес\, общината и университети в града. \nЗа кого е подходящо събитието\n\nЗа всички\, които се интересуват от влиянието на AI върху живота ни.\n\nЛектор\n\nСветлин Наков е софтуерен инженер\, предприемач и основател на SoftwareUniresity. Лектор е на стотици конференции\, курсове и семинари. Автор е на редица книги за програмиране и компютърни науки.\n\nУчастието е без такса\, с предварителна регистрация. \n  \n 
URL:https://svobodnapraktika.com/event/%d1%81%d0%b2%d0%b5%d1%82%d0%bb%d0%b8%d0%bd-%d0%bd%d0%b0%d0%ba%d0%be%d0%b2-%d0%b7%d0%b0-%d0%b8%d0%b7%d0%ba%d1%83%d1%81%d1%82%d0%b2%d0%b5%d0%bd%d0%b8%d1%8f-%d0%b8%d0%bd%d1%82%d0%b5%d0%bb%d0%b5%d0%ba
LOCATION:Община Велико Търново\, Майка България № 2\, Велико Търново\, Bulgaria
CATEGORIES:Велико Търново
END:VEVENT
END:VCALENDAR