BEGIN:VCALENDAR
VERSION:2.0
PRODID:-//Свободна практика - ECPv6.0.13//NONSGML v1.0//EN
CALSCALE:GREGORIAN
METHOD:PUBLISH
X-ORIGINAL-URL:https://svobodnapraktika.com
X-WR-CALDESC:Events for Свободна практика
REFRESH-INTERVAL;VALUE=DURATION:PT1H
X-Robots-Tag:noindex
X-PUBLISHED-TTL:PT1H
BEGIN:VTIMEZONE
TZID:Europe/Helsinki
BEGIN:DAYLIGHT
TZOFFSETFROM:+0200
TZOFFSETTO:+0300
TZNAME:EEST
DTSTART:20250330T010000
END:DAYLIGHT
BEGIN:STANDARD
TZOFFSETFROM:+0300
TZOFFSETTO:+0200
TZNAME:EET
DTSTART:20251026T010000
END:STANDARD
BEGIN:DAYLIGHT
TZOFFSETFROM:+0200
TZOFFSETTO:+0300
TZNAME:EEST
DTSTART:20260329T010000
END:DAYLIGHT
BEGIN:STANDARD
TZOFFSETFROM:+0300
TZOFFSETTO:+0200
TZNAME:EET
DTSTART:20261025T010000
END:STANDARD
END:VTIMEZONE
BEGIN:VEVENT
DTSTART;VALUE=DATE:20251016
DTEND;VALUE=DATE:20251017
DTSTAMP:20260420T063128
CREATED:20251009T124729Z
LAST-MODIFIED:20251009T125106Z
UID:17956-1760572800-1760659199@svobodnapraktika.com
SUMMARY:Carеer Show – събитие във Варна
DESCRIPTION:Живееш в региона на Варна и вече си твърдо убеден\, че искаш да направиш завой в професионален план? Или току-що си завършил университет и все още се бориш за своето място под слънцето? Във всеки случай решението да посетиш варненското издание на Career show може да преобърне професионалния ти път. \nОсвен че получаваш възможност да разговаряш с работодатели\, събитието те среща и с вдъхновяващи личности. От лекторите научаваш: \n\nкак да изградиш работещ LinkedIn профил;\nзащо е важно да можеш да се проваляш;\nкак да си осигуриш живот по твой вкус\, без да чакаш идеалния момент;\nзащо социалното предприемачество е повече от бизнес.\n\nВиж цялата програма\, за да си наясно какво точно те очаква. \nЗащо да участваш? \nСъбитието ти дава възможност да се свържеш директно с фирми\, да срещнеш своя бъдещ работодател\, или поне да добиеш представа за пазара на труда в момента. \nАко не можеш да се включиш във Варна\, издателите са предвидили и онлайн събитие на 21.10. \nЗа кого е подходящо\n\nЗа всички\, които търсят своите нови хоризонти в професионален план.\n\nЛектори\n\nЛекторите са управители и основатели на фирми и организации\, повече за тях научаваш в сайта на Career show.\n\nУчастието е без такса\, с предварителна регистрация.
URL:https://svobodnapraktika.com/event/car%d0%b5er-show-%d1%81%d1%8a%d0%b1%d0%b8%d1%82%d0%b8%d0%b5-%d0%b2%d1%8a%d0%b2-%d0%b2%d0%b0%d1%80%d0%bd%d0%b0
LOCATION:Галерия Графит\, бул Княз Борис 65\, Варна\, Bulgaria
CATEGORIES:Варна
END:VEVENT
BEGIN:VEVENT
DTSTART;TZID=Europe/Helsinki:20251213T110000
DTEND;TZID=Europe/Helsinki:20251213T170000
DTSTAMP:20260420T063128
CREATED:20251209T131904Z
LAST-MODIFIED:20251209T131904Z
UID:18287-1765623600-1765645200@svobodnapraktika.com
SUMMARY:Семейна работилничка за украсяване на джинджифилови къщички – събитие на живо
DESCRIPTION:В празничния декември винаги отделяме време за някое специално семейно събитие. Защо? Независимо какво работим\, дали сме хоум офис\, дали сме на свободна практика\, или управляваме собствен бизнес\, ние имаме нужда от почивка\, но най-вече – от време с децата. Да се позабавляваме\, да порисуваме\, да забравим за работните ангажименти. \nАко живееш във Варна или региона\, вземи семейството и се включете в  работилницата на Социалната чайна. Какво се очаква от вас? Да сглобите и украсите с достатъчно лакомства симпатична джинджифилова къщичка\, която\, разбира се\, ви остава за спомен. \nВсички материали са осигурени. Вземете си само творческия дух. \nЗа кого е подходящо събитието\n\nЗа всички\, които искат да прекарат забавна събота сутрин с хлапетата.\n\nУчастието е платено\, с предварителна регистрация.
URL:https://svobodnapraktika.com/event/%d1%81%d0%b5%d0%bc%d0%b5%d0%b9%d0%bd%d0%b0-%d1%80%d0%b0%d0%b1%d0%be%d1%82%d0%b8%d0%bb%d0%bd%d0%b8%d1%87%d0%ba%d0%b0-%d0%b7%d0%b0-%d1%83%d0%ba%d1%80%d0%b0%d1%81%d1%8f%d0%b2%d0%b0%d0%bd%d0%b5-%d0%bd
LOCATION:The Social Teahouse\, ул. Преслав 53\, Варна
CATEGORIES:Варна
ORGANIZER;CN="The%20Social%20Teahouse":MAILTO:info@thesocialteahouse.bg
END:VEVENT
BEGIN:VEVENT
DTSTART;TZID=Europe/Helsinki:20260215T130000
DTEND;TZID=Europe/Helsinki:20260215T150000
DTSTAMP:20260420T063128
CREATED:20260211T135440Z
LAST-MODIFIED:20260211T135440Z
UID:18504-1771160400-1771167600@svobodnapraktika.com
SUMMARY:Как се пише CV & Мотивационно писмо – събитие във Варна
DESCRIPTION:Търсиш своята първа работа или стаж? Завършил си училище\, университет или все още си в процес на обучение и упорито се оглеждаш за мястото\, от което да стартира кариерният ти път. Как обаче да грабнеш вниманието? Как да структурираш CV-то си така\, че да те поканят на интервю? \nПосети събитието\, за да разбереш: \n\nкакво да включиш\, за да се отличиш сред кандидатите;\nкак да напишеш смислено и същевременно кратко мотивационно писмо.\n\nПо време на срещата преминаваш през различни ситуации и виждаш как да се изразяваш уверено и спокойно пред непознати. \nЗа кого е подходящо събитието\n\nЗа младежи между 16 и 26 години.\n\nУчастието е без такса\, с предварителна регистрация. \nПобързай\, броят на местата е ограничен.
URL:https://svobodnapraktika.com/event/%d0%ba%d0%b0%d0%ba-%d1%81%d0%b5-%d0%bf%d0%b8%d1%88%d0%b5-cv-%d0%bc%d0%be%d1%82%d0%b8%d0%b2%d0%b0%d1%86%d0%b8%d0%be%d0%bd%d0%bd%d0%be-%d0%bf%d0%b8%d1%81%d0%bc%d0%be-%d1%81%d1%8a%d0%b1
LOCATION:The Social Teahouse\, ул. Преслав 53\, Варна
CATEGORIES:Варна
ORGANIZER;CN="The%20Social%20Teahouse":MAILTO:info@thesocialteahouse.bg
END:VEVENT
END:VCALENDAR