BEGIN:VCALENDAR
VERSION:2.0
PRODID:-//Свободна практика - ECPv6.0.13//NONSGML v1.0//EN
CALSCALE:GREGORIAN
METHOD:PUBLISH
X-ORIGINAL-URL:https://svobodnapraktika.com
X-WR-CALDESC:Events for Свободна практика
REFRESH-INTERVAL;VALUE=DURATION:PT1H
X-Robots-Tag:noindex
X-PUBLISHED-TTL:PT1H
BEGIN:VTIMEZONE
TZID:Europe/Helsinki
BEGIN:DAYLIGHT
TZOFFSETFROM:+0200
TZOFFSETTO:+0300
TZNAME:EEST
DTSTART:20230326T010000
END:DAYLIGHT
BEGIN:STANDARD
TZOFFSETFROM:+0300
TZOFFSETTO:+0200
TZNAME:EET
DTSTART:20231029T010000
END:STANDARD
END:VTIMEZONE
BEGIN:VEVENT
DTSTART;TZID=Europe/Helsinki:20231118T190000
DTEND;TZID=Europe/Helsinki:20231121T220000
DTSTAMP:20260420T062115
CREATED:20231120T082854Z
LAST-MODIFIED:20231120T082854Z
UID:15718-1700334000-1700604000@svobodnapraktika.com
SUMMARY:Актьорски курс във Варна – събитие на живо
DESCRIPTION:Добър специалист си\, развиваш се успешно\, трупаш нови знания и се усъвършенстваш. А обичаш ли да излизаш извън комфортната си зона? Да се впускаш в нови начинания и да предизвикваш себе си? Ако отговорът е „да“\, със сигурност ще проявиш интерес към събитието. Включи се\, за да изживееш нови емоции\, да си подариш нестандартни преживявания и за да се посмееш от сърце. \nКурсът е много подходящ за теб\, ако твоето по-младо аз така и не е намерило смелост да се насочи към театъра\, а желанието ти е останало несбъдната мечта. \nЗа кого е подходящо събитието\n\nЗа всички\, които искат да предизвикат себе си.\n\nЛектор\n\nДесислава Чутуркова е основател на театър „Нагоре по стълбата“. Завършила е НАТФИЗ\, където и преподава през последните 10 години. Специализирала е и в Atlantic Acting School в Ню Йорк.\n\nУчастието е без такса\, с предварителна регистрация на мейл artdessiegym@hotmail.com. \n\nКурсът се провежда на 18\, 19\, 20 и 21 декември.
URL:https://svobodnapraktika.com/event/%d0%b0%d0%ba%d1%82%d1%8c%d0%be%d1%80%d1%81%d0%ba%d0%b8-%d0%ba%d1%83%d1%80%d1%81-%d0%b2%d1%8a%d0%b2-%d0%b2%d0%b0%d1%80%d0%bd%d0%b0-%d1%81%d1%8a%d0%b1%d0%b8%d1%82%d0%b8%d0%b5-%d0%bd%d0%b0
LOCATION:The Social Teahouse\, ул. Преслав 53\, Варна
CATEGORIES:Варна
ORGANIZER;CN="The%20Social%20Teahouse":MAILTO:info@thesocialteahouse.bg
END:VEVENT
END:VCALENDAR