BEGIN:VCALENDAR
VERSION:2.0
PRODID:-//Свободна практика - ECPv6.0.13//NONSGML v1.0//EN
CALSCALE:GREGORIAN
METHOD:PUBLISH
X-WR-CALNAME:Свободна практика
X-ORIGINAL-URL:https://svobodnapraktika.com
X-WR-CALDESC:Events for Свободна практика
REFRESH-INTERVAL;VALUE=DURATION:PT1H
X-Robots-Tag:noindex
X-PUBLISHED-TTL:PT1H
BEGIN:VTIMEZONE
TZID:Europe/Helsinki
BEGIN:DAYLIGHT
TZOFFSETFROM:+0200
TZOFFSETTO:+0300
TZNAME:EEST
DTSTART:20230326T010000
END:DAYLIGHT
BEGIN:STANDARD
TZOFFSETFROM:+0300
TZOFFSETTO:+0200
TZNAME:EET
DTSTART:20231029T010000
END:STANDARD
END:VTIMEZONE
BEGIN:VEVENT
DTSTART;TZID=Europe/Helsinki:20230930T100000
DTEND;TZID=Europe/Helsinki:20230930T120000
DTSTAMP:20260420T075721
CREATED:20230928T094354Z
LAST-MODIFIED:20230928T094406Z
UID:15400-1696068000-1696075200@svobodnapraktika.com
SUMMARY:Програмиране на микроконтролери и електроника за начинаещи – събитие във Варна
DESCRIPTION:Вкъщи отглеждаш тийнейджър\, който видимо се интересува от програмирането. Ако искаш да му подариш един вълнуващ ден\, в който той не само ще се учи\, ще се забавлява\, но и ще види реален резултат от усилията си веднага\, насочи го към събитието. Организирано е от „Социалната чайна“ и се провежда във Варна. \nРазделено е на три отделни панела: \n\nпърви – базовата стъпка\, която показва на младежите как да управляват светодиод чрез програмиране на микроконтролер;\nвтори – той надгражда първия\, а участниците се учат как да управляват малка количка;\nтрети – участниците изграждат мини фотокабинка и така разбират как на практика програмирането и електрониката могат да създадат наистина полезно устройство.\n\nЗа кого е подходящо събитието\n\nЗа младежи между 13 и 29 години\, които се интересуват от програмиране и електроника.\n\nУчастието е с такса\, с предварителна регистрация. Можеш да запазиш място на телефон 088 461 4108. \n 
URL:https://svobodnapraktika.com/event/%d0%bf%d1%80%d0%be%d0%b3%d1%80%d0%b0%d0%bc%d0%b8%d1%80%d0%b0%d0%bd%d0%b5-%d0%bc%d0%b8%d0%ba%d1%80%d0%be%d0%ba%d0%be%d0%bd%d1%82%d1%80%d0%be%d0%bb%d0%b5%d1%80%d0%b8-%d0%b5%d0%bb%d0%b5%d0%ba%d1%82%d1%80
LOCATION:The Social Teahouse\, ул. Преслав 53\, Варна
CATEGORIES:Варна
ORGANIZER;CN="The%20Social%20Teahouse":MAILTO:info@thesocialteahouse.bg
END:VEVENT
END:VCALENDAR