BEGIN:VCALENDAR
VERSION:2.0
PRODID:-//Свободна практика - ECPv6.0.13//NONSGML v1.0//EN
CALSCALE:GREGORIAN
METHOD:PUBLISH
X-WR-CALNAME:Свободна практика
X-ORIGINAL-URL:https://svobodnapraktika.com
X-WR-CALDESC:Events for Свободна практика
REFRESH-INTERVAL;VALUE=DURATION:PT1H
X-Robots-Tag:noindex
X-PUBLISHED-TTL:PT1H
BEGIN:VTIMEZONE
TZID:Europe/Helsinki
BEGIN:DAYLIGHT
TZOFFSETFROM:+0200
TZOFFSETTO:+0300
TZNAME:EEST
DTSTART:20210328T010000
END:DAYLIGHT
BEGIN:STANDARD
TZOFFSETFROM:+0300
TZOFFSETTO:+0200
TZNAME:EET
DTSTART:20211031T010000
END:STANDARD
END:VTIMEZONE
BEGIN:VEVENT
DTSTART;TZID=Europe/Helsinki:20211029T183000
DTEND;TZID=Europe/Helsinki:20211029T203000
DTSTAMP:20260424T184835
CREATED:20211020T083032Z
LAST-MODIFIED:20211020T083032Z
UID:12224-1635532200-1635539400@svobodnapraktika.com
SUMMARY:Арт работилница за деца и родители
DESCRIPTION:Петък вечер е времето\, в което оставяш служебните си ангажименти в офиса и намираш своя начин да разпуснеш. Родителите обаче често съчетават почивката и заниманията с детето. Затова и измислят какви ли не щури и вълнуващи развлечения\, които да привличат интереса му. Ако и теб в петък вечер те чака любопитно хлапе\, нетърпеливо да опознае света\, доведи го на събитието. \nЗадачата му е да изработи страховита кукерска маска. Ще му е интересно\, защото може да даде воля на въображението си. Освен това научава какво са кукерите\, как така имат магическата способност да гонят злото и защо нашите обичаи са толкова голямо богатство. \nСъбитието е предназначено за деца над 7-годишна възраст. \nЗа кого е подходящо\n\nЗа родители и деца.\n\nВходът е с такса\, а местата са ограничени. За да го посетиш\, запиши се предварително на телефон 0883466114. \n\nВсички необходими материали са включени в цената.\nРаботилницата се провежда се на 22.10. и на 29.10.\n\n  \n 
URL:https://svobodnapraktika.com/event/%d0%b0%d1%80%d1%82-%d1%80%d0%b0%d0%b1%d0%be%d1%82%d0%b8%d0%bb%d0%bd%d0%b8%d1%86%d0%b0-%d0%b7%d0%b0-%d0%b4%d0%b5%d1%86%d0%b0-%d0%b8-%d1%80%d0%be%d0%b4%d0%b8%d1%82%d0%b5%d0%bb%d0%b8
LOCATION:The Social Teahouse\, ул. Преслав 53\, Варна
CATEGORIES:Варна
ORGANIZER;CN="The%20Social%20Teahouse":MAILTO:info@thesocialteahouse.bg
END:VEVENT
END:VCALENDAR