BEGIN:VCALENDAR
VERSION:2.0
PRODID:-//Свободна практика - ECPv6.0.13//NONSGML v1.0//EN
CALSCALE:GREGORIAN
METHOD:PUBLISH
X-WR-CALNAME:Свободна практика
X-ORIGINAL-URL:https://svobodnapraktika.com
X-WR-CALDESC:Events for Свободна практика
REFRESH-INTERVAL;VALUE=DURATION:PT1H
X-Robots-Tag:noindex
X-PUBLISHED-TTL:PT1H
BEGIN:VTIMEZONE
TZID:Europe/Helsinki
BEGIN:DAYLIGHT
TZOFFSETFROM:+0200
TZOFFSETTO:+0300
TZNAME:EEST
DTSTART:20200329T010000
END:DAYLIGHT
BEGIN:STANDARD
TZOFFSETFROM:+0300
TZOFFSETTO:+0200
TZNAME:EET
DTSTART:20201025T010000
END:STANDARD
END:VTIMEZONE
BEGIN:VEVENT
DTSTART;TZID=Europe/Helsinki:20200929T190000
DTEND;TZID=Europe/Helsinki:20200929T210000
DTSTAMP:20260426T070201
CREATED:20200919T184742Z
LAST-MODIFIED:20200919T184742Z
UID:9728-1601406000-1601413200@svobodnapraktika.com
SUMMARY:Среща-разговор „Тя във Варна“
DESCRIPTION:Ако харесваш личните истории\, посети „Тя във Варна“. Форматът те среща с активни жени\, които споделят с теб трудностите\, но и хубавите моменти\, през които са преминали в своя професионален път. Историите им са искрени\, разказани от първо лице\, затова имат силата да вдъхновяват аудиторията. \nТазмесечното издание ще ти е интересно\, ако искаш да разбереш: \n\nкаква е цената на това да следваш вътрешните си пориви и да изоставиш сигурното работно място;\nкак да намериш баланса между професионалното развитие и личния живот.\n\nЖените\, с които те среща събитието този месец\, са: \n\nИрина Кръстева – автор на книги и мотивиращи статии\, чиято цел е да помага на жените да се вгледат и обърнат поглед към своята женственост. Тя е създател на „Jasmine Woman’s Spirit House“.\nРосица Бърдарска – майка\, съпруга и професионалист\, който от години работи с деца и младежи в творчески клубове и различни школи. Участва в проекти в сферата на комуникациите\, творческото писане и публичното представяне.\n\nЗа кого е подходящо събитието\n\nЗа всички дами\, които търсят вдъхновение или подкрепа за новите си начинания.\n\nВходът е безплатен\, с предварителна регистрация. \n 
URL:https://svobodnapraktika.com/event/%d1%82%d1%8f-%d0%b2%d1%8a%d0%b2-%d0%b2%d0%b0%d1%80%d0%bd%d0%b0-%d1%81%d1%80%d0%b5%d1%89%d0%b0-%d1%80%d0%b0%d0%b7%d0%b3%d0%be%d0%b2%d0%be%d1%80
LOCATION:The Social Teahouse\, ул. Преслав 53\, Варна
CATEGORIES:Варна
END:VEVENT
END:VCALENDAR