BEGIN:VCALENDAR
VERSION:2.0
PRODID:-//Свободна практика - ECPv6.0.13//NONSGML v1.0//EN
CALSCALE:GREGORIAN
METHOD:PUBLISH
X-WR-CALNAME:Свободна практика
X-ORIGINAL-URL:https://svobodnapraktika.com
X-WR-CALDESC:Events for Свободна практика
REFRESH-INTERVAL;VALUE=DURATION:PT1H
X-Robots-Tag:noindex
X-PUBLISHED-TTL:PT1H
BEGIN:VTIMEZONE
TZID:Europe/Helsinki
BEGIN:DAYLIGHT
TZOFFSETFROM:+0200
TZOFFSETTO:+0300
TZNAME:EEST
DTSTART:20240331T010000
END:DAYLIGHT
BEGIN:STANDARD
TZOFFSETFROM:+0300
TZOFFSETTO:+0200
TZNAME:EET
DTSTART:20241027T010000
END:STANDARD
END:VTIMEZONE
BEGIN:VEVENT
DTSTART;TZID=Europe/Helsinki:20240315T150000
DTEND;TZID=Europe/Helsinki:20240315T190000
DTSTAMP:20260419T194955
CREATED:20240219T124442Z
LAST-MODIFIED:20240219T124442Z
UID:16144-1710514800-1710529200@svobodnapraktika.com
SUMMARY:Академия за работодатели – Контекст за деца и младежи в риск – събитие на живо
DESCRIPTION:Човек на каузите си и вярваш\, че всеки от нас трябва да допринесе светът да бъде по-хубаво място. Това е и причината\, поради която все по-често обмисляш идеята за създаване на социално предприятие. Ако искаш да разбереш какво представлява работата с младежи в неравностойно положение\, събитието е точно за теб. Създателите на „Социалната чайна“ споделят своя десетгодишен опит и извървян до момента път. \nОбученията са 6 поредни\, безплатни са\, и се провеждат присъствено във Варна\, а темите са: \n\nКонтекст за деца и младежи в риск.\nЕмоционална интелигентност.\nНенасилствена комуникация.\nОбщуване с колеги.\nРазрешаване на конфликти и медиация.\nИнструменти за изграждане на екип и сплотяване на екипа.\n\nИзбери си по-удобната дата и се запиши за първата среща: \n\n15.03 от 15:00 до 17:00;\n16.03 от 10:00 до 12:00.\n\nАко имаш въпроси\, пиши или позвъни на: nora.boncheva@thesocialteahouse.bg или на тел. 088 461 4108 \nЗа кого е подходящо събитието\n\nЗа HR\, мениджъри\, управители\, собственици на бизнес.\n\nУчастието е безплатно\, с предварителна регистрация. \n 
URL:https://svobodnapraktika.com/event/%d0%ba%d0%be%d0%bd%d1%82%d0%b5%d0%ba%d1%81%d1%82-%d0%b4%d0%b5%d1%86%d0%b0-%d0%bc%d0%bb%d0%b0%d0%b4%d0%b5%d0%b6%d0%b8-%d0%b0%d0%ba%d0%b0%d0%b4%d0%b5%d0%bc%d0%b8%d1%8f
LOCATION:The Social Teahouse\, ул. Преслав 53\, Варна
CATEGORIES:Варна
ORGANIZER;CN="The%20Social%20Teahouse":MAILTO:info@thesocialteahouse.bg
END:VEVENT
END:VCALENDAR