BEGIN:VCALENDAR
VERSION:2.0
PRODID:-//Свободна практика - ECPv6.0.13//NONSGML v1.0//EN
CALSCALE:GREGORIAN
METHOD:PUBLISH
X-WR-CALNAME:Свободна практика
X-ORIGINAL-URL:https://svobodnapraktika.com
X-WR-CALDESC:Events for Свободна практика
REFRESH-INTERVAL;VALUE=DURATION:PT1H
X-Robots-Tag:noindex
X-PUBLISHED-TTL:PT1H
BEGIN:VTIMEZONE
TZID:Europe/Helsinki
BEGIN:DAYLIGHT
TZOFFSETFROM:+0200
TZOFFSETTO:+0300
TZNAME:EEST
DTSTART:20200329T010000
END:DAYLIGHT
BEGIN:STANDARD
TZOFFSETFROM:+0300
TZOFFSETTO:+0200
TZNAME:EET
DTSTART:20201025T010000
END:STANDARD
END:VTIMEZONE
BEGIN:VEVENT
DTSTART;TZID=Europe/Helsinki:20201014T130000
DTEND;TZID=Europe/Helsinki:20201014T170000
DTSTAMP:20260425T141342
CREATED:20201008T084933Z
LAST-MODIFIED:20201008T084933Z
UID:10341-1602680400-1602694800@svobodnapraktika.com
SUMMARY:Организиране и провеждане на ефективни бизнес срещи
DESCRIPTION:Собственик на бизнес си или мениджър и често ти се налага да провеждаш срещи с клиенти? Обучението ти помага да усъвършенстваш уменията си и да придобиеш увереност\, че се справяш добре. Подходящо е за теб\, ако мислиш\, че има какво да подобриш в представянето си. \nПо време на семинара научаваш как успешно да организираш събития и как да провеждаш бизнес срещи с клиенти\, партньори или с екипа си. \nСъбитието се провежда в няколко града: \n\nСтара Загора – 14.10.20 г.\nВарна – 21.10.20 г.\nБургас – 22.10.20 г.\nСофия – 28.10.20 г.\nВидин – 29.10.20 г.\n\nИнформирай се за местата и часовете на провеждане\, включително и за Стара Загора\, от сайта на „Амма Консулт“.  \nЗа кого е подходящо събитието\n\nЗа мениджъри и собственици на бизнес.\n\nЛектор\n\nФилипа Иванчева е бизнес консултант\, с дългогодишен опит в сферата на продажбите. Управител е на консултантска фирма „Амма Консулт“.\n\nВходът е платен\, с предварителна регистрация. \n  \n 
URL:https://svobodnapraktika.com/event/%d0%bf%d1%80%d0%be%d0%b2%d0%b5%d0%b6%d0%b4%d0%b0%d0%bd%d0%b5-%d0%b5%d1%84%d0%b5%d0%ba%d1%82%d0%b8%d0%b2%d0%bd%d0%b8-%d0%b1%d0%b8%d0%b7%d0%bd%d0%b5%d1%81-%d1%81%d1%80%d0%b5%d1%89%d0%b8
CATEGORIES:Бургас,Варна,София,Стара Загора
ORGANIZER;CN="%D0%90%D0%9C%D0%9C%D0%90%20%D0%9A%D0%9E%D0%9D%D0%A1%D0%A3%D0%9B%D0%A2":MAILTO:office@ammaconsult.com
END:VEVENT
END:VCALENDAR