BEGIN:VCALENDAR
VERSION:2.0
PRODID:-//Свободна практика - ECPv6.0.13//NONSGML v1.0//EN
CALSCALE:GREGORIAN
METHOD:PUBLISH
X-ORIGINAL-URL:https://svobodnapraktika.com
X-WR-CALDESC:Events for Свободна практика
REFRESH-INTERVAL;VALUE=DURATION:PT1H
X-Robots-Tag:noindex
X-PUBLISHED-TTL:PT1H
BEGIN:VTIMEZONE
TZID:Europe/Helsinki
BEGIN:DAYLIGHT
TZOFFSETFROM:+0200
TZOFFSETTO:+0300
TZNAME:EEST
DTSTART:20200329T010000
END:DAYLIGHT
BEGIN:STANDARD
TZOFFSETFROM:+0300
TZOFFSETTO:+0200
TZNAME:EET
DTSTART:20201025T010000
END:STANDARD
END:VTIMEZONE
BEGIN:VEVENT
DTSTART;TZID=Europe/Helsinki:20200720T080000
DTEND;TZID=Europe/Helsinki:20200723T170000
DTSTAMP:20260426T004241
CREATED:20200710T063931Z
LAST-MODIFIED:20200710T063931Z
UID:9801-1595232000-1595523600@svobodnapraktika.com
SUMMARY:Младежка академия за доброТворци
DESCRIPTION:Живееш в района на Бургас и си на възраст между 15 и 20 години. Вече си наясно\, че искаш да си полезен с  действията си – може би не на света\, но поне на своите съграждани. Ако е така\, събитието ще ти даде добра насока относно това как можеш да помогнеш на Бургас и младите хора в него. \nЦелта на организаторите е да включат някои от участниците в академията в доброволческата структура на Община Бургас. Така по време на четиридневното обучение ще развиеш необходими базисни умения и ще получиш нужните познания\, за да бъдеш част от доброволците. \nВ последния ден на обучението се срещаш с вдъхновяващи ментори\, които споделят своя опит с теб. Работата ти с тях ще продължи и в бъдеще – по различните доброволчески проекти към общината. \nВ края на събитието участниците се разпределят в различни отбори. Тогава ти и твоят екип представяте своята идея\, създадена на база на получената информация. \nКак да заявиш участие?\n\nПопълваш формуляра и го изпращаш не по-късно от 10 юли\, като се мотивираш защо искаш да участваш.\nАко си одобрен\, поканен си на кратко събеседване между 15 и 17 юли в Младежки културен център – Бургас.\n\nСъбитието се провежда в къща за гости „Русалка“\, парк „Росенец“ \nЗа кого е подходящо\n\nЗа младежи\, които искат да допринесат за развитието на своя град.\n\nУчастието е без такса. \n  \n 
URL:https://svobodnapraktika.com/event/%d0%bc%d0%bb%d0%b0%d0%b4%d0%b5%d0%b6%d0%ba%d0%b0-%d0%b0%d0%ba%d0%b0%d0%b4%d0%b5%d0%bc%d0%b8%d1%8f-%d0%b7%d0%b0-%d0%b4%d0%be%d0%b1%d1%80%d0%be%d1%82%d0%b2%d0%be%d1%80%d1%86%d0%b8
LOCATION:Къща за гости “Русалка”\, парк "Росенец"\, Бургас\, Bulgaria
CATEGORIES:Бургас
ORGANIZER;CN="%D0%9E%D0%B1%D1%89%D0%B8%D0%BD%D0%B0%20%D0%91%D1%83%D1%80%D0%B3%D0%B0%D1%81":MAILTO:obshtina@burgas.bg
END:VEVENT
END:VCALENDAR