BEGIN:VCALENDAR
VERSION:2.0
PRODID:-//Свободна практика - ECPv6.0.13//NONSGML v1.0//EN
CALSCALE:GREGORIAN
METHOD:PUBLISH
X-WR-CALNAME:Свободна практика
X-ORIGINAL-URL:https://svobodnapraktika.com
X-WR-CALDESC:Events for Свободна практика
REFRESH-INTERVAL;VALUE=DURATION:PT1H
X-Robots-Tag:noindex
X-PUBLISHED-TTL:PT1H
BEGIN:VTIMEZONE
TZID:Europe/Helsinki
BEGIN:DAYLIGHT
TZOFFSETFROM:+0200
TZOFFSETTO:+0300
TZNAME:EEST
DTSTART:20200329T010000
END:DAYLIGHT
BEGIN:STANDARD
TZOFFSETFROM:+0300
TZOFFSETTO:+0200
TZNAME:EET
DTSTART:20201025T010000
END:STANDARD
END:VTIMEZONE
BEGIN:VEVENT
DTSTART;VALUE=DATE:20200822
DTEND;VALUE=DATE:20200831
DTSTAMP:20260425T184735
CREATED:20200810T084612Z
LAST-MODIFIED:20200810T084612Z
UID:9966-1598054400-1598831999@svobodnapraktika.com
SUMMARY:„Студийна и портретна фотография“ – семинари с Георги Неделчев
DESCRIPTION:Портретната фотографията е твоята страст\, но искаш да подобриш уменията си\, за да я превърнеш в професия? Работата в студио има своите специфики\, които няма как да усвоиш\, ако не попаднеш в съответната среда. Курсът ти предоставя тази възможност. Семинарът е разделен на две части и се провежда в два поредни уикенда в град Бургас. \nПърва част – „Основи на студийната фотография“. По време на обучението научаваш: \n\nкакви са видовете студийно осветление;\nкак да използваш контраста и какви проблеми създава той;\nкак да определяш яркостта на фона и др.\n\nСлед всеки блок имаш практическо упражнение. \nВтора част – „Студийна портретна фотография“. От лектора разбираш: \n\nкак да избереш подходящ обектив;\nкакви са видовете портретни схеми;\nкаква е ролята на гримьора и др.\n\nОтново прилагаш на практика наученото – върху реален модел. \nРазгледай и подробната програма на отделните семинари. \nКурсът в голямата си част е практически\, а основната цел е да придобиеш умения за работа\, не само знания. Затова и броят на участниците е ограничен до 8. \nМожеш да закупиш билет само за едно от обученията\, но е препоръчително\, ако запишеш втората част\, да си преминал и през първата или да си наясно как да използваш светлината при заснемането на портрети. \nЗа кого е подходящо събитието\n\nЗа всички\, които искат да се занимават с портретната фотография.\n\nЛектор\n\nГеорги Неделчев е специалист с дългогодишен стаж в областта на студийното фотозаснемане. Повече за него и работата му можеш да научиш от портфолиото му.\n\nВходът е платен\, с предварителна регистрация. \n\nЗаяви участие до 12.08.\, за да заплатиш 400 лв. за двата курса.\nЦената на билета за един семинар е 219 лв. \, ако го закупиш до 19.08.\n\n 
URL:https://svobodnapraktika.com/event/%d1%81%d1%82%d1%83%d0%b4%d0%b8%d0%b9%d0%bd%d0%b0-%d0%b8-%d0%bf%d0%be%d1%80%d1%82%d1%80%d0%b5%d1%82%d0%bd%d0%b0-%d1%84%d0%be%d1%82%d0%be%d0%b3%d1%80%d0%b0%d1%84%d0%b8%d1%8f
LOCATION:Kadroto студио\, ул. Цар Калоян 42\, Бургас\, Bulgaria
CATEGORIES:Бургас
END:VEVENT
END:VCALENDAR