BEGIN:VCALENDAR
VERSION:2.0
PRODID:-//Свободна практика - ECPv6.0.13//NONSGML v1.0//EN
CALSCALE:GREGORIAN
METHOD:PUBLISH
X-WR-CALNAME:Свободна практика
X-ORIGINAL-URL:https://svobodnapraktika.com
X-WR-CALDESC:Events for Свободна практика
REFRESH-INTERVAL;VALUE=DURATION:PT1H
X-Robots-Tag:noindex
X-PUBLISHED-TTL:PT1H
BEGIN:VTIMEZONE
TZID:Europe/Helsinki
BEGIN:DAYLIGHT
TZOFFSETFROM:+0200
TZOFFSETTO:+0300
TZNAME:EEST
DTSTART:20230326T010000
END:DAYLIGHT
BEGIN:STANDARD
TZOFFSETFROM:+0300
TZOFFSETTO:+0200
TZNAME:EET
DTSTART:20231029T010000
END:STANDARD
END:VTIMEZONE
BEGIN:VEVENT
DTSTART;VALUE=DATE:20230422
DTEND;VALUE=DATE:20230423
DTSTAMP:20260423T143825
CREATED:20230421T170503Z
LAST-MODIFIED:20230421T170503Z
UID:15006-1682121600-1682207999@svobodnapraktika.com
SUMMARY:Digital4Blagoevgrad – конференция на живо
DESCRIPTION:Digital4Foundation ежегодно организира конференции\, които имат за цел да срещат предприемачи с експерти в областта на бизнеса и маркетинга. Ако си собственик на бизнес и дигиталното присъствие е една от сферите\, в които се развиваш\, включи се в изданието. На фокус са темите\, които неотменно вълнуват предприемачите – брандинг\, дигитализация\, изкуствения интелект и др. \nКакво научаваш от лекторите? \n\nкак да развиваш своя талант и същевременно да изграждаш бранд идентичност;\nкъде е мястото на подкаста в ерата на изкуствения интелект;\nкак каузите и образованието създават възможности.\n\nРазгледай сайта\, за да си наясно с цялата програма. \nЗа кого е подходящо събитието\n\nЗа предприемачи\, собственици на малък и среден бизнес и хора\, които се интересуват от способите за развитие в онлайн средата.\n\nЛектори\n\nЛекторите са специалисти в различни области на дигиталната сфера. Повече за тях научаваш в страницата на конференцията.\n\nУчастието е без такса\, с предварителна регистрация.
URL:https://svobodnapraktika.com/event/digital4blagoevgrad-%d0%ba%d0%be%d0%bd%d1%84%d0%b5%d1%80%d0%b5%d0%bd%d1%86%d0%b8%d1%8f-%d0%bd%d0%b0-%d0%b6%d0%b8%d0%b2%d0%be
LOCATION:Зала “22-ри Септември”\, пл. „Георги Измирлиев-Македонче“ 1\, Благоевград
CATEGORIES:Благоевград
ORGANIZER;CN="Digital4Foundation":MAILTO:events@imgbulgaria.com
END:VEVENT
END:VCALENDAR